{"text_format":"1","workbook":"xlsx","n_sheets":2,"sheets":["Chart","Data"],"not_rendered":{"charts":2,"images":0,"macros":1,"external_links":0,"defined_names":1,"comments":0,"pivot_tables":0},"unopened":[],"bounds":{"document_bytes":16777216,"sheet_cells":100000,"rows_first":2000,"rows_last":500,"rows_between":2000,"halvings":0,"cell_chars":16384,"cell_head_chars":4096},"cells_cut":0,"cells_raw":0,"read":"whole","date_system":"1900"}

{"sheet":"Chart","index":0,"n_rows":92,"n_cols":23,"rows_kept":92,"cut":false,"hidden":false,"merged":[]}
[" ",null,null,null,null,"Note: You must enable macros for this workbook to update correctly"]
[null,{"$f":"Data!AU181","v":"MIL"},{"$f":"Data!AV181","v":0},{"$f":"Data!AW181","v":0.59876543209876543}]
[null,{"$f":"Data!AU182","v":"CHC"},{"$f":"Data!AV182","v":5},{"$f":"Data!AW182","v":0.5679012345679012}]
[null,{"$f":"Data!AU183","v":"CIN"},{"$f":"Data!AV183","v":14},{"$f":"Data!AW183","v":0.51234567901234573}]
[null,{"$f":"Data!AU184","v":"STL"},{"$f":"Data!AV184","v":19},{"$f":"Data!AW184","v":0.48148148148148145}]
[null,{"$f":"Data!AU185","v":"PIT"},{"$f":"Data!AV185","v":26},{"$f":"Data!AW185","v":0.43827160493827161}]
[]
[]
[]
[]
[]
[]
[]
[]
[]
[]
[null,null,null,null,null,null,null,null,null,null,null,null,null,null,null,null,null,null,null,null,null,null," "]
[]
[]
[]
[]
[]
[]
[]
[]
[]
[]
[]
[]
[]
[]
[]
[]
[]
[]
[]
[]
[]
[]
[]
[]
[]
[]
[]
[]
[]
[]
[]
[]
[]
[]
[]
[]
[]
[]
[]
[]
[]
[]
[]
[]
[]
[]
[]
[]
[]
[]
[]
[]
[]
[]
[]
[]
[]
[]
[]
[]
[]
[]
[]
[]
[]
[]
[]
[]
[]
[]
[]
[]
[]
[]
[null,null,null,null,null,null,"Y-Axis = First-Place Lead Size (Brewers) (# of games)"]

{"sheet":"Data","index":1,"n_rows":193,"n_cols":51,"rows_kept":193,"cut":false,"hidden":false,"merged":[]}
["NLC25","CHC","W","L",null,"CIN","W","L",null,"MIL","W","L",null,"PIT","W","L",null,"STL","W","L",null,"PHIL","W","L",null,2024,"W","L",null,null,{"$f":"B1","v":"CHC"},{"$f":"F1","v":"CIN"},{"$f":"J1","v":"MIL"},{"$f":"N1","v":"PIT"},{"$f":"R1","v":"STL"},{"$f":"V1","v":"PHIL"},{"$f":"Z1","v":2024},null,{"$f":"AE1","v":"CHC"},{"$f":"AF1","v":"CIN"},{"$f":"AG1","v":"MIL"},{"$f":"AH1","v":"PIT"},{"$f":"AI1","v":"STL"}]
["2025-03-24",null,0,0,null,null,0,0,null,null,0,0,null,null,0,0,null,null,0,0,null,null,0,0,null,null,0,0,null,null,0,0,0,0,0,0,0,null,0,0,0,0,0,null,null,null,null,null,null,null,{"$f":"IF(AO2 = 0, MIN(AM2:AN2, AP2:AQ2), 0-AO2)","v":0}]
["2025-03-25",-1,{"$f":"C2+IF(B3>0,B3,0)","v":0},{"$f":"D2-IF(B3<0,B3,0)","v":1},null,null,{"$f":"G2+IF(F3>0,F3,0)","v":0},{"$f":"H2-IF(F3<0,F3,0)","v":0},null,null,{"$f":"K2+IF(J3>0,J3,0)","v":0},{"$f":"L2-IF(J3<0,J3,0)","v":0},null,null,{"$f":"O2+IF(N3>0,N3,0)","v":0},{"$f":"P2-IF(N3<0,N3,0)","v":0},null,null,{"$f":"S2+IF(R3>0,R3,0)","v":0},{"$f":"T2-IF(R3<0,R3,0)","v":0},null,null,{"$f":"W2+IF(V3>0,V3,0)","v":0},{"$f":"X2-IF(V3<0,V3,0)","v":0},null,null,{"$f":"AA2+IF(Z3>0,Z3,0)","v":0},{"$f":"AB2-IF(Z3<0,Z3,0)","v":0},null,null,{"$f":"C3-D3","v":-1},{"$f":"G3-H3","v":0},{"$f":"K3-L3","v":0},{"$f":"O3-P3","v":0},{"$f":"S3-T3","v":0},{"$f":"W3-X3","v":0},{"$f":"AA3-AB3","v":0},null,{"$f":"(MAX($AE3:$AI3)-AE3)/2","v":0.5},{"$f":"(MAX($AE3:$AI3)-AF3)/2","v":0},{"$f":"(MAX($AE3:$AI3)-AG3)/2","v":0},{"$f":"(MAX($AE3:$AI3)-AH3)/2","v":0},{"$f":"(MAX($AE3:$AI3)-AI3)/2","v":0},null,null,null,{"$f":"AU181","v":"MIL"},0,0.59876543209876543,null,0]
["2025-03-26",-1,{"$f":"C3+IF(B4>0,B4,0)","v":0},{"$f":"D3-IF(B4<0,B4,0)","v":2},null,null,0,0,null,null,0,0,null,null,0,0,null,null,0,0,null,null,0,0,null,null,{"$f":"AA3+IF(Z4>0,Z4,0)","v":0},{"$f":"AB3-IF(Z4<0,Z4,0)","v":0},null,null,-2,0,0,0,0,{"$f":"W4-X4","v":0},0,null,{"$f":"(MAX($AE4:$AI4)-AE4)/2","v":1},{"$f":"(MAX($AE4:$AI4)-AF4)/2","v":0},{"$f":"(MAX($AE4:$AI4)-AG4)/2","v":0},{"$f":"(MAX($AE4:$AI4)-AH4)/2","v":0},{"$f":"(MAX($AE4:$AI4)-AI4)/2","v":0},null,null,null,"CHC",5,0.5679012345679012,null,0]
["2025-03-27",1,1,2,null,-1,0,1,null,-1,0,1,null,-1,0,1,null,1,1,0,null,1,1,0,null,null,0,0,null,null,-1,-1,-1,-1,1,1,0,null,1,1,1,1,0,null,null,null,"CIN",14,0.51234567901234573,null,-1]
["2025-03-28",-1,1,3,null,null,0,1,null,null,0,1,null,1,1,1,null,null,1,0,null,null,1,0,null,1,1,0,null,null,-2,-1,-1,0,1,1,1,null,1.5,1,1,0.5,0,null,null,null,"STL",19,0.48148148148148145,null,-1]
["2025-03-29",1,2,3,null,1,1,1,null,-1,0,2,null,-1,1,2,null,1,2,0,null,1,2,0,null,1,2,0,null,null,-1,0,-2,-1,2,2,2,null,1.5,1,2,1.5,0,null,null,null,"PIT",26,0.43827160493827161,null,-2]
["2025-03-30",-1,2,4,null,-1,1,2,null,-1,0,3,null,-1,1,3,null,1,3,0,null,-1,2,1,null,1,3,0,null,null,-2,-1,-3,-2,3,1,3,null,2.5,2,3,2.5,0,null,null,null,null,null,null,null,-3]
["2025-03-31",1,{"$f":"C8+IF(B9>0,B9,0)","v":3},{"$f":"D8-IF(B9<0,B9,0)","v":4},null,1,{"$f":"G8+IF(F9>0,F9,0)","v":2},{"$f":"H8-IF(F9<0,F9,0)","v":2},null,-1,0,4,null,-1,1,4,null,-1,3,1,null,1,3,1,null,null,3,0,null,null,-1,0,-4,-3,2,2,3,null,1.5,1,3,2.5,0,null,null,null,null,null,null,null,-3]
["2025-04-01",1,4,4,null,-1,2,3,null,1,1,4,null,-1,1,5,null,-1,3,2,null,null,3,1,null,1,4,0,null,null,0,-1,-3,-4,1,2,4,null,0.5,1,2,2.5,0,null,null,null,null,null,null,null,-2]
["2025-04-02",1,5,4,null,-1,2,4,null,1,2,4,null,1,2,5,null,1,4,2,null,1,4,1,null,-1,4,1,null,null,1,-2,-2,-3,2,3,3,null,0.5,2,2,2.5,0,null,null,null,null,null,null,null,-2]
["2025-04-03",null,5,4,null,-1,2,5,null,1,3,4,null,null,2,5,null,null,4,2,null,1,5,1,null,null,4,1,null,null,1,-3,-1,-3,2,4,3,null,0.5,2.5,1.5,2.5,0,null,null,null,null,null,null,null,-1.5]
["2025-04-04",1,6,4,null,-1,2,6,null,1,4,4,null,-1,2,6,null,-1,4,3,null,1,6,1,null,1,5,1,null,null,2,-4,0,-4,1,5,4,null,0,3,1,3,0.5,null,null,null,null,null,null,null,-1]
["2025-04-05",1,7,4,null,1,3,6,null,-1,4,5,null,-1,2,7,null,null,4,3,null,-1,6,2,null,-1,5,2,null,null,3,-3,-1,-5,1,4,3,null,0,3,2,4,1,null,null,null,null,null,null,null,-2]
["2025-04-06",-1,7,5,null,-1,3,7,null,1,5,5,null,1,3,7,null,-2,4,5,null,1,7,2,null,1,6,2,null,null,2,-4,0,-4,-1,5,4,null,0,3,1,3,1.5,null,null,null,null,null,null,null,-1]
["2025-04-07",1,8,5,null,1,4,7,null,null,5,5,null,1,4,7,null,-1,4,6,null,null,7,2,null,-1,6,3,null,null,3,-3,0,-3,-2,5,3,null,0,3,1.5,3,2.5,null,null,null,null,null,null,null,-1.5]
["2025-04-08",1,9,5,null,1,5,7,null,1,6,5,null,-1,4,8,null,1,5,6,null,-1,7,3,null,1,7,3,null,null,4,-2,1,-4,-1,4,4,null,0,3,1.5,4,2.5,null,null,null,null,null,null,null,-1.5]
["2025-04-09",-1,9,6,null,-1,5,8,null,1,7,5,null,1,5,8,null,-1,5,7,null,1,8,3,null,1,8,3,null,null,3,-3,2,-3,-2,5,5,null,0,3,0.5,3,2.5,null,null,null,null,null,null,null,-0.5]
["2025-04-10",null,9,6,null,null,5,8,null,-1,7,6,null,null,5,8,null,null,5,7,null,-1,8,4,null,null,8,3,null,null,3,-3,1,-3,-2,4,5,null,0,3,1,3,2.5,null,null,null,null,null,null,null,-1]
["2025-04-11",-1,9,7,null,1,6,8,null,1,8,6,null,-1,5,9,null,1,6,7,null,-1,8,5,null,1,9,3,null,null,2,-2,2,-4,-1,3,6,null,0,2,0,3,1.5,null,null,null,null,null,null,null,0]
["2025-04-12",1,10,7,null,1,7,8,null,-1,8,7,null,-1,5,10,null,-1,6,8,null,1,9,5,null,1,10,3,null,null,3,-1,1,-5,-2,4,7,null,0,2,1,4,2.5,null,null,null,null,null,null,null,-1]
["2025-04-13",1,11,7,null,1,8,8,null,-1,8,8,null,-1,5,11,null,1,7,8,null,-1,9,6,null,-1,10,4,null,null,4,0,0,-6,-1,3,6,null,0,2,2,5,2.5,null,null,null,null,null,null,null,-2]
["2025-04-14",-1,11,8,null,null,8,8,null,-1,8,9,null,1,{"$f":"O22+IF(N23>0,N23,0)","v":6},{"$f":"P22-IF(N23<0,N23,0)","v":11},null,1,{"$f":"S22+IF(R23>0,R23,0)","v":8},{"$f":"T22-IF(R23<0,R23,0)","v":8},null,-1,9,7,null,-1,10,5,null,null,3,0,-1,-5,0,2,5,null,0,1.5,2,4,1.5,null,null,null,null,null,null,null,-2]
["2025-04-15",1,12,8,null,1,9,8,null,1,9,9,null,-1,6,12,null,-1,8,9,null,1,10,7,null,-1,10,6,null,null,4,1,0,-6,-1,3,4,null,0,1.5,2,5,2.5,null,null,null,null,null,null,null,-2]
["2025-04-16",-1,12,9,null,-1,9,9,null,1,10,9,null,1,7,12,null,1,9,9,null,-1,10,8,null,1,11,6,null,null,3,0,1,-5,0,2,5,null,0,1.5,1,4,1.5,null,null,null,null,null,null,null,-1]
["2025-04-17",null,{"$f":"C25+IF(B26>0,B26,0)","v":12},{"$f":"D25-IF(B26<0,B26,0)","v":9},null,-1,9,10,null,null,10,9,null,1,8,12,null,-1,9,10,null,1,11,8,null,null,11,6,null,null,3,-1,1,-4,-1,3,5,null,0,2,1,3.5,2,null,null,null,null,null,null,null,-1]
["2025-04-18",1,13,9,null,1,10,10,null,1,11,9,null,-1,8,13,null,-1,9,11,null,1,12,8,null,1,12,6,null,null,4,0,2,-5,-2,4,6,null,0,2,1,4.5,3,null,null,null,null,null,null,null,-1]
["2025-04-19",1,14,9,null,-1,10,11,null,-1,11,10,null,-1,8,14,null,-1,9,12,null,1,13,8,null,1,13,6,null,null,5,-1,1,-6,-3,5,7,null,0,3,2,5.5,4,null,null,null,null,null,null,null,-2]
["2025-04-20",-1,14,10,null,1,11,11,null,1,12,10,null,-1,8,15,null,-1,9,13,null,-1,13,9,null,1,14,6,null,null,4,0,2,-7,-4,4,8,null,0,2,1,5.5,4,null,null,null,null,null,null,null,-1]
["2025-04-21",null,14,10,null,-1,11,12,null,-1,12,11,null,null,{"$f":"O29+IF(N30>0,N30,0)","v":8},{"$f":"P29-IF(N30<0,N30,0)","v":15},null,-1,9,14,null,-1,13,10,null,-1,14,7,null,null,4,-1,1,-7,-5,3,7,null,0,2.5,1.5,5.5,4.5,null,null,null,null,null,null,null,-1.5]
["2025-04-22",1,15,10,null,-1,11,13,null,1,13,11,null,1,9,15,null,1,10,14,null,-1,13,11,null,-1,14,8,null,null,5,-2,2,-6,-4,2,6,null,0,3.5,1.5,5.5,4.5,null,null,null,null,null,null,null,-1.5]
["2025-04-23",1,16,10,null,1,12,13,null,-1,13,12,null,1,10,15,null,-1,10,15,null,-1,13,12,null,1,15,8,null,null,6,-1,1,-5,-5,1,7,null,0,3.5,2.5,5.5,5.5,null,null,null,null,null,null,null,-2.5]
["2025-04-24",null,16,10,null,null,12,13,null,-1,13,13,null,-1,10,16,null,null,10,15,null,null,13,12,null,1,16,8,null,null,6,-1,0,-6,-5,1,8,null,0,3.5,3,6,5.5,null,null,null,null,null,null,null,-3]
["2025-04-25",1,17,10,null,1,13,13,null,-1,13,14,null,1,{"$f":"O33+IF(N34>0,N34,0)","v":11},{"$f":"P33-IF(N34<0,N34,0)","v":16},null,1,11,15,null,-1,13,13,null,1,17,8,null,null,7,0,-1,-5,-4,0,9,null,0,3.5,4,6,5.5,null,null,null,null,null,null,null,{"$f":"IF(AO34 = 0, MIN(AM34:AN34, AP34:AQ34), 0-AO34)","v":-4}]
["2025-04-26",-1,17,11,null,1,14,13,null,-1,13,15,null,-1,11,17,null,1,12,15,null,1,14,13,null,-1,17,9,null,null,{"$f":"C35-D35","v":6},{"$f":"G35-H35","v":1},{"$f":"K35-L35","v":-2},{"$f":"O35-P35","v":-6},{"$f":"S35-T35","v":-3},1,{"$f":"AA35-AB35","v":8},null,0,2.5,4,6,4.5,null,null,null,null,null,null,null,-4]
["2025-04-27",-1,17,12,null,1,15,13,null,1,14,15,null,-1,11,18,null,-1,{"$f":"S35+IF(R36>0,R36,0)","v":12},{"$f":"T35-IF(R36<0,R36,0)","v":16},null,1,{"$f":"W35+IF(V36>0,V36,0)","v":15},{"$f":"X35-IF(V36<0,V36,0)","v":13},null,-1,17,10,null,null,5,2,-1,-7,-4,2,7,null,0,1.5,3,6,{"$f":"(MAX($AE36:$AI36)-AI36)/2","v":4.5},null,null,null,null,null,null,null,-3]
["2025-04-28",null,17,12,null,1,16,13,null,null,14,15,null,null,11,18,null,-1,{"$f":"S36+IF(R37>0,R37,0)","v":12},{"$f":"T36-IF(R37<0,R37,0)","v":17},null,null,{"$f":"W36+IF(V37>0,V37,0)","v":15},{"$f":"X36-IF(V37<0,V37,0)","v":13},null,-1,17,11,null,null,5,3,-1,-7,-5,2,6,null,0,1,3,6,5,null,null,null,null,null,null,null,-3]
["2025-04-29",1,18,12,null,null,16,13,null,1,15,15,null,-1,11,19,null,null,12,17,null,1,16,13,null,1,18,11,null,null,6,3,0,-8,-5,3,7,null,0,1.5,3,7,5.5,null,null,null,null,null,null,null,-3]
["2025-04-30",-1,18,13,null,-2,16,15,null,1,{"$f":"K38+IF(J39>0,J39,0)","v":16},{"$f":"L38-IF(J39<0,J39,0)","v":15},null,1,12,19,null,2,{"$f":"S38+IF(R39>0,R39,0)","v":14},{"$f":"T38-IF(R39<0,R39,0)","v":17},null,1,17,13,null,1,19,11,null,null,5,1,1,-7,-3,4,8,null,0,2,2,6,4,null,null,null,null,null,null,null,-2]
["2025-05-01",1,19,13,null,1,17,15,null,-1,16,16,null,-1,12,20,null,-1,14,18,null,-1,17,14,null,null,19,11,null,null,6,2,0,-8,-4,3,8,null,0,2,3,7,5,null,null,null,null,null,null,null,-3]
["2025-05-02",1,20,13,null,1,18,15,null,-1,16,17,null,-1,12,21,null,-1,14,19,null,1,18,14,null,1,20,11,null,null,7,3,-1,-9,-5,4,9,null,0,2,4,8,6,null,null,null,null,null,null,null,-4]
["2025-05-03",1,21,13,null,-1,18,16,null,-1,16,18,null,-1,12,22,null,null,14,19,null,1,19,14,null,-1,20,12,null,null,8,2,-2,-10,-5,5,8,null,0,3,5,9,6.5,null,null,null,null,null,null,null,-5]
["2025-05-04",-1,21,14,null,-1,18,17,null,1,17,18,null,-1,12,23,null,2,16,19,null,-1,19,15,null,-1,20,13,null,null,7,1,-1,-11,-3,4,7,null,0,3,4,9,5,null,null,null,null,null,null,null,-4]
["2025-05-05",1,22,14,null,-1,18,18,null,1,18,18,null,-1,12,24,null,1,17,19,null,null,19,15,null,-1,20,14,null,null,8,0,0,-12,-2,4,6,null,0,4,4,10,5,null,null,null,null,null,null,null,-4]
["2025-05-06",-1,22,15,null,-1,18,19,null,1,{"$f":"K44+IF(J45>0,J45,0)","v":19},{"$f":"L44-IF(J45<0,J45,0)","v":18},null,-1,12,25,null,1,{"$f":"S44+IF(R45>0,R45,0)","v":18},{"$f":"T44-IF(R45<0,R45,0)","v":19},null,1,20,15,null,1,21,14,null,null,7,-1,1,-13,-1,5,7,null,0,4,3,10,4,null,null,null,null,null,null,null,-3]
["2025-05-07",-1,22,16,null,1,19,19,null,-1,19,19,null,-1,12,26,null,1,19,19,null,1,21,15,null,-1,21,15,null,null,6,0,0,-14,0,6,6,null,0,3,3,10,3,null,null,null,null,null,null,null,-3]
["2025-05-08",null,22,16,null,-1,19,20,null,null,19,19,null,null,12,26,null,null,19,19,null,1,22,15,null,1,22,15,null,null,6,-1,0,-14,0,7,7,null,0,3.5,3,10,3,null,null,null,null,null,null,null,-3]
["2025-05-09",-1,22,17,null,-1,19,21,null,-1,19,20,null,1,13,26,null,1,20,19,null,-1,22,16,null,1,23,15,null,null,5,-2,-1,-13,1,6,8,null,0,3.5,3,9,2,null,null,null,null,null,null,null,-3]
["2025-05-10",1,23,17,null,1,20,21,null,-1,19,21,null,-1,13,27,null,1,21,19,null,1,23,16,null,1,24,15,null,null,6,-1,-2,-14,2,7,9,null,0,3.5,4,10,2,null,null,null,null,null,null,null,-4]
["2025-05-11",-1,23,18,null,-1,20,22,null,1,20,21,null,1,14,27,null,1,22,19,null,1,24,16,null,-1,24,16,null,null,5,-2,-1,-13,3,8,8,null,0,3.5,3,9,1,null,null,null,null,null,null,null,-3]
["2025-05-12",1,24,18,null,null,20,22,null,-1,20,22,null,-1,14,28,null,1,23,19,null,-1,24,17,null,-1,24,17,null,null,6,-2,-2,-14,4,7,7,null,0,4,4,10,1,null,null,null,null,null,null,null,-4]
["2025-05-13",1,25,18,null,-1,20,23,null,-1,20,23,null,-1,14,29,null,null,23,19,null,null,24,17,null,1,25,17,null,null,7,-3,-3,-15,4,7,8,null,0,5,5,11,1.5,null,null,null,null,null,null,null,-5]
["2025-05-14",-1,25,19,null,-1,20,24,null,1,21,23,null,1,15,29,null,0,24,20,null,0,25,18,null,1,26,17,null,null,6,-4,-2,-14,4,7,9,null,0,5,4,10,1,null,null,null,null,null,null,null,-4]
["2025-05-15",null,25,19,null,1,21,24,null,null,21,23,null,null,15,29,null,null,24,20,null,null,25,18,null,null,26,17,null,null,6,-3,-2,-14,4,7,9,null,0,4.5,4,10,1,null,null,null,null,null,null,null,-4]
["2025-05-16",1,26,19,null,1,22,24,null,-1,21,24,null,-1,15,30,null,1,25,20,null,1,26,18,null,-1,26,18,null,null,7,-2,-3,-15,5,8,8,null,0,4.5,5,11,1,null,null,null,null,null,null,null,-5]
["2025-05-17",1,27,19,null,1,23,24,null,-1,21,25,null,-1,15,31,null,1,26,20,null,1,27,18,null,1,27,18,null,null,8,-1,-4,-16,6,9,9,null,0,4.5,6,12,1,null,null,null,null,null,null,null,-6]
["2025-05-18",1,28,19,null,1,24,24,null,1,22,25,null,-1,15,32,null,-1,26,21,null,1,28,18,null,-1,27,19,null,null,9,0,-3,-17,5,10,8,null,0,4.5,6,13,2,null,null,null,null,null,null,null,-6]
["2025-05-19",-1,28,20,null,1,25,24,null,1,23,25,null,-1,15,33,null,1,27,21,null,1,29,18,null,-1,27,20,null,null,8,1,-2,-18,6,11,7,null,0,3.5,5,13,1,null,null,null,null,null,null,null,-5]
["2025-05-20",1,29,20,null,-1,25,25,null,1,24,25,null,1,16,33,null,-1,27,22,null,1,30,18,null,1,28,20,null,null,9,0,-1,-17,5,12,8,null,0,4.5,5,13,2,null,null,null,null,null,null,null,-5]
["2025-05-21",1,30,20,null,-1,25,26,null,-1,24,26,null,1,17,33,null,-1,27,23,null,1,31,18,null,-1,28,21,null,null,10,-1,-2,-16,4,13,7,null,0,5.5,6,13,3,null,null,null,null,null,null,null,-6]
["2025-05-22",null,30,20,null,null,25,26,null,1,25,26,null,-1,17,34,null,null,27,23,null,1,32,18,null,null,28,21,null,null,10,-1,-1,-17,4,14,7,null,0,5.5,5.5,13.5,3,null,null,null,null,null,null,null,-5.5]
["2025-05-23",1,31,20,null,-1,25,27,null,-1,25,27,null,1,18,34,null,1,28,23,null,1,33,18,null,1,29,21,null,null,11,-2,-2,-16,5,15,8,null,0,6.5,6.5,13.5,3,null,null,null,null,null,null,null,-6.5]
["2025-05-24",-1,31,21,null,1,26,27,null,-1,25,28,null,1,19,34,null,1,29,23,null,1,34,18,null,1,30,21,null,null,10,-1,-3,-15,6,16,9,null,0,5.5,6.5,12.5,2,null,null,null,null,null,null,null,-6.5]
["2025-05-25",1,32,21,null,-1,26,28,null,1,26,28,null,-1,19,35,null,1,30,23,null,-1,34,19,null,-1,30,22,null,null,11,-2,-2,-16,7,15,8,null,0,6.5,6.5,13.5,2,null,null,null,null,null,null,null,-6.5]
["2025-05-26",1,33,21,null,1,27,28,null,1,{"$f":"K64+IF(J65>0,J65,0)","v":27},{"$f":"L64-IF(J65<0,J65,0)","v":28},null,-1,{"$f":"O64+IF(N65>0,N65,0)","v":19},{"$f":"P64-IF(N65<0,N65,0)","v":36},null,-1,30,24,null,null,34,19,null,1,31,22,null,null,12,-1,-1,-17,6,15,9,null,0,6.5,6.5,14.5,3,null,null,null,null,null,null,null,-6.5]
["2025-05-27",1,34,21,null,1,28,28,null,1,28,28,null,1,20,36,null,1,31,24,null,1,35,19,null,-1,31,23,null,null,13,0,0,-16,7,16,8,null,0,6.5,6.5,14.5,3,null,null,null,null,null,null,null,{"$f":"IF(AO66 = 0, MIN(AM66:AN66, AP66:AQ66), 0-AO66)","v":-6.5}]
["2025-05-28",1,35,21,null,-1,28,29,null,1,29,28,null,1,21,36,null,1,32,24,null,null,35,19,null,1,32,23,null,null,{"$f":"C67-D67","v":14},{"$f":"G67-H67","v":-1},{"$f":"K67-L67","v":1},{"$f":"O67-P67","v":-15},{"$f":"S67-T67","v":8},16,{"$f":"AA67-AB67","v":9},null,0,7.5,6.5,14.5,3,null,null,null,null,null,null,null,-6.5]
["2025-05-29",null,35,21,null,null,28,29,null,null,29,28,null,null,21,36,null,null,32,24,null,0,36,20,null,1,{"$f":"AA67+IF(Z68>0,Z68,0)","v":33},{"$f":"AB67-IF(Z68<0,Z68,0)","v":23},null,null,14,-1,1,-15,8,{"$f":"W68-X68","v":16},10,null,{"$f":"(MAX($AE68:$AI68)-AE68)/2","v":0},{"$f":"(MAX($AE68:$AI68)-AF68)/2","v":7.5},{"$f":"(MAX($AE68:$AI68)-AG68)/2","v":6.5},{"$f":"(MAX($AE68:$AI68)-AH68)/2","v":14.5},{"$f":"(MAX($AE68:$AI68)-AI68)/2","v":3},null,null,null,null,null,null,null,-6.5]
["2025-05-30",-1,35,22,null,1,29,29,null,1,30,28,null,-1,21,37,null,-1,32,25,null,-1,36,21,null,1,34,23,null,null,13,0,2,-16,7,15,11,null,0,6.5,5.5,14.5,3,null,null,null,null,null,null,null,-5.5]
["2025-05-31",1,36,22,null,-1,29,30,null,1,31,28,null,1,22,37,null,1,33,25,null,-1,36,22,null,1,35,23,null,null,14,-1,3,-15,8,14,12,null,0,7.5,5.5,14.5,3,null,null,null,null,null,null,null,-5.5]
["2025-06-01",1,37,22,null,-1,29,31,null,1,32,28,null,-1,22,38,null,-1,33,26,null,-1,36,23,null,1,36,23,null,null,15,-2,4,-16,7,13,13,null,0,8.5,5.5,15.5,4,null,null,null,null,null,null,null,-5.5]
["2025-06-02",null,37,22,null,-1,29,32,null,1,33,28,null,null,22,38,null,null,33,26,null,null,36,23,null,-1,36,24,null,null,15,-3,5,-16,7,13,12,null,0,9,5,15.5,4,null,null,null,null,null,null,null,-5]
["2025-06-03",1,{"$f":"C72+IF(B73>0,B73,0)","v":38},{"$f":"D72-IF(B73<0,B73,0)","v":22},null,1,{"$f":"G72+IF(F73>0,F73,0)","v":30},{"$f":"H72-IF(F73<0,F73,0)","v":32},null,-1,33,29,null,-1,22,39,null,-1,33,27,null,1,37,23,null,-1,36,25,null,null,16,-2,4,-17,6,14,11,null,0,9,6,16.5,5,null,null,null,null,null,null,null,-6]
["2025-06-04",-1,38,23,null,-1,30,33,null,1,{"$f":"K73+IF(J74>0,J74,0)","v":34},{"$f":"L73-IF(J74<0,J74,0)","v":29},null,1,23,39,null,null,33,27,null,-1,37,24,null,-1,36,26,null,null,15,-3,5,-16,6,13,10,null,0,9,5,15.5,4.5,null,null,null,null,null,null,null,-5]
["2025-06-05",1,39,23,null,null,30,33,null,null,{"$f":"K74+IF(J75>0,J75,0)","v":34},{"$f":"L74-IF(J75<0,J75,0)","v":29},null,-1,23,40,null,0,34,28,null,-1,37,25,null,null,36,26,null,null,16,-3,5,-17,6,12,10,null,0,9.5,5.5,16.5,5,null,null,null,null,null,null,null,-5.5]
["2025-06-06",-1,39,24,null,1,31,33,null,-1,34,30,null,1,24,40,null,1,35,28,null,-1,37,26,null,1,37,26,null,null,15,-2,4,-16,7,11,11,null,0,8.5,5.5,15.5,4,null,null,null,null,null,null,null,-5.5]
["2025-06-07",1,40,24,null,1,32,33,null,1,35,30,null,1,25,40,null,1,36,28,null,-1,37,27,null,1,38,26,null,null,16,-1,5,-15,8,10,12,null,0,8.5,5.5,15.5,4,null,null,null,null,null,null,null,-5.5]
["2025-06-08",-1,40,25,null,1,33,33,null,-1,35,31,null,1,26,40,null,-1,36,29,null,-1,37,28,null,-1,38,27,null,null,15,0,4,-14,7,9,11,null,0,7.5,5.5,14.5,4,null,null,null,null,null,null,null,-5.5]
["2025-06-09",-1,40,26,null,1,34,33,null,-1,35,32,null,1,27,40,null,-1,36,30,null,1,38,28,null,1,39,27,null,null,14,1,3,-13,6,10,12,null,0,6.5,5.5,13.5,4,null,null,null,null,null,null,null,-5.5]
["2025-06-10",1,41,26,null,1,35,33,null,1,36,32,null,-1,27,41,null,-1,36,31,null,-1,38,29,null,-1,39,28,null,null,15,2,4,-14,5,9,11,null,0,6.5,5.5,14.5,5,null,null,null,null,null,null,null,-5.5]
["2025-06-11",-1,41,27,null,-1,35,34,null,-1,36,33,null,1,28,41,null,-1,36,32,null,1,39,29,null,1,40,28,null,null,14,1,3,-13,4,10,12,null,0,6.5,5.5,13.5,5,null,null,null,null,null,null,null,-5.5]
["2025-06-12",1,42,27,null,null,35,34,null,1,37,33,null,-1,28,42,null,-1,36,33,null,null,39,29,null,null,40,28,null,null,15,1,4,-14,3,10,12,null,0,7,5.5,14.5,6,null,null,null,null,null,null,null,-5.5]
["2025-06-13",-1,42,28,null,-1,35,35,null,1,38,33,null,1,29,42,null,-1,36,34,null,1,40,29,null,-1,40,29,null,null,14,0,5,-13,2,11,11,null,0,7,4.5,13.5,6,null,null,null,null,null,null,null,-4.5]
["2025-06-14",1,43,28,null,1,36,35,null,-1,38,34,null,-1,29,43,null,1,37,34,null,1,41,29,null,1,41,29,null,null,15,1,4,-14,3,12,12,null,0,7,5.5,14.5,6,null,null,null,null,null,null,null,-5.5]
["2025-06-15",1,44,28,null,1,37,35,null,1,39,34,null,-1,29,44,null,-1,37,35,null,1,42,29,null,1,42,29,null,null,16,2,5,-15,2,13,13,null,0,7,5.5,15.5,7,null,null,null,null,null,null,null,-5.5]
["2025-06-16",null,44,28,null,null,37,35,null,null,39,34,null,null,29,44,null,null,37,35,null,1,43,29,null,-1,42,30,null,null,16,2,5,-15,2,14,12,null,0,7,5.5,15.5,7,null,null,null,null,null,null,null,-5.5]
["2025-06-17",1,45,28,null,1,38,35,null,-1,39,35,null,-1,29,45,null,1,38,35,null,-1,43,30,null,1,43,30,null,null,17,3,4,-16,3,13,13,null,0,7,6.5,16.5,7,null,null,null,null,null,null,null,-6.5]
["2025-06-18",null,45,28,null,1,39,35,null,null,39,35,null,null,29,45,null,null,38,35,null,1,44,30,null,1,44,30,null,null,17,4,4,-16,3,14,14,null,0,6.5,6.5,16.5,7,null,null,null,null,null,null,null,-6.5]
["2025-06-19",-1,45,29,null,-1,39,36,null,1,40,35,null,0,30,46,null,2,40,35,null,1,45,30,null,-1,44,31,null,null,16,3,5,-16,5,15,13,null,0,6.5,5.5,16,5.5,null,null,null,null,null,null,null,-5.5]
["2025-06-20",-1,45,30,null,-1,39,37,null,1,41,35,null,-1,30,47,null,1,41,35,null,1,46,30,null,-1,44,32,null,null,15,2,6,-17,6,16,12,null,0,6.5,4.5,16,4.5,null,null,null,null,null,null,null,-4.5]
["2025-06-21",1,46,30,null,-1,39,38,null,1,42,35,null,-1,30,48,null,1,42,35,null,-1,46,31,null,-1,44,33,null,null,16,1,7,-18,7,15,11,null,0,7.5,4.5,17,4.5,null,null,null,null,null,null,null,-4.5]
["2025-06-22",-1,46,31,null,1,40,38,null,1,43,35,null,1,31,48,null,-1,42,36,null,1,47,31,null,1,45,33,null,null,15,2,8,-17,6,16,12,null,0,6.5,3.5,16,4.5,null,null,null,null,null,null,null,-3.5]
["2025-06-23",-1,46,32,null,1,41,38,null,-1,43,36,null,1,32,48,null,1,{"$f":"S92+IF(R93>0,R93,0)","v":43},{"$f":"T92-IF(R93<0,R93,0)","v":36},null,null,{"$f":"W92+IF(V93>0,V93,0)","v":47},{"$f":"X92-IF(V93<0,V93,0)","v":31},null,1,46,33,null,null,14,3,7,-16,7,16,13,null,0,5.5,3.5,15,3.5,null,null,null,null,null,null,null,-3.5]
["2025-06-24",-1,46,33,null,1,42,38,null,1,44,36,null,-1,32,49,null,1,44,36,null,-1,{"$f":"W93+IF(V94>0,V94,0)","v":47},{"$f":"X93-IF(V94<0,V94,0)","v":32},null,1,47,33,null,null,13,4,8,-17,8,15,14,null,0,4.5,2.5,15,2.5,null,null,null,null,null,null,null,-2.5]
["2025-06-25",1,47,33,null,-1,42,39,null,1,45,36,null,-1,32,50,null,-1,44,37,null,-1,47,33,null,1,48,33,null,null,14,3,9,-18,7,14,15,null,0,5.5,2.5,16,3.5,null,null,null,null,null,null,null,-2.5]
["2025-06-26",1,48,33,null,null,42,39,null,null,45,36,null,null,32,50,null,-1,{"$f":"S95+IF(R96>0,R96,0)","v":44},{"$f":"T95-IF(R96<0,R96,0)","v":38},null,-1,47,34,null,null,48,33,null,null,15,3,9,-18,6,13,15,null,0,6,3,16.5,4.5,null,null,null,null,null,null,null,-3]
["2025-06-27",-1,48,34,null,1,43,39,null,1,46,36,null,1,33,50,null,1,45,38,null,1,48,34,null,1,49,33,null,null,14,4,10,-17,7,14,16,null,0,5,2,15.5,3.5,null,null,null,null,null,null,null,-2]
["2025-06-28",1,49,34,null,-1,43,40,null,1,47,36,null,1,{"$f":"O97+IF(N98>0,N98,0)","v":34},{"$f":"P97-IF(N98<0,N98,0)","v":50},null,1,46,38,null,-1,48,35,null,-1,49,34,null,null,15,3,11,-16,8,13,15,null,0,6,2,15.5,3.5,null,null,null,null,null,null,null,{"$f":"IF(AO98 = 0, MIN(AM98:AN98, AP98:AQ98), 0-AO98)","v":-2}]
["2025-06-29",-1,49,35,null,1,44,40,null,-1,47,37,null,1,35,50,null,1,47,38,null,1,49,35,null,1,50,34,null,null,{"$f":"C99-D99","v":14},{"$f":"G99-H99","v":4},{"$f":"K99-L99","v":10},{"$f":"O99-P99","v":-15},{"$f":"S99-T99","v":9},14,{"$f":"AA99-AB99","v":16},null,0,5,2,14.5,2.5,null,null,null,null,null,null,null,-2]
["2025-06-30",null,49,35,null,-1,44,41,null,null,{"$f":"K99+IF(J100>0,J100,0)","v":47},{"$f":"L99-IF(J100<0,J100,0)","v":37},null,1,36,50,null,-1,47,39,null,1,50,35,null,-1,50,35,null,null,14,3,10,-14,8,15,15,null,0,5.5,2,14,{"$f":"(MAX($AE100:$AI100)-AI100)/2","v":3},null,null,null,null,null,null,null,-2]
["2025-07-01",1,50,35,null,-1,44,42,null,null,47,37,null,1,37,50,null,-1,47,40,null,null,50,35,null,1,51,35,null,null,15,2,10,-13,7,15,16,null,0,6.5,2.5,14,4,null,null,null,null,null,null,null,-2.5]
["2025-07-02",1,51,35,null,1,45,42,null,0,48,38,null,1,38,50,null,-1,47,41,null,0,51,36,null,1,52,35,null,null,16,3,10,-12,6,15,17,null,0,6.5,3,14,5,null,null,null,null,null,null,null,-3]
["2025-07-03",1,52,35,null,null,45,42,null,-1,{"$f":"K102+IF(J103>0,J103,0)","v":48},{"$f":"L102-IF(J103<0,J103,0)","v":39},null,null,38,50,null,null,47,41,null,null,51,36,null,-1,52,36,null,null,17,3,9,-12,6,15,16,null,0,7,4,14.5,5.5,null,null,null,null,null,null,null,-4]
["2025-07-04",1,53,35,null,1,46,42,null,1,49,39,null,-1,38,51,null,-1,47,42,null,-1,51,37,null,-1,52,37,null,null,18,4,10,-13,5,14,15,null,0,7,4,15.5,6.5,null,null,null,null,null,null,null,-4]
["2025-07-05",-1,53,36,null,-1,46,43,null,-1,49,40,null,-1,38,52,null,1,48,42,null,1,52,37,null,-1,52,38,null,null,17,3,9,-14,6,15,14,null,0,7,4,15.5,5.5,null,null,null,null,null,null,null,-4]
["2025-07-06",1,54,36,null,-1,46,44,null,1,50,40,null,-1,38,53,null,-1,48,43,null,1,53,37,null,1,53,38,null,null,18,2,10,-15,5,16,15,null,0,8,4,16.5,6.5,null,null,null,null,null,null,null,-4]
["2025-07-07",null,54,36,null,-1,46,45,null,1,51,40,null,-1,38,54,null,null,48,43,null,-1,53,38,null,null,53,38,null,null,18,1,11,-16,5,15,15,null,0,8.5,3.5,17,6.5,null,null,null,null,null,null,null,-3.5]
["2025-07-08",-1,54,37,null,-1,46,46,null,1,52,40,null,-1,38,55,null,1,49,43,null,-1,53,39,null,-1,53,39,null,null,17,0,12,-17,6,14,14,null,0,8.5,2.5,17,5.5,null,null,null,null,null,null,null,-2.5]
["2025-07-09",-1,54,38,null,1,47,46,null,1,53,40,null,-1,38,56,null,-1,{"$f":"S108+IF(R109>0,R109,0)","v":49},{"$f":"T108-IF(R109<0,R109,0)","v":44},null,1,54,39,null,1,54,39,null,null,16,1,13,-18,5,15,15,null,0,7.5,1.5,17,5.5,null,null,null,null,null,null,null,-1.5]
["2025-07-10",1,55,38,null,1,48,46,null,null,53,40,null,null,38,56,null,1,50,44,null,null,54,39,null,-1,54,40,null,null,17,2,13,-18,6,15,14,null,0,7.5,2,17.5,5.5,null,null,null,null,null,null,null,-2]
["2025-07-11",-1,55,39,null,-1,48,47,null,1,54,40,null,-1,38,57,null,-1,50,45,null,-1,54,40,null,-1,54,41,null,null,16,1,14,-19,5,14,13,null,0,7.5,1,17.5,5.5,null,null,null,null,null,null,null,-1]
["2025-07-12",1,56,39,null,1,49,47,null,1,55,40,null,-1,38,58,null,-1,50,46,null,-1,54,41,null,-1,54,42,null,null,17,2,15,-20,4,13,12,null,0,7.5,1,18.5,6.5,null,null,null,null,null,null,null,-1]
["2025-07-13",1,57,39,null,1,50,47,null,1,56,40,null,1,39,58,null,1,51,46,null,1,55,41,null,1,55,42,null,null,18,3,16,-19,5,14,13,null,0,7.5,1,18.5,6.5,null,null,null,null,null,null,null,-1]
["2025-07-14",null,57,39,null,null,50,47,null,null,56,40,null,null,39,58,null,null,51,46,null,null,55,41,null,null,55,42,null,null,18,3,16,-19,5,14,13,null,0,7.5,1,18.5,6.5,null,null,null,null,null,null,null,-1]
["2025-07-15",null,57,39,null,null,50,47,null,null,56,40,null,null,39,58,null,null,51,46,null,null,55,41,null,null,55,42,null,null,18,3,16,-19,5,14,13,null,0,7.5,1,18.5,6.5,null,null,null,null,null,null,null,-1]
["2025-07-16",null,57,39,null,null,50,47,null,null,56,40,null,null,39,58,null,null,51,46,null,null,55,41,null,null,55,42,null,null,18,3,16,-19,5,14,13,null,0,7.5,1,18.5,6.5,null,null,null,null,null,null,null,-1]
["2025-07-17",null,57,39,null,null,50,47,null,null,56,40,null,null,39,58,null,null,{"$f":"S116+IF(R117>0,R117,0)","v":51},{"$f":"T116-IF(R117<0,R117,0)","v":46},null,null,{"$f":"W116+IF(V117>0,V117,0)","v":55},{"$f":"X116-IF(V117<0,V117,0)","v":41},null,null,55,42,null,null,18,3,16,-19,5,14,13,null,0,7.5,1,18.5,6.5,null,null,null,null,null,null,null,-1]
["2025-07-18",1,58,39,null,1,51,47,null,1,57,40,null,-1,39,59,null,-1,51,47,null,-1,{"$f":"W117+IF(V118>0,V118,0)","v":55},{"$f":"X117-IF(V118<0,V118,0)","v":42},null,null,55,42,null,null,19,4,17,-20,4,13,13,null,0,7.5,1,19.5,7.5,null,null,null,null,null,null,null,-1]
["2025-07-19",1,59,39,null,1,52,47,null,1,58,40,null,-1,39,60,null,-1,51,48,null,1,56,42,null,1,56,42,null,null,20,5,18,-21,3,14,14,null,0,7.5,1,20.5,8.5,null,null,null,null,null,null,null,-1]
["2025-07-20",-1,59,40,null,-1,52,48,null,1,59,40,null,-1,39,61,null,-1,51,49,null,-1,56,43,null,1,57,42,null,null,19,4,19,-22,2,13,15,null,0,7.5,0,20.5,8.5,null,null,null,null,null,null,null,0]
["2025-07-21",-1,59,41,null,-1,52,49,null,1,60,40,null,1,40,61,null,1,52,49,null,1,57,43,null,-1,57,43,null,null,18,3,20,-21,3,14,14,null,1,8.5,0,20.5,8.5,null,null,null,null,null,null,null,1]
["2025-07-22",1,60,41,null,-1,52,50,null,-1,60,41,null,1,41,61,null,-1,52,50,null,1,58,43,null,1,58,43,null,null,19,2,19,-20,2,15,15,null,0,8.5,0,19.5,8.5,null,null,null,null,null,null,null,0]
["2025-07-23",-1,60,42,null,1,53,50,null,1,61,41,null,1,42,61,null,-1,52,51,null,-1,58,44,null,1,59,43,null,null,18,3,20,-19,1,14,16,null,1,8.5,0,19.5,9.5,null,null,null,null,null,null,null,1]
["2025-07-24",null,60,42,null,null,53,50,null,null,61,41,null,null,42,61,null,1,53,51,null,null,58,44,null,null,59,43,null,null,18,3,20,-19,2,14,16,null,1,8.5,0,19.5,9,null,null,null,null,null,null,null,1]
["2025-07-25",-1,60,43,null,1,54,50,null,-1,61,42,null,-1,42,62,null,1,54,51,null,1,59,44,null,-1,59,44,null,null,17,4,19,-20,3,15,15,null,1,7.5,0,19.5,8,null,null,null,null,null,null,null,1]
["2025-07-26",1,61,43,null,1,55,50,null,-1,61,43,null,1,43,62,null,-1,54,52,null,1,60,44,null,-1,59,45,null,null,18,5,18,-19,2,16,14,null,0,6.5,0,18.5,8,null,null,null,null,null,null,null,0]
["2025-07-27",1,62,43,null,1,56,50,null,1,62,43,null,1,44,62,null,-1,54,53,null,-1,60,45,null,1,60,45,null,null,19,6,19,-18,1,15,15,null,0,6.5,0,18.5,9,null,null,null,null,null,null,null,0]
["2025-07-28",-1,62,44,null,-1,56,51,null,1,63,43,null,1,45,62,null,1,55,53,null,-1,60,46,null,1,61,45,null,null,18,5,20,-17,2,14,16,null,1,7.5,0,18.5,9,null,null,null,null,null,null,null,1]
["2025-07-29",-1,62,45,null,-1,56,52,null,1,64,43,null,1,46,62,null,-1,55,54,null,1,61,46,null,-1,61,46,null,null,17,4,21,-16,1,15,15,null,2,8.5,0,18.5,10,null,null,null,null,null,null,null,2]
["2025-07-30",1,63,45,null,1,57,52,null,-1,64,44,null,1,47,62,null,-1,55,55,null,-1,61,47,null,-1,61,47,null,null,18,5,20,-15,0,14,14,null,1,7.5,0,17.5,10,null,null,null,null,null,null,null,{"$f":"IF(AO130 = 0, MIN(AM130:AN130, AP130:AQ130), 0-AO130)","v":1}]
["2025-07-31",null,63,45,null,-1,57,53,null,null,64,44,null,null,47,62,null,null,55,55,null,null,61,47,null,null,61,47,null,null,{"$f":"C131-D131","v":18},{"$f":"G131-H131","v":4},{"$f":"K131-L131","v":20},{"$f":"O131-P131","v":-15},{"$f":"S131-T131","v":0},14,{"$f":"AA131-AB131","v":14},null,1,8,0,17.5,10,null,null,null,null,null,null,null,1]
["2025-08-01",1,64,45,null,1,58,53,null,1,65,44,null,-1,47,63,null,-1,55,56,null,1,62,47,null,1,{"$f":"AA131+IF(Z132>0,Z132,0)","v":62},{"$f":"AB131-IF(Z132<0,Z132,0)","v":47},null,null,19,5,21,-16,-1,{"$f":"W132-X132","v":15},15,null,{"$f":"(MAX($AE132:$AI132)-AE132)/2","v":1},{"$f":"(MAX($AE132:$AI132)-AF132)/2","v":8},{"$f":"(MAX($AE132:$AI132)-AG132)/2","v":0},{"$f":"(MAX($AE132:$AI132)-AH132)/2","v":18.5},{"$f":"(MAX($AE132:$AI132)-AI132)/2","v":11},null,null,null,null,null,null,null,1]
["2025-08-02",-1,64,46,null,-1,58,54,null,1,66,44,null,-1,47,64,null,1,56,56,null,-1,62,48,null,-1,62,48,null,null,18,4,22,-17,0,14,14,null,2,9,0,19.5,11,null,null,null,null,null,null,null,2]
["2025-08-03",1,65,46,null,null,58,54,null,1,67,44,null,1,48,64,null,-1,56,57,null,1,63,48,null,-1,62,49,null,null,19,4,23,-16,-1,15,13,null,2,9.5,0,19.5,12,null,null,null,null,null,null,null,2]
["2025-08-04",-1,65,47,null,1,59,54,null,1,{"$f":"K134+IF(J135>0,J135,0)","v":68},{"$f":"L134-IF(J135<0,J135,0)","v":44},null,1,49,64,null,1,57,57,null,1,64,48,null,null,62,49,null,null,18,5,24,-15,0,16,13,null,3,9.5,0,19.5,12,null,null,null,null,null,null,null,3]
["2025-08-05",-1,65,48,null,1,60,54,null,1,69,44,null,-1,49,65,null,-1,57,58,null,1,65,48,null,1,63,49,null,null,17,6,25,-16,-1,17,14,null,4,9.5,0,20.5,13,null,null,null,null,null,null,null,4]
["2025-08-06",1,{"$f":"C136+IF(B137>0,B137,0)","v":66},{"$f":"D136-IF(B137<0,B137,0)","v":48},null,-1,{"$f":"G136+IF(F137>0,F137,0)","v":60},{"$f":"H136-IF(F137<0,F137,0)","v":55},null,1,70,44,null,-1,49,66,null,1,58,58,null,-1,65,49,null,1,64,49,null,null,18,5,26,-17,0,16,15,null,4,10.5,0,21.5,13,null,null,null,null,null,null,null,4]
["2025-08-07",null,66,48,null,-1,60,56,null,null,{"$f":"K137+IF(J138>0,J138,0)","v":70},{"$f":"L137-IF(J138<0,J138,0)","v":44},null,1,50,66,null,null,58,58,null,null,65,49,null,1,65,49,null,null,18,4,26,-16,0,16,16,null,4,11,0,21,13,null,null,null,null,null,null,null,4]
["2025-08-08",-1,66,49,null,-1,{"$f":"G138+IF(F139>0,F139,0)","v":60},{"$f":"H138-IF(F139<0,F139,0)","v":57},null,1,71,44,null,1,{"$f":"O138+IF(N139>0,N139,0)","v":51},{"$f":"P138-IF(N139<0,N139,0)","v":66},null,1,59,58,null,1,66,49,null,1,66,49,null,null,17,3,27,-15,1,17,17,null,5,12,0,21,13,null,null,null,null,null,null,null,5]
["2025-08-09",1,67,49,null,1,61,57,null,1,72,44,null,-1,51,67,null,-1,59,59,null,1,67,49,null,1,67,49,null,null,18,4,28,-16,0,18,18,null,5,12,0,22,14,null,null,null,null,null,null,null,5]
["2025-08-10",-1,67,50,null,1,62,57,null,1,73,44,null,-1,51,68,null,1,60,59,null,1,68,49,null,-1,67,50,null,null,17,5,29,-17,1,19,17,null,6,12,0,23,14,null,null,null,null,null,null,null,6]
["2025-08-11",null,67,50,null,-1,62,58,null,1,74,44,null,-1,51,69,null,1,61,59,null,1,69,49,null,-1,67,51,null,null,17,4,30,-18,2,20,16,null,6.5,13,0,24,14,null,null,null,null,null,null,null,6.5]
["2025-08-12",-1,67,51,null,1,63,58,null,1,75,44,null,-1,51,70,null,-1,61,60,null,-1,69,50,null,-1,67,52,null,null,16,5,31,-19,1,19,15,null,7.5,13,0,25,15,null,null,null,null,null,null,null,7.5]
["2025-08-13",1,68,51,null,1,64,58,null,1,76,44,null,-1,51,71,null,-1,61,61,null,-1,69,51,null,1,68,52,null,null,17,6,32,-20,0,18,16,null,7.5,13,0,26,16,null,null,null,null,null,null,null,7.5]
["2025-08-14",-1,68,52,null,null,64,58,null,null,76,44,null,null,51,71,null,null,61,61,null,-1,69,52,null,1,69,52,null,null,16,6,32,-20,0,17,17,null,8,13,0,26,16,null,null,null,null,null,null,null,8]
["2025-08-15",-1,68,53,null,-1,64,59,null,1,77,44,null,1,52,71,null,-1,61,62,null,1,70,52,null,1,70,52,null,null,15,5,33,-19,-1,18,18,null,9,14,0,26,17,null,null,null,null,null,null,null,9]
["2025-08-16",1,69,53,null,-1,64,60,null,1,78,44,null,-1,52,72,null,-1,61,63,null,-1,70,53,null,1,71,52,null,null,16,4,34,-20,-2,17,19,null,9,15,0,27,18,null,null,null,null,null,null,null,9]
["2025-08-17",1,70,53,null,1,65,60,null,-1,78,45,null,-1,52,73,null,-1,61,64,null,1,71,53,null,1,72,52,null,null,17,5,33,-21,-3,18,20,null,8,14,0,27,18,null,null,null,null,null,null,null,8]
["2025-08-18",-1,70,54,null,1,66,60,null,1,79,45,null,1,53,73,null,1,62,64,null,1,72,53,null,null,72,52,null,null,16,6,34,-20,-2,19,20,null,9,14,0,27,18,null,null,null,null,null,null,null,9]
["2025-08-19",2,72,54,null,1,67,60,null,-2,79,47,null,-1,53,74,null,1,63,64,null,1,73,53,null,1,73,52,null,null,18,7,32,-21,-1,20,21,null,7,12.5,0,26.5,16.5,null,null,null,null,null,null,null,7]
["2025-08-20",1,73,54,null,-1,67,61,null,-1,79,48,null,1,54,74,null,-1,63,65,null,1,74,53,null,-1,73,53,null,null,19,6,31,-20,-2,21,20,null,6,12.5,0,25.5,16.5,null,null,null,null,null,null,null,6]
["2025-08-21",-1,73,55,null,null,67,61,null,1,80,48,null,null,54,74,null,1,64,65,null,null,74,53,null,-1,73,54,null,null,18,6,32,-20,-1,21,19,null,7,13,0,26,16.5,null,null,null,null,null,null,null,7]
["2025-08-22",1,74,55,null,-1,67,62,null,1,81,48,null,1,55,74,null,-1,64,66,null,-1,74,54,null,1,74,54,null,null,19,5,33,-19,-2,20,20,null,7,14,0,26,17.5,null,null,null,null,null,null,null,7]
["2025-08-23",1,75,55,null,-1,67,63,null,-1,81,49,null,1,56,74,null,null,64,66,null,1,75,54,null,1,75,54,null,null,20,4,32,-18,-2,21,21,null,6,14,0,25,17,null,null,null,null,null,null,null,6]
["2025-08-24",1,76,55,null,1,68,63,null,-1,81,50,null,1,57,74,null,-1,64,67,null,1,76,54,null,-1,75,55,null,null,21,5,31,-17,-3,22,20,null,5,13,0,24,17,null,null,null,null,null,null,null,5]
["2025-08-25",null,76,55,null,-1,68,64,null,1,82,50,null,-1,57,75,null,1,65,67,null,-1,76,55,null,null,75,55,null,null,21,4,32,-18,-2,21,20,null,5.5,14,0,25,17,null,null,null,null,null,null,null,5.5]
["2025-08-26",-1,76,56,null,-1,68,65,null,1,83,50,null,1,58,75,null,-1,65,68,null,-1,76,56,null,-1,75,56,null,null,20,3,33,-17,-3,20,19,null,6.5,15,0,25,18,null,null,null,null,null,null,null,6.5]
["2025-08-27",-1,{"$f":"C157+IF(B158>0,B158,0)","v":76},{"$f":"D157-IF(B158<0,B158,0)","v":57},null,-1,{"$f":"G157+IF(F158>0,F158,0)","v":68},{"$f":"H157-IF(F158<0,F158,0)","v":66},null,-1,83,51,null,1,59,75,null,-1,65,69,null,-1,76,57,null,1,76,56,null,null,19,2,32,-16,-4,19,20,null,6.5,15,0,24,18,null,null,null,null,null,null,null,6.5]
["2025-08-28",-1,76,58,null,null,68,66,null,-1,83,52,null,-1,59,76,null,1,66,69,null,1,77,57,null,1,77,56,null,null,18,2,31,-17,-3,20,21,null,6.5,14.5,0,24,17,null,null,null,null,null,null,null,6.5]
["2025-08-29",1,77,58,null,-1,68,67,null,1,84,52,null,1,60,76,null,1,67,69,null,1,78,57,null,2,79,56,null,null,19,1,32,-16,-2,21,23,null,6.5,15.5,0,24,17,null,null,null,null,null,null,null,6.5]
["2025-08-30",1,78,58,null,-1,68,68,null,1,85,52,null,1,61,76,null,1,68,69,null,1,79,57,null,1,80,56,null,null,20,0,33,-15,-1,22,24,null,6.5,16.5,0,24,17,null,null,null,null,null,null,null,6.5]
["2025-08-31",-1,78,59,null,1,69,68,null,-1,85,53,null,-1,{"$f":"O161+IF(N162>0,N162,0)","v":61},{"$f":"P161-IF(N162<0,N162,0)","v":77},null,-1,68,70,null,-1,79,58,null,-1,80,57,null,null,19,1,32,-16,-2,21,23,null,6.5,15.5,0,24,17,null,null,null,null,null,null,null,{"$f":"IF(AO162 = 0, MIN(AM162:AN162, AP162:AQ162), 0-AO162)","v":6.5}]
["2025-09-01",1,79,59,null,1,70,68,null,-1,85,54,null,null,61,77,null,-1,68,71,null,1,80,58,null,1,81,57,null,null,{"$f":"C163-D163","v":20},{"$f":"G163-H163","v":2},{"$f":"K163-L163","v":31},{"$f":"O163-P163","v":-16},{"$f":"S163-T163","v":-3},22,{"$f":"AA163-AB163","v":24},null,5.5,14.5,0,23.5,17,null,null,null,null,null,null,null,5.5]
["2025-09-02",1,80,59,null,-1,70,69,null,null,85,54,null,1,62,77,null,1,69,71,null,null,80,58,null,-1,81,58,null,null,21,1,31,-15,-2,22,23,null,5,15,0,23,{"$f":"(MAX($AE164:$AI164)-AI164)/2","v":16.5},null,null,null,null,null,null,null,5]
["2025-09-03",-1,80,60,null,-1,70,70,null,1,{"$f":"K164+IF(J165>0,J165,0)","v":86},{"$f":"L164-IF(J165<0,J165,0)","v":54},null,1,63,77,null,1,70,71,null,-1,80,59,null,-1,81,59,null,null,20,0,32,-14,-1,21,22,null,6,16,0,23,16.5,null,null,null,null,null,null,null,6]
["2025-09-04",null,80,60,null,null,70,70,null,-1,86,55,null,1,64,77,null,null,70,71,null,1,81,59,null,null,81,59,null,null,20,0,31,-13,-1,22,22,null,5.5,15.5,0,22,16,null,null,null,null,null,null,null,5.5]
["2025-09-05",1,81,60,null,-1,70,71,null,1,87,55,null,-1,64,78,null,-1,70,72,null,1,82,59,null,-1,81,60,null,null,21,-1,32,-14,-2,23,21,null,5.5,16.5,0,23,17,null,null,null,null,null,null,null,5.5]
["2025-09-06",-1,81,61,null,1,71,71,null,1,88,55,null,-1,64,79,null,1,71,72,null,1,83,59,null,1,82,60,null,null,20,0,33,-15,-1,24,22,null,6.5,16.5,0,24,17,null,null,null,null,null,null,null,6.5]
["2025-09-07",-1,81,62,null,1,72,71,null,1,89,55,null,-1,64,80,null,1,72,72,null,-1,83,60,null,-1,82,61,null,null,19,1,34,-16,0,23,21,null,7.5,16.5,0,25,17,null,null,null,null,null,null,null,7.5]
["2025-09-08",-1,81,63,null,-1,72,72,null,-1,89,56,null,null,64,80,null,-1,72,73,null,1,84,60,null,null,82,61,null,null,18,0,33,-16,-1,24,21,null,7.5,16.5,0,24.5,17,null,null,null,null,null,null,null,7.5]
["2025-09-09",1,82,63,null,1,73,72,null,-1,89,57,null,-1,64,81,null,-1,72,74,null,1,85,60,null,1,83,61,null,null,19,1,32,-17,-2,25,22,null,6.5,15.5,0,24.5,17,null,null,null,null,null,null,null,6.5]
["2025-09-10",1,83,63,null,1,74,72,null,-1,89,58,null,-1,64,82,null,-1,72,75,null,1,86,60,null,-1,83,62,null,null,20,2,31,-18,-3,26,21,null,5.5,14.5,0,24.5,17,null,null,null,null,null,null,null,5.5]
["2025-09-11",null,83,63,null,null,74,72,null,null,{"$f":"K172+IF(J173>0,J173,0)","v":89},{"$f":"L172-IF(J173<0,J173,0)","v":58},null,-1,64,83,null,null,{"$f":"S172+IF(R173>0,R173,0)","v":72},{"$f":"T172-IF(R173<0,R173,0)","v":75},null,1,87,60,null,1,84,62,null,null,20,2,31,-19,-3,27,22,null,5.5,14.5,0,25,17,null,null,null,null,null,null,null,5.5]
["2025-09-12",1,84,63,null,-1,74,73,null,1,90,58,null,-1,64,84,null,-1,72,76,null,1,88,60,null,1,85,62,null,null,21,1,32,-20,-4,28,23,null,5.5,15.5,0,26,18,null,null,null,null,null,null,null,5.5]
["2025-09-13",-1,84,64,null,-1,74,74,null,1,{"$f":"K174+IF(J175>0,J175,0)","v":91},{"$f":"L174-IF(J175<0,J175,0)","v":58},null,1,65,84,null,-1,72,77,null,1,89,60,null,1,86,62,null,null,20,0,33,-19,-5,29,24,null,6.5,16.5,0,26,19,null,null,null,null,null,null,null,6.5]
["2025-09-14",1,85,64,null,-1,74,75,null,-1,91,59,null,-1,65,85,null,1,73,77,null,-1,89,61,null,-1,86,63,null,null,21,-1,32,-20,-4,28,23,null,5.5,16.5,0,26,18,null,null,null,null,null,null,null,5.5]
["2025-09-15",1,86,64,null,1,75,75,null,null,91,59,null,-1,65,86,null,-1,73,78,null,1,90,61,null,1,87,63,null,null,22,0,32,-21,-5,29,24,null,5,16,0,26.5,18.5,null,null,null,null,null,null,null,5]
["2025-09-16",1,87,64,null,-1,75,76,null,1,92,59,null,-1,65,87,null,1,74,78,null,1,91,61,null,-1,87,64,null,null,23,-1,33,-22,-4,30,23,null,5,17,0,27.5,18.5,null,null,null,null,null,null,null,5]
["2025-09-17",1,88,64,null,1,76,76,null,1,93,59,null,-1,65,88,null,-1,74,79,null,-1,91,62,null,1,88,64,null,null,24,0,34,-23,-5,29,24,null,5,17,0,28.5,19.5,null,null,null,null,null,null,null,5]
["2025-09-18",-1,88,65,null,1,77,76,null,1,94,59,null,null,65,88,null,null,74,79,null,null,91,62,null,-1,88,65,null,null,23,1,35,-23,-5,29,23,null,6,17,0,29,20,null,null,null,"Team","GB","%",null,6]
["2025-09-19",-1,88,66,null,1,78,76,null,-1,94,60,null,-1,65,89,null,1,75,79,null,1,92,62,null,-1,88,66,null,null,22,2,34,-24,-4,30,22,null,6,16,0,{"$f":"(MAX($AE181:$AI181)-AH181)/2","v":29},19,null,null,null,{"$f":"AO$1","v":"MIL"},{"$f":"AO$191","v":0},{"$f":"AO$193","v":0.59876543209876543},null,6]
["2025-09-20",-1,88,67,null,1,79,76,null,1,95,60,null,1,66,89,null,-1,75,80,null,-1,{"$f":"W181+IF(V182>0,V182,0)","v":92},{"$f":"X181-IF(V182<0,V182,0)","v":63},null,-1,88,67,null,null,21,3,35,-23,-5,29,21,null,7,16,0,{"$f":"(MAX($AE182:$AI182)-AH182)/2","v":29},{"$f":"(MAX($AE182:$AI182)-AI182)/2","v":20},null,null,null,{"$f":"AM$1","v":"CHC"},{"$f":"AM$191","v":5},{"$f":"AM$193","v":0.5679012345679012},null,7]
["2025-09-21",-1,88,68,null,1,80,76,null,-1,95,61,null,1,67,89,null,1,76,80,null,-1,92,64,null,1,{"$f":"AA182+IF(Z183>0,Z183,0)","v":89},{"$f":"AB182-IF(Z183<0,Z183,0)","v":67},null,null,20,4,34,-22,-4,28,22,null,7,15,0,{"$f":"(MAX($AE183:$AI183)-AH183)/2","v":28},{"$f":"(MAX($AE183:$AI183)-AI183)/2","v":19},null,null,null,{"$f":"AN$1","v":"CIN"},{"$f":"AN$191","v":14},{"$f":"AN$193","v":0.51234567901234573},null,7]
["2025-09-22",null,{"$f":"C183+IF(B184>0,B184,0)","v":88},{"$f":"D183-IF(B184<0,B184,0)","v":68},null,null,{"$f":"G183+IF(F184>0,F184,0)","v":80},{"$f":"H183-IF(F184<0,F184,0)","v":76},null,-1,{"$f":"K183+IF(J184>0,J184,0)","v":95},{"$f":"L183-IF(J184<0,J184,0)","v":62},null,null,{"$f":"O183+IF(N184>0,N184,0)","v":67},{"$f":"P183-IF(N184<0,N184,0)","v":89},null,1,{"$f":"S183+IF(R184>0,R184,0)","v":77},{"$f":"T183-IF(R184<0,R184,0)","v":80},null,null,{"$f":"W183+IF(V184>0,V184,0)","v":92},{"$f":"X183-IF(V184<0,V184,0)","v":64},null,null,89,67,null,null,20,4,33,-22,-3,28,22,null,6.5,14.5,0,{"$f":"(MAX($AE184:$AI184)-AH184)/2","v":27.5},{"$f":"(MAX($AE184:$AI184)-AI184)/2","v":18},null,null,null,{"$f":"AQ$1","v":"STL"},{"$f":"AQ$191","v":19},{"$f":"AQ$193","v":0.48148148148148145},null,6.5]
["2025-09-23",-1,88,69,null,-1,80,77,null,-1,{"$f":"K184+IF(J185>0,J185,0)","v":95},{"$f":"L184-IF(J185<0,J185,0)","v":63},null,1,68,89,null,1,78,80,null,-1,92,65,null,1,90,67,null,null,19,3,32,-21,-2,27,23,null,6.5,14.5,0,{"$f":"(MAX($AE185:$AI185)-AH185)/2","v":26.5},{"$f":"(MAX($AE185:$AI185)-AI185)/2","v":17},null,null,null,{"$f":"AP$1","v":"PIT"},{"$f":"AP$191","v":26},{"$f":"AP$193","v":0.43827160493827161},null,6.5]
["2025-09-24",1,89,69,null,-1,80,78,null,1,96,63,null,1,69,89,null,-1,78,81,null,1,93,65,null,-1,90,68,null,null,{"$f":"C186-D186","v":20},{"$f":"G186-H186","v":2},{"$f":"K186-L186","v":33},{"$f":"O186-P186","v":-20},{"$f":"S186-T186","v":-3},28,{"$f":"AA186-AB186","v":22},null,{"$f":"(MAX($AE186:$AI186)-AE186)/2","v":6.5},{"$f":"(MAX($AE186:$AI186)-AF186)/2","v":15.5},{"$f":"(MAX($AE186:$AI186)-AG186)/2","v":0},{"$f":"(MAX($AE186:$AI186)-AH186)/2","v":26.5},{"$f":"(MAX($AE186:$AI186)-AI186)/2","v":18},null,null,null,null,null,null,null,6.5]
["2025-09-25",-1,89,70,null,1,81,78,null,null,96,63,null,-1,69,90,null,null,78,81,null,1,94,65,null,1,91,68,null,null,19,3,33,-21,-3,29,23,null,7,15,0,{"$f":"(MAX($AE187:$AI187)-AH187)/2","v":27},{"$f":"(MAX($AE187:$AI187)-AI187)/2","v":18},null,null,null,null,null,null,null,7]
["2025-09-26",1,90,70,null,1,82,78,null,-1,96,64,null,1,70,90,null,-1,78,82,null,1,95,65,null,1,92,68,null,null,{"$f":"C188-D188","v":20},{"$f":"G188-H188","v":4},{"$f":"K188-L188","v":32},{"$f":"O188-P188","v":-20},{"$f":"S188-T188","v":-4},30,{"$f":"AA188-AB188","v":24},null,{"$f":"(MAX($AE188:$AI188)-AE188)/2","v":6},{"$f":"(MAX($AE188:$AI188)-AF188)/2","v":14},{"$f":"(MAX($AE188:$AI188)-AG188)/2","v":0},{"$f":"(MAX($AE188:$AI188)-AH188)/2","v":26},{"$f":"(MAX($AE188:$AI188)-AI188)/2","v":18},null,null,null,null,null,null,null,6]
["2025-09-27",1,91,70,null,1,83,78,null,-1,96,65,null,1,71,90,null,-1,78,83,null,-1,95,66,null,1,93,68,null,null,{"$f":"C189-D189","v":21},{"$f":"G189-H189","v":5},{"$f":"K189-L189","v":31},{"$f":"O189-P189","v":-19},{"$f":"S189-T189","v":-5},{"$f":"W189-X189","v":29},{"$f":"AA189-AB189","v":25},null,{"$f":"(MAX($AE189:$AI189)-AE189)/2","v":5},{"$f":"(MAX($AE189:$AI189)-AF189)/2","v":13},{"$f":"(MAX($AE189:$AI189)-AG189)/2","v":0},{"$f":"(MAX($AE189:$AI189)-AH189)/2","v":25},{"$f":"(MAX($AE189:$AI189)-AI189)/2","v":18},null,null,null,null,null,null,null,5]
["2025-09-28",1,92,70,null,-1,83,79,null,1,97,65,null,-1,71,91,null,-1,78,84,null,1,96,66,null,-1,93,69,null,null,22,4,32,-20,-6,30,24,null,5,14,0,26,19,null,null,null,null,null,null,null,5]
["2025-09-29",null,92,70,null,null,83,79,null,null,97,65,null,null,71,91,null,null,78,84,null,null,96,66,null,null,93,69,null,null,22,4,32,-20,-6,30,24,null,5,14,0,26,19,null,null,null,null,null,null,null,5]
[]
[null,null,null,null,null,null,null,null,null,null,null,null,null,null,null,null,null,null,null,null,null,null,null,null,null,null,null,null,null,null,null,null,null,null,null,null,null,null,{"$f":"C191/(C191+D191)","v":0.5679012345679012},{"$f":"G191/(G191+H191)","v":0.51234567901234573},{"$f":"K191/(K191+L191)","v":0.59876543209876543},{"$f":"O191/(O191+P191)","v":0.43827160493827161},{"$f":"S191/(S191+T191)","v":0.48148148148148145}]