Workbook

Sheet Chart
B2: =Data!AU181 -> MIL | C2: =Data!AV181 -> 0 | D2: =Data!AW181 -> 0.63580247
B3: =Data!AU182 -> CHC | C3: =Data!AV182 -> 14 | D3: =Data!AW182 -> 0.54938272
B4: =Data!AU183 -> PIT | C4: =Data!AV183 -> 21 | D4: =Data!AW183 -> 0.50617284
B5: =Data!AU184 -> STL | C5: =Data!AV184 -> 26 | D5: =Data!AW184 -> 0.47530864
B6: =Data!AU185 -> CIN | C6: =Data!AV185 -> 28 | D6: =Data!AW185 -> 0.46296296
G92: Y-Axis = Brewers' first-place lead in games (negative when trailing)
G94: Standings update automatically; split doubleheaders (0) are handled without manual edits

Sheet Data
A1: NLC26 | B1: CHC | C1: W | D1: L | F1: CIN | G1: W | H1: L | J1: MIL | K1: W | L1: L | N1: PIT | O1: W | P1: L | R1: STL | S1: W | T1: L | V1: LAD | W1: W | X1: L | Z1: 2025 | AA1: W | AB1: L | AE1: =B1 -> CHC | AF1: =F1 -> CIN | AG1: =J1 -> MIL | AH1: =N1 -> PIT | AI1: =R1 -> STL | AJ1: =V1 -> LAD | AK1: =Z1 -> 2025 | AM1: =AE1 -> CHC | AN1: =AF1 -> CIN | AO1: =AG1 -> MIL | AP1: =AH1 -> PIT | AQ1: =AI1 -> STL
A2: 46106 | C2: =0+IF(ISBLANK(B2),0,IF(B2=0,1,IF(B2>0,B2,0))) -> 0 | D2: =0+IF(ISBLANK(B2),0,IF(B2=0,1,IF(B2<0,-B2,0))) -> 0 | G2: =0+IF(ISBLANK(F2),0,IF(F2=0,1,IF(F2>0,F2,0))) -> 0 | H2: =0+IF(ISBLANK(F2),0,IF(F2=0,1,IF(F2<0,-F2,0))) -> 0 | K2: =0+IF(ISBLANK(J2),0,IF(J2=0,1,IF(J2>0,J2,0))) -> 0 | L2: =0+IF(ISBLANK(J2),0,IF(J2=0,1,IF(J2<0,-J2,0))) -> 0 | O2: =0+IF(ISBLANK(N2),0,IF(N2=0,1,IF(N2>0,N2,0))) -> 0 | P2: =0+IF(ISBLANK(N2),0,IF(N2=0,1,IF(N2<0,-N2,0))) -> 0 | S2: =0+IF(ISBLANK(R2),0,IF(R2=0,1,IF(R2>0,R2,0))) -> 0 | T2: =0+IF(ISBLANK(R2),0,IF(R2=0,1,IF(R2<0,-R2,0))) -> 0 | W2: =0+IF(ISBLANK(V2),0,IF(V2=0,1,IF(V2>0,V2,0))) -> 0 | X2: =0+IF(ISBLANK(V2),0,IF(V2=0,1,IF(V2<0,-V2,0))) -> 0 | AA2: =0+IF(ISBLANK(Z2),0,IF(Z2=0,1,IF(Z2>0,Z2,0))) -> 0 | AB2: =0+IF(ISBLANK(Z2),0,IF(Z2=0,1,IF(Z2<0,-Z2,0))) -> 0 | AE2: =C2-D2 -> 0 | AF2: =G2-H2 -> 0 | AG2: =K2-L2 -> 0 | AH2: =O2-P2 -> 0 | AI2: =S2-T2 -> 0 | AJ2: =W2-X2 -> 0 | AK2: =AA2-AB2 -> 0 | AM2: =(MAX($AE2:$AI2)-AE2)/2 -> 0 | AN2: =(MAX($AE2:$AI2)-AF2)/2 -> 0 | AO2: =(MAX($AE2:$AI2)-AG2)/2 -> 0 | AP2: =(MAX($AE2:$AI2)-AH2)/2 -> 0 | AQ2: =(MAX($AE2:$AI2)-AI2)/2 -> 0 | AY2: =IF(AO2=0,MIN(AM2:AN2,AP2:AQ2),0-AO2) -> 0
A3: 46107 | B3: -1 | C3: =C2+IF(ISBLANK(B3),0,IF(B3=0,1,IF(B3>0,B3,0))) -> 0 | D3: =D2+IF(ISBLANK(B3),0,IF(B3=0,1,IF(B3<0,-B3,0))) -> 1 | F3: -1 | G3: =G2+IF(ISBLANK(F3),0,IF(F3=0,1,IF(F3>0,F3,0))) -> 0 | H3: =H2+IF(ISBLANK(F3),0,IF(F3=0,1,IF(F3<0,-F3,0))) -> 1 | J3: 1 | K3: =K2+IF(ISBLANK(J3),0,IF(J3=0,1,IF(J3>0,J3,0))) -> 1 | L3: =L2+IF(ISBLANK(J3),0,IF(J3=0,1,IF(J3<0,-J3,0))) -> 0 | N3: -1 | O3: =O2+IF(ISBLANK(N3),0,IF(N3=0,1,IF(N3>0,N3,0))) -> 0 | P3: =P2+IF(ISBLANK(N3),0,IF(N3=0,1,IF(N3<0,-N3,0))) -> 1 | R3: 1 | S3: =S2+IF(ISBLANK(R3),0,IF(R3=0,1,IF(R3>0,R3,0))) -> 1 | T3: =T2+IF(ISBLANK(R3),0,IF(R3=0,1,IF(R3<0,-R3,0))) -> 0 | V3: 1 | W3: =W2+IF(ISBLANK(V3),0,IF(V3=0,1,IF(V3>0,V3,0))) -> 1 | X3: =X2+IF(ISBLANK(V3),0,IF(V3=0,1,IF(V3<0,-V3,0))) -> 0 | AA3: =AA2+IF(ISBLANK(Z3),0,IF(Z3=0,1,IF(Z3>0,Z3,0))) -> 0 | AB3: =AB2+IF(ISBLANK(Z3),0,IF(Z3=0,1,IF(Z3<0,-Z3,0))) -> 0 | AE3: =C3-D3 -> -1 | AF3: =G3-H3 -> -1 | AG3: =K3-L3 -> 1 | AH3: =O3-P3 -> -1 | AI3: =S3-T3 -> 1 | AJ3: =W3-X3 -> 1 | AK3: =AA3-AB3 -> 0 | AM3: =(MAX($AE3:$AI3)-AE3)/2 -> 1 | AN3: =(MAX($AE3:$AI3)-AF3)/2 -> 1 | AO3: =(MAX($AE3:$AI3)-AG3)/2 -> 0 | AP3: =(MAX($AE3:$AI3)-AH3)/2 -> 1 | AQ3: =(MAX($AE3:$AI3)-AI3)/2 -> 0 | AU3: =AU181 -> MIL | AV3: =AV181 -> 0 | AW3: =AW181 -> 0.63580247 | AY3: =IF(AO3=0,MIN(AM3:AN3,AP3:AQ3),0-AO3) -> 0
A4: 46108 | C4: =C3+IF(ISBLANK(B4),0,IF(B4=0,1,IF(B4>0,B4,0))) -> 0 | D4: =D3+IF(ISBLANK(B4),0,IF(B4=0,1,IF(B4<0,-B4,0))) -> 1 | G4: =G3+IF(ISBLANK(F4),0,IF(F4=0,1,IF(F4>0,F4,0))) -> 0 | H4: =H3+IF(ISBLANK(F4),0,IF(F4=0,1,IF(F4<0,-F4,0))) -> 1 | K4: =K3+IF(ISBLANK(J4),0,IF(J4=0,1,IF(J4>0,J4,0))) -> 1 | L4: =L3+IF(ISBLANK(J4),0,IF(J4=0,1,IF(J4<0,-J4,0))) -> 0 | O4: =O3+IF(ISBLANK(N4),0,IF(N4=0,1,IF(N4>0,N4,0))) -> 0 | P4: =P3+IF(ISBLANK(N4),0,IF(N4=0,1,IF(N4<0,-N4,0))) -> 1 | S4: =S3+IF(ISBLANK(R4),0,IF(R4=0,1,IF(R4>0,R4,0))) -> 1 | T4: =T3+IF(ISBLANK(R4),0,IF(R4=0,1,IF(R4<0,-R4,0))) -> 0 | V4: 1 | W4: =W3+IF(ISBLANK(V4),0,IF(V4=0,1,IF(V4>0,V4,0))) -> 2 | X4: =X3+IF(ISBLANK(V4),0,IF(V4=0,1,IF(V4<0,-V4,0))) -> 0 | Z4: -1 | AA4: =AA3+IF(ISBLANK(Z4),0,IF(Z4=0,1,IF(Z4>0,Z4,0))) -> 0 | AB4: =AB3+IF(ISBLANK(Z4),0,IF(Z4=0,1,IF(Z4<0,-Z4,0))) -> 1 | AE4: =C4-D4 -> -1 | AF4: =G4-H4 -> -1 | AG4: =K4-L4 -> 1 | AH4: =O4-P4 -> -1 | AI4: =S4-T4 -> 1 | AJ4: =W4-X4 -> 2 | AK4: =AA4-AB4 -> -1 | AM4: =(MAX($AE4:$AI4)-AE4)/2 -> 1 | AN4: =(MAX($AE4:$AI4)-AF4)/2 -> 1 | AO4: =(MAX($AE4:$AI4)-AG4)/2 -> 0 | AP4: =(MAX($AE4:$AI4)-AH4)/2 -> 1 | AQ4: =(MAX($AE4:$AI4)-AI4)/2 -> 0 | AU4: =AU182 -> CHC | AV4: =AV182 -> 14 | AW4: =AW182 -> 0.54938272 | AY4: =IF(AO4=0,MIN(AM4:AN4,AP4:AQ4),0-AO4) -> 0
A5: 46109 | B5: 1 | C5: =C4+IF(ISBLANK(B5),0,IF(B5=0,1,IF(B5>0,B5,0))) -> 1 | D5: =D4+IF(ISBLANK(B5),0,IF(B5=0,1,IF(B5<0,-B5,0))) -> 1 | F5: 1 | G5: =G4+IF(ISBLANK(F5),0,IF(F5=0,1,IF(F5>0,F5,0))) -> 1 | H5: =H4+IF(ISBLANK(F5),0,IF(F5=0,1,IF(F5<0,-F5,0))) -> 1 | J5: 1 | K5: =K4+IF(ISBLANK(J5),0,IF(J5=0,1,IF(J5>0,J5,0))) -> 2 | L5: =L4+IF(ISBLANK(J5),0,IF(J5=0,1,IF(J5<0,-J5,0))) -> 0 | N5: -1 | O5: =O4+IF(ISBLANK(N5),0,IF(N5=0,1,IF(N5>0,N5,0))) -> 0 | P5: =P4+IF(ISBLANK(N5),0,IF(N5=0,1,IF(N5<0,-N5,0))) -> 2 | R5: 1 | S5: =S4+IF(ISBLANK(R5),0,IF(R5=0,1,IF(R5>0,R5,0))) -> 2 | T5: =T4+IF(ISBLANK(R5),0,IF(R5=0,1,IF(R5<0,-R5,0))) -> 0 | V5: 1 | W5: =W4+IF(ISBLANK(V5),0,IF(V5=0,1,IF(V5>0,V5,0))) -> 3 | X5: =X4+IF(ISBLANK(V5),0,IF(V5=0,1,IF(V5<0,-V5,0))) -> 0 | AA5: =AA4+IF(ISBLANK(Z5),0,IF(Z5=0,1,IF(Z5>0,Z5,0))) -> 0 | AB5: =AB4+IF(ISBLANK(Z5),0,IF(Z5=0,1,IF(Z5<0,-Z5,0))) -> 1 | AE5: =C5-D5 -> 0 | AF5: =G5-H5 -> 0 | AG5: =K5-L5 -> 2 | AH5: =O5-P5 -> -2 | AI5: =S5-T5 -> 2 | AJ5: =W5-X5 -> 3 | AK5: =AA5-AB5 -> -1 | AM5: =(MAX($AE5:$AI5)-AE5)/2 -> 1 | AN5: =(MAX($AE5:$AI5)-AF5)/2 -> 1 | AO5: =(MAX($AE5:$AI5)-AG5)/2 -> 0 | AP5: =(MAX($AE5:$AI5)-AH5)/2 -> 2 | AQ5: =(MAX($AE5:$AI5)-AI5)/2 -> 0 | AU5: =AU183 -> PIT | AV5: =AV183 -> 21 | AW5: =AW183 -> 0.50617284 | AY5: =IF(AO5=0,MIN(AM5:AN5,AP5:AQ5),0-AO5) -> 0
A6: 46110 | B6: -1 | C6: =C5+IF(ISBLANK(B6),0,IF(B6=0,1,IF(B6>0,B6,0))) -> 1 | D6: =D5+IF(ISBLANK(B6),0,IF(B6=0,1,IF(B6<0,-B6,0))) -> 2 | F6: 1 | G6: =G5+IF(ISBLANK(F6),0,IF(F6=0,1,IF(F6>0,F6,0))) -> 2 | H6: =H5+IF(ISBLANK(F6),0,IF(F6=0,1,IF(F6<0,-F6,0))) -> 1 | J6: 1 | K6: =K5+IF(ISBLANK(J6),0,IF(J6=0,1,IF(J6>0,J6,0))) -> 3 | L6: =L5+IF(ISBLANK(J6),0,IF(J6=0,1,IF(J6<0,-J6,0))) -> 0 | N6: 1 | O6: =O5+IF(ISBLANK(N6),0,IF(N6=0,1,IF(N6>0,N6,0))) -> 1 | P6: =P5+IF(ISBLANK(N6),0,IF(N6=0,1,IF(N6<0,-N6,0))) -> 2 | R6: -1 | S6: =S5+IF(ISBLANK(R6),0,IF(R6=0,1,IF(R6>0,R6,0))) -> 2 | T6: =T5+IF(ISBLANK(R6),0,IF(R6=0,1,IF(R6<0,-R6,0))) -> 1 | W6: =W5+IF(ISBLANK(V6),0,IF(V6=0,1,IF(V6>0,V6,0))) -> 3 | X6: =X5+IF(ISBLANK(V6),0,IF(V6=0,1,IF(V6<0,-V6,0))) -> 0 | Z6: -1 | AA6: =AA5+IF(ISBLANK(Z6),0,IF(Z6=0,1,IF(Z6>0,Z6,0))) -> 0 | AB6: =AB5+IF(ISBLANK(Z6),0,IF(Z6=0,1,IF(Z6<0,-Z6,0))) -> 2 | AE6: =C6-D6 -> -1 | AF6: =G6-H6 -> 1 | AG6: =K6-L6 -> 3 | AH6: =O6-P6 -> -1 | AI6: =S6-T6 -> 1 | AJ6: =W6-X6 -> 3 | AK6: =AA6-AB6 -> -2 | AM6: =(MAX($AE6:$AI6)-AE6)/2 -> 2 | AN6: =(MAX($AE6:$AI6)-AF6)/2 -> 1 | AO6: =(MAX($AE6:$AI6)-AG6)/2 -> 0 | AP6: =(MAX($AE6:$AI6)-AH6)/2 -> 2 | AQ6: =(MAX($AE6:$AI6)-AI6)/2 -> 1 | AU6: =AU184 -> STL | AV6: =AV184 -> 26 | AW6: =AW184 -> 0.47530864 | AY6: =IF(AO6=0,MIN(AM6:AN6,AP6:AQ6),0-AO6) -> 1
A7: 46111 | B7: 1 | C7: =C6+IF(ISBLANK(B7),0,IF(B7=0,1,IF(B7>0,B7,0))) -> 2 | D7: =D6+IF(ISBLANK(B7),0,IF(B7=0,1,IF(B7<0,-B7,0))) -> 2 | F7: 1 | G7: =G6+IF(ISBLANK(F7),0,IF(F7=0,1,IF(F7>0,F7,0))) -> 3 | H7: =H6+IF(ISBLANK(F7),0,IF(F7=0,1,IF(F7<0,-F7,0))) -> 1 | J7: -1 | K7: =K6+IF(ISBLANK(J7),0,IF(J7=0,1,IF(J7>0,J7,0))) -> 3 | L7: =L6+IF(ISBLANK(J7),0,IF(J7=0,1,IF(J7<0,-J7,0))) -> 1 | N7: -1 | O7: =O6+IF(ISBLANK(N7),0,IF(N7=0,1,IF(N7>0,N7,0))) -> 1 | P7: =P6+IF(ISBLANK(N7),0,IF(N7=0,1,IF(N7<0,-N7,0))) -> 3 | R7: -1 | S7: =S6+IF(ISBLANK(R7),0,IF(R7=0,1,IF(R7>0,R7,0))) -> 2 | T7: =T6+IF(ISBLANK(R7),0,IF(R7=0,1,IF(R7<0,-R7,0))) -> 2 | V7: -1 | W7: =W6+IF(ISBLANK(V7),0,IF(V7=0,1,IF(V7>0,V7,0))) -> 3 | X7: =X6+IF(ISBLANK(V7),0,IF(V7=0,1,IF(V7<0,-V7,0))) -> 1 | Z7: -1 | AA7: =AA6+IF(ISBLANK(Z7),0,IF(Z7=0,1,IF(Z7>0,Z7,0))) -> 0 | AB7: =AB6+IF(ISBLANK(Z7),0,IF(Z7=0,1,IF(Z7<0,-Z7,0))) -> 3 | AE7: =C7-D7 -> 0 | AF7: =G7-H7 -> 2 | AG7: =K7-L7 -> 2 | AH7: =O7-P7 -> -2 | AI7: =S7-T7 -> 0 | AJ7: =W7-X7 -> 2 | AK7: =AA7-AB7 -> -3 | AM7: =(MAX($AE7:$AI7)-AE7)/2 -> 1 | AN7: =(MAX($AE7:$AI7)-AF7)/2 -> 0 | AO7: =(MAX($AE7:$AI7)-AG7)/2 -> 0 | AP7: =(MAX($AE7:$AI7)-AH7)/2 -> 2 | AQ7: =(MAX($AE7:$AI7)-AI7)/2 -> 1 | AU7: =AU185 -> CIN | AV7: =AV185 -> 28 | AW7: =AW185 -> 0.46296296 | AY7: =IF(AO7=0,MIN(AM7:AN7,AP7:AQ7),0-AO7) -> 0
A8: 46112 | B8: -1 | C8: =C7+IF(ISBLANK(B8),0,IF(B8=0,1,IF(B8>0,B8,0))) -> 2 | D8: =D7+IF(ISBLANK(B8),0,IF(B8=0,1,IF(B8<0,-B8,0))) -> 3 | F8: -1 | G8: =G7+IF(ISBLANK(F8),0,IF(F8=0,1,IF(F8>0,F8,0))) -> 3 | H8: =H7+IF(ISBLANK(F8),0,IF(F8=0,1,IF(F8<0,-F8,0))) -> 2 | J8: 1 | K8: =K7+IF(ISBLANK(J8),0,IF(J8=0,1,IF(J8>0,J8,0))) -> 4 | L8: =L7+IF(ISBLANK(J8),0,IF(J8=0,1,IF(J8<0,-J8,0))) -> 1 | N8: 1 | O8: =O7+IF(ISBLANK(N8),0,IF(N8=0,1,IF(N8>0,N8,0))) -> 2 | P8: =P7+IF(ISBLANK(N8),0,IF(N8=0,1,IF(N8<0,-N8,0))) -> 3 | R8: 1 | S8: =S7+IF(ISBLANK(R8),0,IF(R8=0,1,IF(R8>0,R8,0))) -> 3 | T8: =T7+IF(ISBLANK(R8),0,IF(R8=0,1,IF(R8<0,-R8,0))) -> 2 | V8: 1 | W8: =W7+IF(ISBLANK(V8),0,IF(V8=0,1,IF(V8>0,V8,0))) -> 4 | X8: =X7+IF(ISBLANK(V8),0,IF(V8=0,1,IF(V8<0,-V8,0))) -> 1 | Z8: -1 | AA8: =AA7+IF(ISBLANK(Z8),0,IF(Z8=0,1,IF(Z8>0,Z8,0))) -> 0 | AB8: =AB7+IF(ISBLANK(Z8),0,IF(Z8=0,1,IF(Z8<0,-Z8,0))) -> 4 | AE8: =C8-D8 -> -1 | AF8: =G8-H8 -> 1 | AG8: =K8-L8 -> 3 | AH8: =O8-P8 -> -1 | AI8: =S8-T8 -> 1 | AJ8: =W8-X8 -> 3 | AK8: =AA8-AB8 -> -4 | AM8: =(MAX($AE8:$AI8)-AE8)/2 -> 2 | AN8: =(MAX($AE8:$AI8)-AF8)/2 -> 1 | AO8: =(MAX($AE8:$AI8)-AG8)/2 -> 0 | AP8: =(MAX($AE8:$AI8)-AH8)/2 -> 2 | AQ8: =(MAX($AE8:$AI8)-AI8)/2 -> 1 | AY8: =IF(AO8=0,MIN(AM8:AN8,AP8:AQ8),0-AO8) -> 1
A9: 46113 | B9: 1 | C9: =C8+IF(ISBLANK(B9),0,IF(B9=0,1,IF(B9>0,B9,0))) -> 3 | D9: =D8+IF(ISBLANK(B9),0,IF(B9=0,1,IF(B9<0,-B9,0))) -> 3 | F9: -1 | G9: =G8+IF(ISBLANK(F9),0,IF(F9=0,1,IF(F9>0,F9,0))) -> 3 | H9: =H8+IF(ISBLANK(F9),0,IF(F9=0,1,IF(F9<0,-F9,0))) -> 3 | J9: 1 | K9: =K8+IF(ISBLANK(J9),0,IF(J9=0,1,IF(J9>0,J9,0))) -> 5 | L9: =L8+IF(ISBLANK(J9),0,IF(J9=0,1,IF(J9<0,-J9,0))) -> 1 | N9: 1 | O9: =O8+IF(ISBLANK(N9),0,IF(N9=0,1,IF(N9>0,N9,0))) -> 3 | P9: =P8+IF(ISBLANK(N9),0,IF(N9=0,1,IF(N9<0,-N9,0))) -> 3 | R9: 1 | S9: =S8+IF(ISBLANK(R9),0,IF(R9=0,1,IF(R9>0,R9,0))) -> 4 | T9: =T8+IF(ISBLANK(R9),0,IF(R9=0,1,IF(R9<0,-R9,0))) -> 2 | V9: -1 | W9: =W8+IF(ISBLANK(V9),0,IF(V9=0,1,IF(V9>0,V9,0))) -> 4 | X9: =X8+IF(ISBLANK(V9),0,IF(V9=0,1,IF(V9<0,-V9,0))) -> 2 | Z9: 1 | AA9: =AA8+IF(ISBLANK(Z9),0,IF(Z9=0,1,IF(Z9>0,Z9,0))) -> 1 | AB9: =AB8+IF(ISBLANK(Z9),0,IF(Z9=0,1,IF(Z9<0,-Z9,0))) -> 4 | AE9: =C9-D9 -> 0 | AF9: =G9-H9 -> 0 | AG9: =K9-L9 -> 4 | AH9: =O9-P9 -> 0 | AI9: =S9-T9 -> 2 | AJ9: =W9-X9 -> 2 | AK9: =AA9-AB9 -> -3 | AM9: =(MAX($AE9:$AI9)-AE9)/2 -> 2 | AN9: =(MAX($AE9:$AI9)-AF9)/2 -> 2 | AO9: =(MAX($AE9:$AI9)-AG9)/2 -> 0 | AP9: =(MAX($AE9:$AI9)-AH9)/2 -> 2 | AQ9: =(MAX($AE9:$AI9)-AI9)/2 -> 1 | AY9: =IF(AO9=0,MIN(AM9:AN9,AP9:AQ9),0-AO9) -> 1
A10: 46114 | C10: =C9+IF(ISBLANK(B10),0,IF(B10=0,1,IF(B10>0,B10,0))) -> 3 | D10: =D9+IF(ISBLANK(B10),0,IF(B10=0,1,IF(B10<0,-B10,0))) -> 3 | G10: =G9+IF(ISBLANK(F10),0,IF(F10=0,1,IF(F10>0,F10,0))) -> 3 | H10: =H9+IF(ISBLANK(F10),0,IF(F10=0,1,IF(F10<0,-F10,0))) -> 3 | K10: =K9+IF(ISBLANK(J10),0,IF(J10=0,1,IF(J10>0,J10,0))) -> 5 | L10: =L9+IF(ISBLANK(J10),0,IF(J10=0,1,IF(J10<0,-J10,0))) -> 1 | O10: =O9+IF(ISBLANK(N10),0,IF(N10=0,1,IF(N10>0,N10,0))) -> 3 | P10: =P9+IF(ISBLANK(N10),0,IF(N10=0,1,IF(N10<0,-N10,0))) -> 3 | S10: =S9+IF(ISBLANK(R10),0,IF(R10=0,1,IF(R10>0,R10,0))) -> 4 | T10: =T9+IF(ISBLANK(R10),0,IF(R10=0,1,IF(R10<0,-R10,0))) -> 2 | W10: =W9+IF(ISBLANK(V10),0,IF(V10=0,1,IF(V10>0,V10,0))) -> 4 | X10: =X9+IF(ISBLANK(V10),0,IF(V10=0,1,IF(V10<0,-V10,0))) -> 2 | Z10: 1 | AA10: =AA9+IF(ISBLANK(Z10),0,IF(Z10=0,1,IF(Z10>0,Z10,0))) -> 2 | AB10: =AB9+IF(ISBLANK(Z10),0,IF(Z10=0,1,IF(Z10<0,-Z10,0))) -> 4 | AE10: =C10-D10 -> 0 | AF10: =G10-H10 -> 0 | AG10: =K10-L10 -> 4 | AH10: =O10-P10 -> 0 | AI10: =S10-T10 -> 2 | AJ10: =W10-X10 -> 2 | AK10: =AA10-AB10 -> -2 | AM10: =(MAX($AE10:$AI10)-AE10)/2 -> 2 | AN10: =(MAX($AE10:$AI10)-AF10)/2 -> 2 | AO10: =(MAX($AE10:$AI10)-AG10)/2 -> 0 | AP10: =(MAX($AE10:$AI10)-AH10)/2 -> 2 | AQ10: =(MAX($AE10:$AI10)-AI10)/2 -> 1 | AY10: =IF(AO10=0,MIN(AM10:AN10,AP10:AQ10),0-AO10) -> 1
A11: 46115 | B11: -1 | C11: =C10+IF(ISBLANK(B11),0,IF(B11=0,1,IF(B11>0,B11,0))) -> 3 | D11: =D10+IF(ISBLANK(B11),0,IF(B11=0,1,IF(B11<0,-B11,0))) -> 4 | F11: 1 | G11: =G10+IF(ISBLANK(F11),0,IF(F11=0,1,IF(F11>0,F11,0))) -> 4 | H11: =H10+IF(ISBLANK(F11),0,IF(F11=0,1,IF(F11<0,-F11,0))) -> 3 | K11: =K10+IF(ISBLANK(J11),0,IF(J11=0,1,IF(J11>0,J11,0))) -> 5 | L11: =L10+IF(ISBLANK(J11),0,IF(J11=0,1,IF(J11<0,-J11,0))) -> 1 | N11: 1 | O11: =O10+IF(ISBLANK(N11),0,IF(N11=0,1,IF(N11>0,N11,0))) -> 4 | P11: =P10+IF(ISBLANK(N11),0,IF(N11=0,1,IF(N11<0,-N11,0))) -> 3 | R11: -1 | S11: =S10+IF(ISBLANK(R11),0,IF(R11=0,1,IF(R11>0,R11,0))) -> 4 | T11: =T10+IF(ISBLANK(R11),0,IF(R11=0,1,IF(R11<0,-R11,0))) -> 3 | V11: 1 | W11: =W10+IF(ISBLANK(V11),0,IF(V11=0,1,IF(V11>0,V11,0))) -> 5 | X11: =X10+IF(ISBLANK(V11),0,IF(V11=0,1,IF(V11<0,-V11,0))) -> 2 | Z11: 1 | AA11: =AA10+IF(ISBLANK(Z11),0,IF(Z11=0,1,IF(Z11>0,Z11,0))) -> 3 | AB11: =AB10+IF(ISBLANK(Z11),0,IF(Z11=0,1,IF(Z11<0,-Z11,0))) -> 4 | AE11: =C11-D11 -> -1 | AF11: =G11-H11 -> 1 | AG11: =K11-L11 -> 4 | AH11: =O11-P11 -> 1 | AI11: =S11-T11 -> 1 | AJ11: =W11-X11 -> 3 | AK11: =AA11-AB11 -> -1 | AM11: =(MAX($AE11:$AI11)-AE11)/2 -> 2.5 | AN11: =(MAX($AE11:$AI11)-AF11)/2 -> 1.5 | AO11: =(MAX($AE11:$AI11)-AG11)/2 -> 0 | AP11: =(MAX($AE11:$AI11)-AH11)/2 -> 1.5 | AQ11: =(MAX($AE11:$AI11)-AI11)/2 -> 1.5 | AY11: =IF(AO11=0,MIN(AM11:AN11,AP11:AQ11),0-AO11) -> 1.5
A12: 46116 | C12: =C11+IF(ISBLANK(B12),0,IF(B12=0,1,IF(B12>0,B12,0))) -> 3 | D12: =D11+IF(ISBLANK(B12),0,IF(B12=0,1,IF(B12<0,-B12,0))) -> 4 | F12: 1 | G12: =G11+IF(ISBLANK(F12),0,IF(F12=0,1,IF(F12>0,F12,0))) -> 5 | H12: =H11+IF(ISBLANK(F12),0,IF(F12=0,1,IF(F12<0,-F12,0))) -> 3 | J12: 0 | K12: =K11+IF(ISBLANK(J12),0,IF(J12=0,1,IF(J12>0,J12,0))) -> 6 | L12: =L11+IF(ISBLANK(J12),0,IF(J12=0,1,IF(J12<0,-J12,0))) -> 2 | N12: 1 | O12: =O11+IF(ISBLANK(N12),0,IF(N12=0,1,IF(N12>0,N12,0))) -> 5 | P12: =P11+IF(ISBLANK(N12),0,IF(N12=0,1,IF(N12<0,-N12,0))) -> 3 | R12: -1 | S12: =S11+IF(ISBLANK(R12),0,IF(R12=0,1,IF(R12>0,R12,0))) -> 4 | T12: =T11+IF(ISBLANK(R12),0,IF(R12=0,1,IF(R12<0,-R12,0))) -> 4 | V12: 1 | W12: =W11+IF(ISBLANK(V12),0,IF(V12=0,1,IF(V12>0,V12,0))) -> 6 | X12: =X11+IF(ISBLANK(V12),0,IF(V12=0,1,IF(V12<0,-V12,0))) -> 2 | Z12: 1 | AA12: =AA11+IF(ISBLANK(Z12),0,IF(Z12=0,1,IF(Z12>0,Z12,0))) -> 4 | AB12: =AB11+IF(ISBLANK(Z12),0,IF(Z12=0,1,IF(Z12<0,-Z12,0))) -> 4 | AE12: =C12-D12 -> -1 | AF12: =G12-H12 -> 2 | AG12: =K12-L12 -> 4 | AH12: =O12-P12 -> 2 | AI12: =S12-T12 -> 0 | AJ12: =W12-X12 -> 4 | AK12: =AA12-AB12 -> 0 | AM12: =(MAX($AE12:$AI12)-AE12)/2 -> 2.5 | AN12: =(MAX($AE12:$AI12)-AF12)/2 -> 1 | AO12: =(MAX($AE12:$AI12)-AG12)/2 -> 0 | AP12: =(MAX($AE12:$AI12)-AH12)/2 -> 1 | AQ12: =(MAX($AE12:$AI12)-AI12)/2 -> 2 | AY12: =IF(AO12=0,MIN(AM12:AN12,AP12:AQ12),0-AO12) -> 1
A13: 46117 | B13: 0 | C13: =C12+IF(ISBLANK(B13),0,IF(B13=0,1,IF(B13>0,B13,0))) -> 4 | D13: =D12+IF(ISBLANK(B13),0,IF(B13=0,1,IF(B13<0,-B13,0))) -> 5 | F13: 1 | G13: =G12+IF(ISBLANK(F13),0,IF(F13=0,1,IF(F13>0,F13,0))) -> 6 | H13: =H12+IF(ISBLANK(F13),0,IF(F13=0,1,IF(F13<0,-F13,0))) -> 3 | J13: 1 | K13: =K12+IF(ISBLANK(J13),0,IF(J13=0,1,IF(J13>0,J13,0))) -> 7 | L13: =L12+IF(ISBLANK(J13),0,IF(J13=0,1,IF(J13<0,-J13,0))) -> 2 | N13: 1 | O13: =O12+IF(ISBLANK(N13),0,IF(N13=0,1,IF(N13>0,N13,0))) -> 6 | P13: =P12+IF(ISBLANK(N13),0,IF(N13=0,1,IF(N13<0,-N13,0))) -> 3 | R13: 1 | S13: =S12+IF(ISBLANK(R13),0,IF(R13=0,1,IF(R13>0,R13,0))) -> 5 | T13: =T12+IF(ISBLANK(R13),0,IF(R13=0,1,IF(R13<0,-R13,0))) -> 4 | V13: 1 | W13: =W12+IF(ISBLANK(V13),0,IF(V13=0,1,IF(V13>0,V13,0))) -> 7 | X13: =X12+IF(ISBLANK(V13),0,IF(V13=0,1,IF(V13<0,-V13,0))) -> 2 | Z13: -1 | AA13: =AA12+IF(ISBLANK(Z13),0,IF(Z13=0,1,IF(Z13>0,Z13,0))) -> 4 | AB13: =AB12+IF(ISBLANK(Z13),0,IF(Z13=0,1,IF(Z13<0,-Z13,0))) -> 5 | AE13: =C13-D13 -> -1 | AF13: =G13-H13 -> 3 | AG13: =K13-L13 -> 5 | AH13: =O13-P13 -> 3 | AI13: =S13-T13 -> 1 | AJ13: =W13-X13 -> 5 | AK13: =AA13-AB13 -> -1 | AM13: =(MAX($AE13:$AI13)-AE13)/2 -> 3 | AN13: =(MAX($AE13:$AI13)-AF13)/2 -> 1 | AO13: =(MAX($AE13:$AI13)-AG13)/2 -> 0 | AP13: =(MAX($AE13:$AI13)-AH13)/2 -> 1 | AQ13: =(MAX($AE13:$AI13)-AI13)/2 -> 2 | AY13: =IF(AO13=0,MIN(AM13:AN13,AP13:AQ13),0-AO13) -> 1
A14: 46118 | B14: -1 | C14: =C13+IF(ISBLANK(B14),0,IF(B14=0,1,IF(B14>0,B14,0))) -> 4 | D14: =D13+IF(ISBLANK(B14),0,IF(B14=0,1,IF(B14<0,-B14,0))) -> 6 | F14: 1 | G14: =G13+IF(ISBLANK(F14),0,IF(F14=0,1,IF(F14>0,F14,0))) -> 7 | H14: =H13+IF(ISBLANK(F14),0,IF(F14=0,1,IF(F14<0,-F14,0))) -> 3 | J14: 1 | K14: =K13+IF(ISBLANK(J14),0,IF(J14=0,1,IF(J14>0,J14,0))) -> 8 | L14: =L13+IF(ISBLANK(J14),0,IF(J14=0,1,IF(J14<0,-J14,0))) -> 2 | N14: -1 | O14: =O13+IF(ISBLANK(N14),0,IF(N14=0,1,IF(N14>0,N14,0))) -> 6 | P14: =P13+IF(ISBLANK(N14),0,IF(N14=0,1,IF(N14<0,-N14,0))) -> 4 | R14: -1 | S14: =S13+IF(ISBLANK(R14),0,IF(R14=0,1,IF(R14>0,R14,0))) -> 5 | T14: =T13+IF(ISBLANK(R14),0,IF(R14=0,1,IF(R14<0,-R14,0))) -> 5 | V14: 1 | W14: =W13+IF(ISBLANK(V14),0,IF(V14=0,1,IF(V14>0,V14,0))) -> 8 | X14: =X13+IF(ISBLANK(V14),0,IF(V14=0,1,IF(V14<0,-V14,0))) -> 2 | Z14: 1 | AA14: =AA13+IF(ISBLANK(Z14),0,IF(Z14=0,1,IF(Z14>0,Z14,0))) -> 5 | AB14: =AB13+IF(ISBLANK(Z14),0,IF(Z14=0,1,IF(Z14<0,-Z14,0))) -> 5 | AE14: =C14-D14 -> -2 | AF14: =G14-H14 -> 4 | AG14: =K14-L14 -> 6 | AH14: =O14-P14 -> 2 | AI14: =S14-T14 -> 0 | AJ14: =W14-X14 -> 6 | AK14: =AA14-AB14 -> 0 | AM14: =(MAX($AE14:$AI14)-AE14)/2 -> 4 | AN14: =(MAX($AE14:$AI14)-AF14)/2 -> 1 | AO14: =(MAX($AE14:$AI14)-AG14)/2 -> 0 | AP14: =(MAX($AE14:$AI14)-AH14)/2 -> 2 | AQ14: =(MAX($AE14:$AI14)-AI14)/2 -> 3 | AY14: =IF(AO14=0,MIN(AM14:AN14,AP14:AQ14),0-AO14) -> 1
A15: 46119 | B15: 1 | C15: =C14+IF(ISBLANK(B15),0,IF(B15=0,1,IF(B15>0,B15,0))) -> 5 | D15: =D14+IF(ISBLANK(B15),0,IF(B15=0,1,IF(B15<0,-B15,0))) -> 6 | F15: 1 | G15: =G14+IF(ISBLANK(F15),0,IF(F15=0,1,IF(F15>0,F15,0))) -> 8 | H15: =H14+IF(ISBLANK(F15),0,IF(F15=0,1,IF(F15<0,-F15,0))) -> 3 | J15: -1 | K15: =K14+IF(ISBLANK(J15),0,IF(J15=0,1,IF(J15>0,J15,0))) -> 8 | L15: =L14+IF(ISBLANK(J15),0,IF(J15=0,1,IF(J15<0,-J15,0))) -> 3 | N15: 1 | O15: =O14+IF(ISBLANK(N15),0,IF(N15=0,1,IF(N15>0,N15,0))) -> 7 | P15: =P14+IF(ISBLANK(N15),0,IF(N15=0,1,IF(N15<0,-N15,0))) -> 4 | R15: 1 | S15: =S14+IF(ISBLANK(R15),0,IF(R15=0,1,IF(R15>0,R15,0))) -> 6 | T15: =T14+IF(ISBLANK(R15),0,IF(R15=0,1,IF(R15<0,-R15,0))) -> 5 | V15: 1 | W15: =W14+IF(ISBLANK(V15),0,IF(V15=0,1,IF(V15>0,V15,0))) -> 9 | X15: =X14+IF(ISBLANK(V15),0,IF(V15=0,1,IF(V15<0,-V15,0))) -> 2 | AA15: =AA14+IF(ISBLANK(Z15),0,IF(Z15=0,1,IF(Z15>0,Z15,0))) -> 5 | AB15: =AB14+IF(ISBLANK(Z15),0,IF(Z15=0,1,IF(Z15<0,-Z15,0))) -> 5 | AE15: =C15-D15 -> -1 | AF15: =G15-H15 -> 5 | AG15: =K15-L15 -> 5 | AH15: =O15-P15 -> 3 | AI15: =S15-T15 -> 1 | AJ15: =W15-X15 -> 7 | AK15: =AA15-AB15 -> 0 | AM15: =(MAX($AE15:$AI15)-AE15)/2 -> 3 | AN15: =(MAX($AE15:$AI15)-AF15)/2 -> 0 | AO15: =(MAX($AE15:$AI15)-AG15)/2 -> 0 | AP15: =(MAX($AE15:$AI15)-AH15)/2 -> 1 | AQ15: =(MAX($AE15:$AI15)-AI15)/2 -> 2 | AY15: =IF(AO15=0,MIN(AM15:AN15,AP15:AQ15),0-AO15) -> 0
A16: 46120 | B16: 1 | C16: =C15+IF(ISBLANK(B16),0,IF(B16=0,1,IF(B16>0,B16,0))) -> 6 | D16: =D15+IF(ISBLANK(B16),0,IF(B16=0,1,IF(B16<0,-B16,0))) -> 6 | F16: -1 | G16: =G15+IF(ISBLANK(F16),0,IF(F16=0,1,IF(F16>0,F16,0))) -> 8 | H16: =H15+IF(ISBLANK(F16),0,IF(F16=0,1,IF(F16<0,-F16,0))) -> 4 | J16: -1 | K16: =K15+IF(ISBLANK(J16),0,IF(J16=0,1,IF(J16>0,J16,0))) -> 8 | L16: =L15+IF(ISBLANK(J16),0,IF(J16=0,1,IF(J16<0,-J16,0))) -> 4 | N16: -1 | O16: =O15+IF(ISBLANK(N16),0,IF(N16=0,1,IF(N16>0,N16,0))) -> 7 | P16: =P15+IF(ISBLANK(N16),0,IF(N16=0,1,IF(N16<0,-N16,0))) -> 5 | R16: 1 | S16: =S15+IF(ISBLANK(R16),0,IF(R16=0,1,IF(R16>0,R16,0))) -> 7 | T16: =T15+IF(ISBLANK(R16),0,IF(R16=0,1,IF(R16<0,-R16,0))) -> 5 | V16: -1 | W16: =W15+IF(ISBLANK(V16),0,IF(V16=0,1,IF(V16>0,V16,0))) -> 9 | X16: =X15+IF(ISBLANK(V16),0,IF(V16=0,1,IF(V16<0,-V16,0))) -> 3 | Z16: 1 | AA16: =AA15+IF(ISBLANK(Z16),0,IF(Z16=0,1,IF(Z16>0,Z16,0))) -> 6 | AB16: =AB15+IF(ISBLANK(Z16),0,IF(Z16=0,1,IF(Z16<0,-Z16,0))) -> 5 | AE16: =C16-D16 -> 0 | AF16: =G16-H16 -> 4 | AG16: =K16-L16 -> 4 | AH16: =O16-P16 -> 2 | AI16: =S16-T16 -> 2 | AJ16: =W16-X16 -> 6 | AK16: =AA16-AB16 -> 1 | AM16: =(MAX($AE16:$AI16)-AE16)/2 -> 2 | AN16: =(MAX($AE16:$AI16)-AF16)/2 -> 0 | AO16: =(MAX($AE16:$AI16)-AG16)/2 -> 0 | AP16: =(MAX($AE16:$AI16)-AH16)/2 -> 1 | AQ16: =(MAX($AE16:$AI16)-AI16)/2 -> 1 | AY16: =IF(AO16=0,MIN(AM16:AN16,AP16:AQ16),0-AO16) -> 0
A17: 46121 | C17: =C16+IF(ISBLANK(B17),0,IF(B17=0,1,IF(B17>0,B17,0))) -> 6 | D17: =D16+IF(ISBLANK(B17),0,IF(B17=0,1,IF(B17<0,-B17,0))) -> 6 | F17: -1 | G17: =G16+IF(ISBLANK(F17),0,IF(F17=0,1,IF(F17>0,F17,0))) -> 8 | H17: =H16+IF(ISBLANK(F17),0,IF(F17=0,1,IF(F17<0,-F17,0))) -> 5 | K17: =K16+IF(ISBLANK(J17),0,IF(J17=0,1,IF(J17>0,J17,0))) -> 8 | L17: =L16+IF(ISBLANK(J17),0,IF(J17=0,1,IF(J17<0,-J17,0))) -> 4 | O17: =O16+IF(ISBLANK(N17),0,IF(N17=0,1,IF(N17>0,N17,0))) -> 7 | P17: =P16+IF(ISBLANK(N17),0,IF(N17=0,1,IF(N17<0,-N17,0))) -> 5 | S17: =S16+IF(ISBLANK(R17),0,IF(R17=0,1,IF(R17>0,R17,0))) -> 7 | T17: =T16+IF(ISBLANK(R17),0,IF(R17=0,1,IF(R17<0,-R17,0))) -> 5 | W17: =W16+IF(ISBLANK(V17),0,IF(V17=0,1,IF(V17>0,V17,0))) -> 9 | X17: =X16+IF(ISBLANK(V17),0,IF(V17=0,1,IF(V17<0,-V17,0))) -> 3 | Z17: 1 | AA17: =AA16+IF(ISBLANK(Z17),0,IF(Z17=0,1,IF(Z17>0,Z17,0))) -> 7 | AB17: =AB16+IF(ISBLANK(Z17),0,IF(Z17=0,1,IF(Z17<0,-Z17,0))) -> 5 | AE17: =C17-D17 -> 0 | AF17: =G17-H17 -> 3 | AG17: =K17-L17 -> 4 | AH17: =O17-P17 -> 2 | AI17: =S17-T17 -> 2 | AJ17: =W17-X17 -> 6 | AK17: =AA17-AB17 -> 2 | AM17: =(MAX($AE17:$AI17)-AE17)/2 -> 2 | AN17: =(MAX($AE17:$AI17)-AF17)/2 -> 0.5 | AO17: =(MAX($AE17:$AI17)-AG17)/2 -> 0 | AP17: =(MAX($AE17:$AI17)-AH17)/2 -> 1 | AQ17: =(MAX($AE17:$AI17)-AI17)/2 -> 1 | AY17: =IF(AO17=0,MIN(AM17:AN17,AP17:AQ17),0-AO17) -> 0.5
A18: 46122 | B18: -1 | C18: =C17+IF(ISBLANK(B18),0,IF(B18=0,1,IF(B18>0,B18,0))) -> 6 | D18: =D17+IF(ISBLANK(B18),0,IF(B18=0,1,IF(B18<0,-B18,0))) -> 7 | F18: -1 | G18: =G17+IF(ISBLANK(F18),0,IF(F18=0,1,IF(F18>0,F18,0))) -> 8 | H18: =H17+IF(ISBLANK(F18),0,IF(F18=0,1,IF(F18<0,-F18,0))) -> 6 | J18: -1 | K18: =K17+IF(ISBLANK(J18),0,IF(J18=0,1,IF(J18>0,J18,0))) -> 8 | L18: =L17+IF(ISBLANK(J18),0,IF(J18=0,1,IF(J18<0,-J18,0))) -> 5 | N18: 1 | O18: =O17+IF(ISBLANK(N18),0,IF(N18=0,1,IF(N18>0,N18,0))) -> 8 | P18: =P17+IF(ISBLANK(N18),0,IF(N18=0,1,IF(N18<0,-N18,0))) -> 5 | R18: 1 | S18: =S17+IF(ISBLANK(R18),0,IF(R18=0,1,IF(R18>0,R18,0))) -> 8 | T18: =T17+IF(ISBLANK(R18),0,IF(R18=0,1,IF(R18<0,-R18,0))) -> 5 | V18: 1 | W18: =W17+IF(ISBLANK(V18),0,IF(V18=0,1,IF(V18>0,V18,0))) -> 10 | X18: =X17+IF(ISBLANK(V18),0,IF(V18=0,1,IF(V18<0,-V18,0))) -> 3 | Z18: -1 | AA18: =AA17+IF(ISBLANK(Z18),0,IF(Z18=0,1,IF(Z18>0,Z18,0))) -> 7 | AB18: =AB17+IF(ISBLANK(Z18),0,IF(Z18=0,1,IF(Z18<0,-Z18,0))) -> 6 | AE18: =C18-D18 -> -1 | AF18: =G18-H18 -> 2 | AG18: =K18-L18 -> 3 | AH18: =O18-P18 -> 3 | AI18: =S18-T18 -> 3 | AJ18: =W18-X18 -> 7 | AK18: =AA18-AB18 -> 1 | AM18: =(MAX($AE18:$AI18)-AE18)/2 -> 2 | AN18: =(MAX($AE18:$AI18)-AF18)/2 -> 0.5 | AO18: =(MAX($AE18:$AI18)-AG18)/2 -> 0 | AP18: =(MAX($AE18:$AI18)-AH18)/2 -> 0 | AQ18: =(MAX($AE18:$AI18)-AI18)/2 -> 0 | AY18: =IF(AO18=0,MIN(AM18:AN18,AP18:AQ18),0-AO18) -> 0
A19: 46123 | B19: -1 | C19: =C18+IF(ISBLANK(B19),0,IF(B19=0,1,IF(B19>0,B19,0))) -> 6 | D19: =D18+IF(ISBLANK(B19),0,IF(B19=0,1,IF(B19<0,-B19,0))) -> 8 | F19: 1 | G19: =G18+IF(ISBLANK(F19),0,IF(F19=0,1,IF(F19>0,F19,0))) -> 9 | H19: =H18+IF(ISBLANK(F19),0,IF(F19=0,1,IF(F19<0,-F19,0))) -> 6 | J19: -1 | K19: =K18+IF(ISBLANK(J19),0,IF(J19=0,1,IF(J19>0,J19,0))) -> 8 | L19: =L18+IF(ISBLANK(J19),0,IF(J19=0,1,IF(J19<0,-J19,0))) -> 6 | N19: 1 | O19: =O18+IF(ISBLANK(N19),0,IF(N19=0,1,IF(N19>0,N19,0))) -> 9 | P19: =P18+IF(ISBLANK(N19),0,IF(N19=0,1,IF(N19<0,-N19,0))) -> 5 | R19: -1 | S19: =S18+IF(ISBLANK(R19),0,IF(R19=0,1,IF(R19>0,R19,0))) -> 8 | T19: =T18+IF(ISBLANK(R19),0,IF(R19=0,1,IF(R19<0,-R19,0))) -> 6 | V19: 1 | W19: =W18+IF(ISBLANK(V19),0,IF(V19=0,1,IF(V19>0,V19,0))) -> 11 | X19: =X18+IF(ISBLANK(V19),0,IF(V19=0,1,IF(V19<0,-V19,0))) -> 3 | Z19: 1 | AA19: =AA18+IF(ISBLANK(Z19),0,IF(Z19=0,1,IF(Z19>0,Z19,0))) -> 8 | AB19: =AB18+IF(ISBLANK(Z19),0,IF(Z19=0,1,IF(Z19<0,-Z19,0))) -> 6 | AE19: =C19-D19 -> -2 | AF19: =G19-H19 -> 3 | AG19: =K19-L19 -> 2 | AH19: =O19-P19 -> 4 | AI19: =S19-T19 -> 2 | AJ19: =W19-X19 -> 8 | AK19: =AA19-AB19 -> 2 | AM19: =(MAX($AE19:$AI19)-AE19)/2 -> 3 | AN19: =(MAX($AE19:$AI19)-AF19)/2 -> 0.5 | AO19: =(MAX($AE19:$AI19)-AG19)/2 -> 1 | AP19: =(MAX($AE19:$AI19)-AH19)/2 -> 0 | AQ19: =(MAX($AE19:$AI19)-AI19)/2 -> 1 | AY19: =IF(AO19=0,MIN(AM19:AN19,AP19:AQ19),0-AO19) -> -1
A20: 46124 | B20: 1 | C20: =C19+IF(ISBLANK(B20),0,IF(B20=0,1,IF(B20>0,B20,0))) -> 7 | D20: =D19+IF(ISBLANK(B20),0,IF(B20=0,1,IF(B20<0,-B20,0))) -> 8 | F20: -1 | G20: =G19+IF(ISBLANK(F20),0,IF(F20=0,1,IF(F20>0,F20,0))) -> 9 | H20: =H19+IF(ISBLANK(F20),0,IF(F20=0,1,IF(F20<0,-F20,0))) -> 7 | J20: -1 | K20: =K19+IF(ISBLANK(J20),0,IF(J20=0,1,IF(J20>0,J20,0))) -> 8 | L20: =L19+IF(ISBLANK(J20),0,IF(J20=0,1,IF(J20<0,-J20,0))) -> 7 | N20: -1 | O20: =O19+IF(ISBLANK(N20),0,IF(N20=0,1,IF(N20>0,N20,0))) -> 9 | P20: =P19+IF(ISBLANK(N20),0,IF(N20=0,1,IF(N20<0,-N20,0))) -> 6 | R20: -1 | S20: =S19+IF(ISBLANK(R20),0,IF(R20=0,1,IF(R20>0,R20,0))) -> 8 | T20: =T19+IF(ISBLANK(R20),0,IF(R20=0,1,IF(R20<0,-R20,0))) -> 7 | V20: -1 | W20: =W19+IF(ISBLANK(V20),0,IF(V20=0,1,IF(V20>0,V20,0))) -> 11 | X20: =X19+IF(ISBLANK(V20),0,IF(V20=0,1,IF(V20<0,-V20,0))) -> 4 | Z20: -1 | AA20: =AA19+IF(ISBLANK(Z20),0,IF(Z20=0,1,IF(Z20>0,Z20,0))) -> 8 | AB20: =AB19+IF(ISBLANK(Z20),0,IF(Z20=0,1,IF(Z20<0,-Z20,0))) -> 7 | AE20: =C20-D20 -> -1 | AF20: =G20-H20 -> 2 | AG20: =K20-L20 -> 1 | AH20: =O20-P20 -> 3 | AI20: =S20-T20 -> 1 | AJ20: =W20-X20 -> 7 | AK20: =AA20-AB20 -> 1 | AM20: =(MAX($AE20:$AI20)-AE20)/2 -> 2 | AN20: =(MAX($AE20:$AI20)-AF20)/2 -> 0.5 | AO20: =(MAX($AE20:$AI20)-AG20)/2 -> 1 | AP20: =(MAX($AE20:$AI20)-AH20)/2 -> 0 | AQ20: =(MAX($AE20:$AI20)-AI20)/2 -> 1 | AY20: =IF(AO20=0,MIN(AM20:AN20,AP20:AQ20),0-AO20) -> -1
A21: 46125 | B21: -1 | C21: =C20+IF(ISBLANK(B21),0,IF(B21=0,1,IF(B21>0,B21,0))) -> 7 | D21: =D20+IF(ISBLANK(B21),0,IF(B21=0,1,IF(B21<0,-B21,0))) -> 9 | G21: =G20+IF(ISBLANK(F21),0,IF(F21=0,1,IF(F21>0,F21,0))) -> 9 | H21: =H20+IF(ISBLANK(F21),0,IF(F21=0,1,IF(F21<0,-F21,0))) -> 7 | K21: =K20+IF(ISBLANK(J21),0,IF(J21=0,1,IF(J21>0,J21,0))) -> 8 | L21: =L20+IF(ISBLANK(J21),0,IF(J21=0,1,IF(J21<0,-J21,0))) -> 7 | N21: 1 | O21: =O20+IF(ISBLANK(N21),0,IF(N21=0,1,IF(N21>0,N21,0))) -> 10 | P21: =P20+IF(ISBLANK(N21),0,IF(N21=0,1,IF(N21<0,-N21,0))) -> 6 | R21: -1 | S21: =S20+IF(ISBLANK(R21),0,IF(R21=0,1,IF(R21>0,R21,0))) -> 8 | T21: =T20+IF(ISBLANK(R21),0,IF(R21=0,1,IF(R21<0,-R21,0))) -> 8 | V21: 1 | W21: =W20+IF(ISBLANK(V21),0,IF(V21=0,1,IF(V21>0,V21,0))) -> 12 | X21: =X20+IF(ISBLANK(V21),0,IF(V21=0,1,IF(V21<0,-V21,0))) -> 4 | Z21: -1 | AA21: =AA20+IF(ISBLANK(Z21),0,IF(Z21=0,1,IF(Z21>0,Z21,0))) -> 8 | AB21: =AB20+IF(ISBLANK(Z21),0,IF(Z21=0,1,IF(Z21<0,-Z21,0))) -> 8 | AE21: =C21-D21 -> -2 | AF21: =G21-H21 -> 2 | AG21: =K21-L21 -> 1 | AH21: =O21-P21 -> 4 | AI21: =S21-T21 -> 0 | AJ21: =W21-X21 -> 8 | AK21: =AA21-AB21 -> 0 | AM21: =(MAX($AE21:$AI21)-AE21)/2 -> 3 | AN21: =(MAX($AE21:$AI21)-AF21)/2 -> 1 | AO21: =(MAX($AE21:$AI21)-AG21)/2 -> 1.5 | AP21: =(MAX($AE21:$AI21)-AH21)/2 -> 0 | AQ21: =(MAX($AE21:$AI21)-AI21)/2 -> 2 | AY21: =IF(AO21=0,MIN(AM21:AN21,AP21:AQ21),0-AO21) -> -1.5
A22: 46126 | B22: 1 | C22: =C21+IF(ISBLANK(B22),0,IF(B22=0,1,IF(B22>0,B22,0))) -> 8 | D22: =D21+IF(ISBLANK(B22),0,IF(B22=0,1,IF(B22<0,-B22,0))) -> 9 | F22: 1 | G22: =G21+IF(ISBLANK(F22),0,IF(F22=0,1,IF(F22>0,F22,0))) -> 10 | H22: =H21+IF(ISBLANK(F22),0,IF(F22=0,1,IF(F22<0,-F22,0))) -> 7 | J22: -1 | K22: =K21+IF(ISBLANK(J22),0,IF(J22=0,1,IF(J22>0,J22,0))) -> 8 | L22: =L21+IF(ISBLANK(J22),0,IF(J22=0,1,IF(J22<0,-J22,0))) -> 8 | N22: -1 | O22: =O21+IF(ISBLANK(N22),0,IF(N22=0,1,IF(N22>0,N22,0))) -> 10 | P22: =P21+IF(ISBLANK(N22),0,IF(N22=0,1,IF(N22<0,-N22,0))) -> 7 | R22: 1 | S22: =S21+IF(ISBLANK(R22),0,IF(R22=0,1,IF(R22>0,R22,0))) -> 9 | T22: =T21+IF(ISBLANK(R22),0,IF(R22=0,1,IF(R22<0,-R22,0))) -> 8 | V22: 1 | W22: =W21+IF(ISBLANK(V22),0,IF(V22=0,1,IF(V22>0,V22,0))) -> 13 | X22: =X21+IF(ISBLANK(V22),0,IF(V22=0,1,IF(V22<0,-V22,0))) -> 4 | Z22: -1 | AA22: =AA21+IF(ISBLANK(Z22),0,IF(Z22=0,1,IF(Z22>0,Z22,0))) -> 8 | AB22: =AB21+IF(ISBLANK(Z22),0,IF(Z22=0,1,IF(Z22<0,-Z22,0))) -> 9 | AE22: =C22-D22 -> -1 | AF22: =G22-H22 -> 3 | AG22: =K22-L22 -> 0 | AH22: =O22-P22 -> 3 | AI22: =S22-T22 -> 1 | AJ22: =W22-X22 -> 9 | AK22: =AA22-AB22 -> -1 | AM22: =(MAX($AE22:$AI22)-AE22)/2 -> 2 | AN22: =(MAX($AE22:$AI22)-AF22)/2 -> 0 | AO22: =(MAX($AE22:$AI22)-AG22)/2 -> 1.5 | AP22: =(MAX($AE22:$AI22)-AH22)/2 -> 0 | AQ22: =(MAX($AE22:$AI22)-AI22)/2 -> 1 | AY22: =IF(AO22=0,MIN(AM22:AN22,AP22:AQ22),0-AO22) -> -1.5
A23: 46127 | B23: 1 | C23: =C22+IF(ISBLANK(B23),0,IF(B23=0,1,IF(B23>0,B23,0))) -> 9 | D23: =D22+IF(ISBLANK(B23),0,IF(B23=0,1,IF(B23<0,-B23,0))) -> 9 | F23: 1 | G23: =G22+IF(ISBLANK(F23),0,IF(F23=0,1,IF(F23>0,F23,0))) -> 11 | H23: =H22+IF(ISBLANK(F23),0,IF(F23=0,1,IF(F23<0,-F23,0))) -> 7 | J23: 1 | K23: =K22+IF(ISBLANK(J23),0,IF(J23=0,1,IF(J23>0,J23,0))) -> 9 | L23: =L22+IF(ISBLANK(J23),0,IF(J23=0,1,IF(J23<0,-J23,0))) -> 8 | N23: 1 | O23: =O22+IF(ISBLANK(N23),0,IF(N23=0,1,IF(N23>0,N23,0))) -> 11 | P23: =P22+IF(ISBLANK(N23),0,IF(N23=0,1,IF(N23<0,-N23,0))) -> 7 | R23: 1 | S23: =S22+IF(ISBLANK(R23),0,IF(R23=0,1,IF(R23>0,R23,0))) -> 10 | T23: =T22+IF(ISBLANK(R23),0,IF(R23=0,1,IF(R23<0,-R23,0))) -> 8 | V23: 1 | W23: =W22+IF(ISBLANK(V23),0,IF(V23=0,1,IF(V23>0,V23,0))) -> 14 | X23: =X22+IF(ISBLANK(V23),0,IF(V23=0,1,IF(V23<0,-V23,0))) -> 4 | Z23: 1 | AA23: =AA22+IF(ISBLANK(Z23),0,IF(Z23=0,1,IF(Z23>0,Z23,0))) -> 9 | AB23: =AB22+IF(ISBLANK(Z23),0,IF(Z23=0,1,IF(Z23<0,-Z23,0))) -> 9 | AE23: =C23-D23 -> 0 | AF23: =G23-H23 -> 4 | AG23: =K23-L23 -> 1 | AH23: =O23-P23 -> 4 | AI23: =S23-T23 -> 2 | AJ23: =W23-X23 -> 10 | AK23: =AA23-AB23 -> 0 | AM23: =(MAX($AE23:$AI23)-AE23)/2 -> 2 | AN23: =(MAX($AE23:$AI23)-AF23)/2 -> 0 | AO23: =(MAX($AE23:$AI23)-AG23)/2 -> 1.5 | AP23: =(MAX($AE23:$AI23)-AH23)/2 -> 0 | AQ23: =(MAX($AE23:$AI23)-AI23)/2 -> 1 | AY23: =IF(AO23=0,MIN(AM23:AN23,AP23:AQ23),0-AO23) -> -1.5
A24: 46128 | C24: =C23+IF(ISBLANK(B24),0,IF(B24=0,1,IF(B24>0,B24,0))) -> 9 | D24: =D23+IF(ISBLANK(B24),0,IF(B24=0,1,IF(B24<0,-B24,0))) -> 9 | F24: -1 | G24: =G23+IF(ISBLANK(F24),0,IF(F24=0,1,IF(F24>0,F24,0))) -> 11 | H24: =H23+IF(ISBLANK(F24),0,IF(F24=0,1,IF(F24<0,-F24,0))) -> 8 | J24: 1 | K24: =K23+IF(ISBLANK(J24),0,IF(J24=0,1,IF(J24>0,J24,0))) -> 10 | L24: =L23+IF(ISBLANK(J24),0,IF(J24=0,1,IF(J24<0,-J24,0))) -> 8 | N24: -1 | O24: =O23+IF(ISBLANK(N24),0,IF(N24=0,1,IF(N24>0,N24,0))) -> 11 | P24: =P23+IF(ISBLANK(N24),0,IF(N24=0,1,IF(N24<0,-N24,0))) -> 8 | S24: =S23+IF(ISBLANK(R24),0,IF(R24=0,1,IF(R24>0,R24,0))) -> 10 | T24: =T23+IF(ISBLANK(R24),0,IF(R24=0,1,IF(R24<0,-R24,0))) -> 8 | W24: =W23+IF(ISBLANK(V24),0,IF(V24=0,1,IF(V24>0,V24,0))) -> 14 | X24: =X23+IF(ISBLANK(V24),0,IF(V24=0,1,IF(V24<0,-V24,0))) -> 4 | Z24: 1 | AA24: =AA23+IF(ISBLANK(Z24),0,IF(Z24=0,1,IF(Z24>0,Z24,0))) -> 10 | AB24: =AB23+IF(ISBLANK(Z24),0,IF(Z24=0,1,IF(Z24<0,-Z24,0))) -> 9 | AE24: =C24-D24 -> 0 | AF24: =G24-H24 -> 3 | AG24: =K24-L24 -> 2 | AH24: =O24-P24 -> 3 | AI24: =S24-T24 -> 2 | AJ24: =W24-X24 -> 10 | AK24: =AA24-AB24 -> 1 | AM24: =(MAX($AE24:$AI24)-AE24)/2 -> 1.5 | AN24: =(MAX($AE24:$AI24)-AF24)/2 -> 0 | AO24: =(MAX($AE24:$AI24)-AG24)/2 -> 0.5 | AP24: =(MAX($AE24:$AI24)-AH24)/2 -> 0 | AQ24: =(MAX($AE24:$AI24)-AI24)/2 -> 0.5 | AY24: =IF(AO24=0,MIN(AM24:AN24,AP24:AQ24),0-AO24) -> -0.5
A25: 46129 | B25: 1 | C25: =C24+IF(ISBLANK(B25),0,IF(B25=0,1,IF(B25>0,B25,0))) -> 10 | D25: =D24+IF(ISBLANK(B25),0,IF(B25=0,1,IF(B25<0,-B25,0))) -> 9 | F25: 1 | G25: =G24+IF(ISBLANK(F25),0,IF(F25=0,1,IF(F25>0,F25,0))) -> 12 | H25: =H24+IF(ISBLANK(F25),0,IF(F25=0,1,IF(F25<0,-F25,0))) -> 8 | J25: 1 | K25: =K24+IF(ISBLANK(J25),0,IF(J25=0,1,IF(J25>0,J25,0))) -> 11 | L25: =L24+IF(ISBLANK(J25),0,IF(J25=0,1,IF(J25<0,-J25,0))) -> 8 | N25: 1 | O25: =O24+IF(ISBLANK(N25),0,IF(N25=0,1,IF(N25>0,N25,0))) -> 12 | P25: =P24+IF(ISBLANK(N25),0,IF(N25=0,1,IF(N25<0,-N25,0))) -> 8 | R25: 1 | S25: =S24+IF(ISBLANK(R25),0,IF(R25=0,1,IF(R25>0,R25,0))) -> 11 | T25: =T24+IF(ISBLANK(R25),0,IF(R25=0,1,IF(R25<0,-R25,0))) -> 8 | V25: 1 | W25: =W24+IF(ISBLANK(V25),0,IF(V25=0,1,IF(V25>0,V25,0))) -> 15 | X25: =X24+IF(ISBLANK(V25),0,IF(V25=0,1,IF(V25<0,-V25,0))) -> 4 | AA25: =AA24+IF(ISBLANK(Z25),0,IF(Z25=0,1,IF(Z25>0,Z25,0))) -> 10 | AB25: =AB24+IF(ISBLANK(Z25),0,IF(Z25=0,1,IF(Z25<0,-Z25,0))) -> 9 | AE25: =C25-D25 -> 1 | AF25: =G25-H25 -> 4 | AG25: =K25-L25 -> 3 | AH25: =O25-P25 -> 4 | AI25: =S25-T25 -> 3 | AJ25: =W25-X25 -> 11 | AK25: =AA25-AB25 -> 1 | AM25: =(MAX($AE25:$AI25)-AE25)/2 -> 1.5 | AN25: =(MAX($AE25:$AI25)-AF25)/2 -> 0 | AO25: =(MAX($AE25:$AI25)-AG25)/2 -> 0.5 | AP25: =(MAX($AE25:$AI25)-AH25)/2 -> 0 | AQ25: =(MAX($AE25:$AI25)-AI25)/2 -> 0.5 | AY25: =IF(AO25=0,MIN(AM25:AN25,AP25:AQ25),0-AO25) -> -0.5
A26: 46130 | B26: 1 | C26: =C25+IF(ISBLANK(B26),0,IF(B26=0,1,IF(B26>0,B26,0))) -> 11 | D26: =D25+IF(ISBLANK(B26),0,IF(B26=0,1,IF(B26<0,-B26,0))) -> 9 | F26: 1 | G26: =G25+IF(ISBLANK(F26),0,IF(F26=0,1,IF(F26>0,F26,0))) -> 13 | H26: =H25+IF(ISBLANK(F26),0,IF(F26=0,1,IF(F26<0,-F26,0))) -> 8 | J26: 1 | K26: =K25+IF(ISBLANK(J26),0,IF(J26=0,1,IF(J26>0,J26,0))) -> 12 | L26: =L25+IF(ISBLANK(J26),0,IF(J26=0,1,IF(J26<0,-J26,0))) -> 8 | N26: -1 | O26: =O25+IF(ISBLANK(N26),0,IF(N26=0,1,IF(N26>0,N26,0))) -> 12 | P26: =P25+IF(ISBLANK(N26),0,IF(N26=0,1,IF(N26<0,-N26,0))) -> 9 | R26: 1 | S26: =S25+IF(ISBLANK(R26),0,IF(R26=0,1,IF(R26>0,R26,0))) -> 12 | T26: =T25+IF(ISBLANK(R26),0,IF(R26=0,1,IF(R26<0,-R26,0))) -> 8 | V26: -1 | W26: =W25+IF(ISBLANK(V26),0,IF(V26=0,1,IF(V26>0,V26,0))) -> 15 | X26: =X25+IF(ISBLANK(V26),0,IF(V26=0,1,IF(V26<0,-V26,0))) -> 5 | Z26: 1 | AA26: =AA25+IF(ISBLANK(Z26),0,IF(Z26=0,1,IF(Z26>0,Z26,0))) -> 11 | AB26: =AB25+IF(ISBLANK(Z26),0,IF(Z26=0,1,IF(Z26<0,-Z26,0))) -> 9 | AE26: =C26-D26 -> 2 | AF26: =G26-H26 -> 5 | AG26: =K26-L26 -> 4 | AH26: =O26-P26 -> 3 | AI26: =S26-T26 -> 4 | AJ26: =W26-X26 -> 10 | AK26: =AA26-AB26 -> 2 | AM26: =(MAX($AE26:$AI26)-AE26)/2 -> 1.5 | AN26: =(MAX($AE26:$AI26)-AF26)/2 -> 0 | AO26: =(MAX($AE26:$AI26)-AG26)/2 -> 0.5 | AP26: =(MAX($AE26:$AI26)-AH26)/2 -> 1 | AQ26: =(MAX($AE26:$AI26)-AI26)/2 -> 0.5 | AY26: =IF(AO26=0,MIN(AM26:AN26,AP26:AQ26),0-AO26) -> -0.5
A27: 46131 | B27: 1 | C27: =C26+IF(ISBLANK(B27),0,IF(B27=0,1,IF(B27>0,B27,0))) -> 12 | D27: =D26+IF(ISBLANK(B27),0,IF(B27=0,1,IF(B27<0,-B27,0))) -> 9 | F27: 1 | G27: =G26+IF(ISBLANK(F27),0,IF(F27=0,1,IF(F27>0,F27,0))) -> 14 | H27: =H26+IF(ISBLANK(F27),0,IF(F27=0,1,IF(F27<0,-F27,0))) -> 8 | J27: -1 | K27: =K26+IF(ISBLANK(J27),0,IF(J27=0,1,IF(J27>0,J27,0))) -> 12 | L27: =L26+IF(ISBLANK(J27),0,IF(J27=0,1,IF(J27<0,-J27,0))) -> 9 | N27: 1 | O27: =O26+IF(ISBLANK(N27),0,IF(N27=0,1,IF(N27>0,N27,0))) -> 13 | P27: =P26+IF(ISBLANK(N27),0,IF(N27=0,1,IF(N27<0,-N27,0))) -> 9 | R27: 1 | S27: =S26+IF(ISBLANK(R27),0,IF(R27=0,1,IF(R27>0,R27,0))) -> 13 | T27: =T26+IF(ISBLANK(R27),0,IF(R27=0,1,IF(R27<0,-R27,0))) -> 8 | V27: -1 | W27: =W26+IF(ISBLANK(V27),0,IF(V27=0,1,IF(V27>0,V27,0))) -> 15 | X27: =X26+IF(ISBLANK(V27),0,IF(V27=0,1,IF(V27<0,-V27,0))) -> 6 | Z27: -1 | AA27: =AA26+IF(ISBLANK(Z27),0,IF(Z27=0,1,IF(Z27>0,Z27,0))) -> 11 | AB27: =AB26+IF(ISBLANK(Z27),0,IF(Z27=0,1,IF(Z27<0,-Z27,0))) -> 10 | AE27: =C27-D27 -> 3 | AF27: =G27-H27 -> 6 | AG27: =K27-L27 -> 3 | AH27: =O27-P27 -> 4 | AI27: =S27-T27 -> 5 | AJ27: =W27-X27 -> 9 | AK27: =AA27-AB27 -> 1 | AM27: =(MAX($AE27:$AI27)-AE27)/2 -> 1.5 | AN27: =(MAX($AE27:$AI27)-AF27)/2 -> 0 | AO27: =(MAX($AE27:$AI27)-AG27)/2 -> 1.5 | AP27: =(MAX($AE27:$AI27)-AH27)/2 -> 1 | AQ27: =(MAX($AE27:$AI27)-AI27)/2 -> 0.5 | AY27: =IF(AO27=0,MIN(AM27:AN27,AP27:AQ27),0-AO27) -> -1.5
A28: 46132 | B28: 1 | C28: =C27+IF(ISBLANK(B28),0,IF(B28=0,1,IF(B28>0,B28,0))) -> 13 | D28: =D27+IF(ISBLANK(B28),0,IF(B28=0,1,IF(B28<0,-B28,0))) -> 9 | F28: 1 | G28: =G27+IF(ISBLANK(F28),0,IF(F28=0,1,IF(F28>0,F28,0))) -> 15 | H28: =H27+IF(ISBLANK(F28),0,IF(F28=0,1,IF(F28<0,-F28,0))) -> 8 | K28: =K27+IF(ISBLANK(J28),0,IF(J28=0,1,IF(J28>0,J28,0))) -> 12 | L28: =L27+IF(ISBLANK(J28),0,IF(J28=0,1,IF(J28<0,-J28,0))) -> 9 | O28: =O27+IF(ISBLANK(N28),0,IF(N28=0,1,IF(N28>0,N28,0))) -> 13 | P28: =P27+IF(ISBLANK(N28),0,IF(N28=0,1,IF(N28<0,-N28,0))) -> 9 | R28: -1 | S28: =S27+IF(ISBLANK(R28),0,IF(R28=0,1,IF(R28>0,R28,0))) -> 13 | T28: =T27+IF(ISBLANK(R28),0,IF(R28=0,1,IF(R28<0,-R28,0))) -> 9 | V28: 1 | W28: =W27+IF(ISBLANK(V28),0,IF(V28=0,1,IF(V28>0,V28,0))) -> 16 | X28: =X27+IF(ISBLANK(V28),0,IF(V28=0,1,IF(V28<0,-V28,0))) -> 6 | Z28: 1 | AA28: =AA27+IF(ISBLANK(Z28),0,IF(Z28=0,1,IF(Z28>0,Z28,0))) -> 12 | AB28: =AB27+IF(ISBLANK(Z28),0,IF(Z28=0,1,IF(Z28<0,-Z28,0))) -> 10 | AE28: =C28-D28 -> 4 | AF28: =G28-H28 -> 7 | AG28: =K28-L28 -> 3 | AH28: =O28-P28 -> 4 | AI28: =S28-T28 -> 4 | AJ28: =W28-X28 -> 10 | AK28: =AA28-AB28 -> 2 | AM28: =(MAX($AE28:$AI28)-AE28)/2 -> 1.5 | AN28: =(MAX($AE28:$AI28)-AF28)/2 -> 0 | AO28: =(MAX($AE28:$AI28)-AG28)/2 -> 2 | AP28: =(MAX($AE28:$AI28)-AH28)/2 -> 1.5 | AQ28: =(MAX($AE28:$AI28)-AI28)/2 -> 1.5 | AY28: =IF(AO28=0,MIN(AM28:AN28,AP28:AQ28),0-AO28) -> -2
A29: 46133 | B29: 1 | C29: =C28+IF(ISBLANK(B29),0,IF(B29=0,1,IF(B29>0,B29,0))) -> 14 | D29: =D28+IF(ISBLANK(B29),0,IF(B29=0,1,IF(B29<0,-B29,0))) -> 9 | F29: 1 | G29: =G28+IF(ISBLANK(F29),0,IF(F29=0,1,IF(F29>0,F29,0))) -> 16 | H29: =H28+IF(ISBLANK(F29),0,IF(F29=0,1,IF(F29<0,-F29,0))) -> 8 | J29: 1 | K29: =K28+IF(ISBLANK(J29),0,IF(J29=0,1,IF(J29>0,J29,0))) -> 13 | L29: =L28+IF(ISBLANK(J29),0,IF(J29=0,1,IF(J29<0,-J29,0))) -> 9 | N29: -1 | O29: =O28+IF(ISBLANK(N29),0,IF(N29=0,1,IF(N29>0,N29,0))) -> 13 | P29: =P28+IF(ISBLANK(N29),0,IF(N29=0,1,IF(N29<0,-N29,0))) -> 10 | R29: 1 | S29: =S28+IF(ISBLANK(R29),0,IF(R29=0,1,IF(R29>0,R29,0))) -> 14 | T29: =T28+IF(ISBLANK(R29),0,IF(R29=0,1,IF(R29<0,-R29,0))) -> 9 | V29: -1 | W29: =W28+IF(ISBLANK(V29),0,IF(V29=0,1,IF(V29>0,V29,0))) -> 16 | X29: =X28+IF(ISBLANK(V29),0,IF(V29=0,1,IF(V29<0,-V29,0))) -> 7 | Z29: -1 | AA29: =AA28+IF(ISBLANK(Z29),0,IF(Z29=0,1,IF(Z29>0,Z29,0))) -> 12 | AB29: =AB28+IF(ISBLANK(Z29),0,IF(Z29=0,1,IF(Z29<0,-Z29,0))) -> 11 | AE29: =C29-D29 -> 5 | AF29: =G29-H29 -> 8 | AG29: =K29-L29 -> 4 | AH29: =O29-P29 -> 3 | AI29: =S29-T29 -> 5 | AJ29: =W29-X29 -> 9 | AK29: =AA29-AB29 -> 1 | AM29: =(MAX($AE29:$AI29)-AE29)/2 -> 1.5 | AN29: =(MAX($AE29:$AI29)-AF29)/2 -> 0 | AO29: =(MAX($AE29:$AI29)-AG29)/2 -> 2 | AP29: =(MAX($AE29:$AI29)-AH29)/2 -> 2.5 | AQ29: =(MAX($AE29:$AI29)-AI29)/2 -> 1.5 | AY29: =IF(AO29=0,MIN(AM29:AN29,AP29:AQ29),0-AO29) -> -2
A30: 46134 | B30: 1 | C30: =C29+IF(ISBLANK(B30),0,IF(B30=0,1,IF(B30>0,B30,0))) -> 15 | D30: =D29+IF(ISBLANK(B30),0,IF(B30=0,1,IF(B30<0,-B30,0))) -> 9 | F30: -1 | G30: =G29+IF(ISBLANK(F30),0,IF(F30=0,1,IF(F30>0,F30,0))) -> 16 | H30: =H29+IF(ISBLANK(F30),0,IF(F30=0,1,IF(F30<0,-F30,0))) -> 9 | J30: -1 | K30: =K29+IF(ISBLANK(J30),0,IF(J30=0,1,IF(J30>0,J30,0))) -> 13 | L30: =L29+IF(ISBLANK(J30),0,IF(J30=0,1,IF(J30<0,-J30,0))) -> 10 | N30: 1 | O30: =O29+IF(ISBLANK(N30),0,IF(N30=0,1,IF(N30>0,N30,0))) -> 14 | P30: =P29+IF(ISBLANK(N30),0,IF(N30=0,1,IF(N30<0,-N30,0))) -> 10 | R30: -1 | S30: =S29+IF(ISBLANK(R30),0,IF(R30=0,1,IF(R30>0,R30,0))) -> 14 | T30: =T29+IF(ISBLANK(R30),0,IF(R30=0,1,IF(R30<0,-R30,0))) -> 10 | V30: -1 | W30: =W29+IF(ISBLANK(V30),0,IF(V30=0,1,IF(V30>0,V30,0))) -> 16 | X30: =X29+IF(ISBLANK(V30),0,IF(V30=0,1,IF(V30<0,-V30,0))) -> 8 | Z30: 1 | AA30: =AA29+IF(ISBLANK(Z30),0,IF(Z30=0,1,IF(Z30>0,Z30,0))) -> 13 | AB30: =AB29+IF(ISBLANK(Z30),0,IF(Z30=0,1,IF(Z30<0,-Z30,0))) -> 11 | AE30: =C30-D30 -> 6 | AF30: =G30-H30 -> 7 | AG30: =K30-L30 -> 3 | AH30: =O30-P30 -> 4 | AI30: =S30-T30 -> 4 | AJ30: =W30-X30 -> 8 | AK30: =AA30-AB30 -> 2 | AM30: =(MAX($AE30:$AI30)-AE30)/2 -> 0.5 | AN30: =(MAX($AE30:$AI30)-AF30)/2 -> 0 | AO30: =(MAX($AE30:$AI30)-AG30)/2 -> 2 | AP30: =(MAX($AE30:$AI30)-AH30)/2 -> 1.5 | AQ30: =(MAX($AE30:$AI30)-AI30)/2 -> 1.5 | AY30: =IF(AO30=0,MIN(AM30:AN30,AP30:AQ30),0-AO30) -> -2
A31: 46135 | B31: 1 | C31: =C30+IF(ISBLANK(B31),0,IF(B31=0,1,IF(B31>0,B31,0))) -> 16 | D31: =D30+IF(ISBLANK(B31),0,IF(B31=0,1,IF(B31<0,-B31,0))) -> 9 | G31: =G30+IF(ISBLANK(F31),0,IF(F31=0,1,IF(F31>0,F31,0))) -> 16 | H31: =H30+IF(ISBLANK(F31),0,IF(F31=0,1,IF(F31<0,-F31,0))) -> 9 | J31: -1 | K31: =K30+IF(ISBLANK(J31),0,IF(J31=0,1,IF(J31>0,J31,0))) -> 13 | L31: =L30+IF(ISBLANK(J31),0,IF(J31=0,1,IF(J31<0,-J31,0))) -> 11 | N31: -1 | O31: =O30+IF(ISBLANK(N31),0,IF(N31=0,1,IF(N31>0,N31,0))) -> 14 | P31: =P30+IF(ISBLANK(N31),0,IF(N31=0,1,IF(N31<0,-N31,0))) -> 11 | S31: =S30+IF(ISBLANK(R31),0,IF(R31=0,1,IF(R31>0,R31,0))) -> 14 | T31: =T30+IF(ISBLANK(R31),0,IF(R31=0,1,IF(R31<0,-R31,0))) -> 10 | V31: 1 | W31: =W30+IF(ISBLANK(V31),0,IF(V31=0,1,IF(V31>0,V31,0))) -> 17 | X31: =X30+IF(ISBLANK(V31),0,IF(V31=0,1,IF(V31<0,-V31,0))) -> 8 | Z31: -1 | AA31: =AA30+IF(ISBLANK(Z31),0,IF(Z31=0,1,IF(Z31>0,Z31,0))) -> 13 | AB31: =AB30+IF(ISBLANK(Z31),0,IF(Z31=0,1,IF(Z31<0,-Z31,0))) -> 12 | AE31: =C31-D31 -> 7 | AF31: =G31-H31 -> 7 | AG31: =K31-L31 -> 2 | AH31: =O31-P31 -> 3 | AI31: =S31-T31 -> 4 | AJ31: =W31-X31 -> 9 | AK31: =AA31-AB31 -> 1 | AM31: =(MAX($AE31:$AI31)-AE31)/2 -> 0 | AN31: =(MAX($AE31:$AI31)-AF31)/2 -> 0 | AO31: =(MAX($AE31:$AI31)-AG31)/2 -> 2.5 | AP31: =(MAX($AE31:$AI31)-AH31)/2 -> 2 | AQ31: =(MAX($AE31:$AI31)-AI31)/2 -> 1.5 | AY31: =IF(AO31=0,MIN(AM31:AN31,AP31:AQ31),0-AO31) -> -2.5
A32: 46136 | B32: 1 | C32: =C31+IF(ISBLANK(B32),0,IF(B32=0,1,IF(B32>0,B32,0))) -> 17 | D32: =D31+IF(ISBLANK(B32),0,IF(B32=0,1,IF(B32<0,-B32,0))) -> 9 | F32: 1 | G32: =G31+IF(ISBLANK(F32),0,IF(F32=0,1,IF(F32>0,F32,0))) -> 17 | H32: =H31+IF(ISBLANK(F32),0,IF(F32=0,1,IF(F32<0,-F32,0))) -> 9 | J32: -1 | K32: =K31+IF(ISBLANK(J32),0,IF(J32=0,1,IF(J32>0,J32,0))) -> 13 | L32: =L31+IF(ISBLANK(J32),0,IF(J32=0,1,IF(J32<0,-J32,0))) -> 12 | N32: 1 | O32: =O31+IF(ISBLANK(N32),0,IF(N32=0,1,IF(N32>0,N32,0))) -> 15 | P32: =P31+IF(ISBLANK(N32),0,IF(N32=0,1,IF(N32<0,-N32,0))) -> 11 | R32: -1 | S32: =S31+IF(ISBLANK(R32),0,IF(R32=0,1,IF(R32>0,R32,0))) -> 14 | T32: =T31+IF(ISBLANK(R32),0,IF(R32=0,1,IF(R32<0,-R32,0))) -> 11 | V32: -1 | W32: =W31+IF(ISBLANK(V32),0,IF(V32=0,1,IF(V32>0,V32,0))) -> 17 | X32: =X31+IF(ISBLANK(V32),0,IF(V32=0,1,IF(V32<0,-V32,0))) -> 9 | Z32: -1 | AA32: =AA31+IF(ISBLANK(Z32),0,IF(Z32=0,1,IF(Z32>0,Z32,0))) -> 13 | AB32: =AB31+IF(ISBLANK(Z32),0,IF(Z32=0,1,IF(Z32<0,-Z32,0))) -> 13 | AE32: =C32-D32 -> 8 | AF32: =G32-H32 -> 8 | AG32: =K32-L32 -> 1 | AH32: =O32-P32 -> 4 | AI32: =S32-T32 -> 3 | AJ32: =W32-X32 -> 8 | AK32: =AA32-AB32 -> 0 | AM32: =(MAX($AE32:$AI32)-AE32)/2 -> 0 | AN32: =(MAX($AE32:$AI32)-AF32)/2 -> 0 | AO32: =(MAX($AE32:$AI32)-AG32)/2 -> 3.5 | AP32: =(MAX($AE32:$AI32)-AH32)/2 -> 2 | AQ32: =(MAX($AE32:$AI32)-AI32)/2 -> 2.5 | AY32: =IF(AO32=0,MIN(AM32:AN32,AP32:AQ32),0-AO32) -> -3.5
A33: 46137 | B33: -1 | C33: =C32+IF(ISBLANK(B33),0,IF(B33=0,1,IF(B33>0,B33,0))) -> 17 | D33: =D32+IF(ISBLANK(B33),0,IF(B33=0,1,IF(B33<0,-B33,0))) -> 10 | F33: 1 | G33: =G32+IF(ISBLANK(F33),0,IF(F33=0,1,IF(F33>0,F33,0))) -> 18 | H33: =H32+IF(ISBLANK(F33),0,IF(F33=0,1,IF(F33<0,-F33,0))) -> 9 | J33: -1 | K33: =K32+IF(ISBLANK(J33),0,IF(J33=0,1,IF(J33>0,J33,0))) -> 13 | L33: =L32+IF(ISBLANK(J33),0,IF(J33=0,1,IF(J33<0,-J33,0))) -> 13 | N33: 1 | O33: =O32+IF(ISBLANK(N33),0,IF(N33=0,1,IF(N33>0,N33,0))) -> 16 | P33: =P32+IF(ISBLANK(N33),0,IF(N33=0,1,IF(N33<0,-N33,0))) -> 11 | R33: -1 | S33: =S32+IF(ISBLANK(R33),0,IF(R33=0,1,IF(R33>0,R33,0))) -> 14 | T33: =T32+IF(ISBLANK(R33),0,IF(R33=0,1,IF(R33<0,-R33,0))) -> 12 | V33: 1 | W33: =W32+IF(ISBLANK(V33),0,IF(V33=0,1,IF(V33>0,V33,0))) -> 18 | X33: =X32+IF(ISBLANK(V33),0,IF(V33=0,1,IF(V33<0,-V33,0))) -> 9 | Z33: -1 | AA33: =AA32+IF(ISBLANK(Z33),0,IF(Z33=0,1,IF(Z33>0,Z33,0))) -> 13 | AB33: =AB32+IF(ISBLANK(Z33),0,IF(Z33=0,1,IF(Z33<0,-Z33,0))) -> 14 | AE33: =C33-D33 -> 7 | AF33: =G33-H33 -> 9 | AG33: =K33-L33 -> 0 | AH33: =O33-P33 -> 5 | AI33: =S33-T33 -> 2 | AJ33: =W33-X33 -> 9 | AK33: =AA33-AB33 -> -1 | AM33: =(MAX($AE33:$AI33)-AE33)/2 -> 1 | AN33: =(MAX($AE33:$AI33)-AF33)/2 -> 0 | AO33: =(MAX($AE33:$AI33)-AG33)/2 -> 4.5 | AP33: =(MAX($AE33:$AI33)-AH33)/2 -> 2 | AQ33: =(MAX($AE33:$AI33)-AI33)/2 -> 3.5 | AY33: =IF(AO33=0,MIN(AM33:AN33,AP33:AQ33),0-AO33) -> -4.5
A34: 46138 | B34: -1 | C34: =C33+IF(ISBLANK(B34),0,IF(B34=0,1,IF(B34>0,B34,0))) -> 17 | D34: =D33+IF(ISBLANK(B34),0,IF(B34=0,1,IF(B34<0,-B34,0))) -> 11 | F34: -1 | G34: =G33+IF(ISBLANK(F34),0,IF(F34=0,1,IF(F34>0,F34,0))) -> 18 | H34: =H33+IF(ISBLANK(F34),0,IF(F34=0,1,IF(F34<0,-F34,0))) -> 10 | J34: 1 | K34: =K33+IF(ISBLANK(J34),0,IF(J34=0,1,IF(J34>0,J34,0))) -> 14 | L34: =L33+IF(ISBLANK(J34),0,IF(J34=0,1,IF(J34<0,-J34,0))) -> 13 | N34: -1 | O34: =O33+IF(ISBLANK(N34),0,IF(N34=0,1,IF(N34>0,N34,0))) -> 16 | P34: =P33+IF(ISBLANK(N34),0,IF(N34=0,1,IF(N34<0,-N34,0))) -> 12 | R34: -1 | S34: =S33+IF(ISBLANK(R34),0,IF(R34=0,1,IF(R34>0,R34,0))) -> 14 | T34: =T33+IF(ISBLANK(R34),0,IF(R34=0,1,IF(R34<0,-R34,0))) -> 13 | V34: 1 | W34: =W33+IF(ISBLANK(V34),0,IF(V34=0,1,IF(V34>0,V34,0))) -> 19 | X34: =X33+IF(ISBLANK(V34),0,IF(V34=0,1,IF(V34<0,-V34,0))) -> 9 | Z34: -1 | AA34: =AA33+IF(ISBLANK(Z34),0,IF(Z34=0,1,IF(Z34>0,Z34,0))) -> 13 | AB34: =AB33+IF(ISBLANK(Z34),0,IF(Z34=0,1,IF(Z34<0,-Z34,0))) -> 15 | AE34: =C34-D34 -> 6 | AF34: =G34-H34 -> 8 | AG34: =K34-L34 -> 1 | AH34: =O34-P34 -> 4 | AI34: =S34-T34 -> 1 | AJ34: =W34-X34 -> 10 | AK34: =AA34-AB34 -> -2 | AM34: =(MAX($AE34:$AI34)-AE34)/2 -> 1 | AN34: =(MAX($AE34:$AI34)-AF34)/2 -> 0 | AO34: =(MAX($AE34:$AI34)-AG34)/2 -> 3.5 | AP34: =(MAX($AE34:$AI34)-AH34)/2 -> 2 | AQ34: =(MAX($AE34:$AI34)-AI34)/2 -> 3.5 | AY34: =IF(AO34=0,MIN(AM34:AN34,AP34:AQ34),0-AO34) -> -3.5
A35: 46139 | B35: -1 | C35: =C34+IF(ISBLANK(B35),0,IF(B35=0,1,IF(B35>0,B35,0))) -> 17 | D35: =D34+IF(ISBLANK(B35),0,IF(B35=0,1,IF(B35<0,-B35,0))) -> 12 | G35: =G34+IF(ISBLANK(F35),0,IF(F35=0,1,IF(F35>0,F35,0))) -> 18 | H35: =H34+IF(ISBLANK(F35),0,IF(F35=0,1,IF(F35<0,-F35,0))) -> 10 | K35: =K34+IF(ISBLANK(J35),0,IF(J35=0,1,IF(J35>0,J35,0))) -> 14 | L35: =L34+IF(ISBLANK(J35),0,IF(J35=0,1,IF(J35<0,-J35,0))) -> 13 | N35: -1 | O35: =O34+IF(ISBLANK(N35),0,IF(N35=0,1,IF(N35>0,N35,0))) -> 16 | P35: =P34+IF(ISBLANK(N35),0,IF(N35=0,1,IF(N35<0,-N35,0))) -> 13 | R35: 1 | S35: =S34+IF(ISBLANK(R35),0,IF(R35=0,1,IF(R35>0,R35,0))) -> 15 | T35: =T34+IF(ISBLANK(R35),0,IF(R35=0,1,IF(R35<0,-R35,0))) -> 13 | V35: 1 | W35: =W34+IF(ISBLANK(V35),0,IF(V35=0,1,IF(V35>0,V35,0))) -> 20 | X35: =X34+IF(ISBLANK(V35),0,IF(V35=0,1,IF(V35<0,-V35,0))) -> 9 | Z35: 1 | AA35: =AA34+IF(ISBLANK(Z35),0,IF(Z35=0,1,IF(Z35>0,Z35,0))) -> 14 | AB35: =AB34+IF(ISBLANK(Z35),0,IF(Z35=0,1,IF(Z35<0,-Z35,0))) -> 15 | AE35: =C35-D35 -> 5 | AF35: =G35-H35 -> 8 | AG35: =K35-L35 -> 1 | AH35: =O35-P35 -> 3 | AI35: =S35-T35 -> 2 | AJ35: =W35-X35 -> 11 | AK35: =AA35-AB35 -> -1 | AM35: =(MAX($AE35:$AI35)-AE35)/2 -> 1.5 | AN35: =(MAX($AE35:$AI35)-AF35)/2 -> 0 | AO35: =(MAX($AE35:$AI35)-AG35)/2 -> 3.5 | AP35: =(MAX($AE35:$AI35)-AH35)/2 -> 2.5 | AQ35: =(MAX($AE35:$AI35)-AI35)/2 -> 3 | AY35: =IF(AO35=0,MIN(AM35:AN35,AP35:AQ35),0-AO35) -> -3.5
A36: 46140 | B36: 1 | C36: =C35+IF(ISBLANK(B36),0,IF(B36=0,1,IF(B36>0,B36,0))) -> 18 | D36: =D35+IF(ISBLANK(B36),0,IF(B36=0,1,IF(B36<0,-B36,0))) -> 12 | F36: 1 | G36: =G35+IF(ISBLANK(F36),0,IF(F36=0,1,IF(F36>0,F36,0))) -> 19 | H36: =H35+IF(ISBLANK(F36),0,IF(F36=0,1,IF(F36<0,-F36,0))) -> 10 | J36: 1 | K36: =K35+IF(ISBLANK(J36),0,IF(J36=0,1,IF(J36>0,J36,0))) -> 15 | L36: =L35+IF(ISBLANK(J36),0,IF(J36=0,1,IF(J36<0,-J36,0))) -> 13 | N36: -1 | O36: =O35+IF(ISBLANK(N36),0,IF(N36=0,1,IF(N36>0,N36,0))) -> 16 | P36: =P35+IF(ISBLANK(N36),0,IF(N36=0,1,IF(N36<0,-N36,0))) -> 14 | R36: 1 | S36: =S35+IF(ISBLANK(R36),0,IF(R36=0,1,IF(R36>0,R36,0))) -> 16 | T36: =T35+IF(ISBLANK(R36),0,IF(R36=0,1,IF(R36<0,-R36,0))) -> 13 | V36: -1 | W36: =W35+IF(ISBLANK(V36),0,IF(V36=0,1,IF(V36>0,V36,0))) -> 20 | X36: =X35+IF(ISBLANK(V36),0,IF(V36=0,1,IF(V36<0,-V36,0))) -> 10 | AA36: =AA35+IF(ISBLANK(Z36),0,IF(Z36=0,1,IF(Z36>0,Z36,0))) -> 14 | AB36: =AB35+IF(ISBLANK(Z36),0,IF(Z36=0,1,IF(Z36<0,-Z36,0))) -> 15 | AE36: =C36-D36 -> 6 | AF36: =G36-H36 -> 9 | AG36: =K36-L36 -> 2 | AH36: =O36-P36 -> 2 | AI36: =S36-T36 -> 3 | AJ36: =W36-X36 -> 10 | AK36: =AA36-AB36 -> -1 | AM36: =(MAX($AE36:$AI36)-AE36)/2 -> 1.5 | AN36: =(MAX($AE36:$AI36)-AF36)/2 -> 0 | AO36: =(MAX($AE36:$AI36)-AG36)/2 -> 3.5 | AP36: =(MAX($AE36:$AI36)-AH36)/2 -> 3.5 | AQ36: =(MAX($AE36:$AI36)-AI36)/2 -> 3 | AY36: =IF(AO36=0,MIN(AM36:AN36,AP36:AQ36),0-AO36) -> -3.5
A37: 46141 | B37: 1 | C37: =C36+IF(ISBLANK(B37),0,IF(B37=0,1,IF(B37>0,B37,0))) -> 19 | D37: =D36+IF(ISBLANK(B37),0,IF(B37=0,1,IF(B37<0,-B37,0))) -> 12 | F37: -1 | G37: =G36+IF(ISBLANK(F37),0,IF(F37=0,1,IF(F37>0,F37,0))) -> 19 | H37: =H36+IF(ISBLANK(F37),0,IF(F37=0,1,IF(F37<0,-F37,0))) -> 11 | J37: -1 | K37: =K36+IF(ISBLANK(J37),0,IF(J37=0,1,IF(J37>0,J37,0))) -> 15 | L37: =L36+IF(ISBLANK(J37),0,IF(J37=0,1,IF(J37<0,-J37,0))) -> 14 | N37: -1 | O37: =O36+IF(ISBLANK(N37),0,IF(N37=0,1,IF(N37>0,N37,0))) -> 16 | P37: =P36+IF(ISBLANK(N37),0,IF(N37=0,1,IF(N37<0,-N37,0))) -> 15 | R37: 1 | S37: =S36+IF(ISBLANK(R37),0,IF(R37=0,1,IF(R37>0,R37,0))) -> 17 | T37: =T36+IF(ISBLANK(R37),0,IF(R37=0,1,IF(R37<0,-R37,0))) -> 13 | V37: -1 | W37: =W36+IF(ISBLANK(V37),0,IF(V37=0,1,IF(V37>0,V37,0))) -> 20 | X37: =X36+IF(ISBLANK(V37),0,IF(V37=0,1,IF(V37<0,-V37,0))) -> 11 | Z37: 1 | AA37: =AA36+IF(ISBLANK(Z37),0,IF(Z37=0,1,IF(Z37>0,Z37,0))) -> 15 | AB37: =AB36+IF(ISBLANK(Z37),0,IF(Z37=0,1,IF(Z37<0,-Z37,0))) -> 15 | AE37: =C37-D37 -> 7 | AF37: =G37-H37 -> 8 | AG37: =K37-L37 -> 1 | AH37: =O37-P37 -> 1 | AI37: =S37-T37 -> 4 | AJ37: =W37-X37 -> 9 | AK37: =AA37-AB37 -> 0 | AM37: =(MAX($AE37:$AI37)-AE37)/2 -> 0.5 | AN37: =(MAX($AE37:$AI37)-AF37)/2 -> 0 | AO37: =(MAX($AE37:$AI37)-AG37)/2 -> 3.5 | AP37: =(MAX($AE37:$AI37)-AH37)/2 -> 3.5 | AQ37: =(MAX($AE37:$AI37)-AI37)/2 -> 2 | AY37: =IF(AO37=0,MIN(AM37:AN37,AP37:AQ37),0-AO37) -> -3.5
A38: 46142 | C38: =C37+IF(ISBLANK(B38),0,IF(B38=0,1,IF(B38>0,B38,0))) -> 19 | D38: =D37+IF(ISBLANK(B38),0,IF(B38=0,1,IF(B38<0,-B38,0))) -> 12 | F38: 1 | G38: =G37+IF(ISBLANK(F38),0,IF(F38=0,1,IF(F38>0,F38,0))) -> 20 | H38: =H37+IF(ISBLANK(F38),0,IF(F38=0,1,IF(F38<0,-F38,0))) -> 11 | J38: 1 | K38: =K37+IF(ISBLANK(J38),0,IF(J38=0,1,IF(J38>0,J38,0))) -> 16 | L38: =L37+IF(ISBLANK(J38),0,IF(J38=0,1,IF(J38<0,-J38,0))) -> 14 | N38: -1 | O38: =O37+IF(ISBLANK(N38),0,IF(N38=0,1,IF(N38>0,N38,0))) -> 16 | P38: =P37+IF(ISBLANK(N38),0,IF(N38=0,1,IF(N38<0,-N38,0))) -> 16 | R38: 1 | S38: =S37+IF(ISBLANK(R38),0,IF(R38=0,1,IF(R38>0,R38,0))) -> 18 | T38: =T37+IF(ISBLANK(R38),0,IF(R38=0,1,IF(R38<0,-R38,0))) -> 13 | W38: =W37+IF(ISBLANK(V38),0,IF(V38=0,1,IF(V38>0,V38,0))) -> 20 | X38: =X37+IF(ISBLANK(V38),0,IF(V38=0,1,IF(V38<0,-V38,0))) -> 11 | Z38: 1 | AA38: =AA37+IF(ISBLANK(Z38),0,IF(Z38=0,1,IF(Z38>0,Z38,0))) -> 16 | AB38: =AB37+IF(ISBLANK(Z38),0,IF(Z38=0,1,IF(Z38<0,-Z38,0))) -> 15 | AE38: =C38-D38 -> 7 | AF38: =G38-H38 -> 9 | AG38: =K38-L38 -> 2 | AH38: =O38-P38 -> 0 | AI38: =S38-T38 -> 5 | AJ38: =W38-X38 -> 9 | AK38: =AA38-AB38 -> 1 | AM38: =(MAX($AE38:$AI38)-AE38)/2 -> 1 | AN38: =(MAX($AE38:$AI38)-AF38)/2 -> 0 | AO38: =(MAX($AE38:$AI38)-AG38)/2 -> 3.5 | AP38: =(MAX($AE38:$AI38)-AH38)/2 -> 4.5 | AQ38: =(MAX($AE38:$AI38)-AI38)/2 -> 2 | AY38: =IF(AO38=0,MIN(AM38:AN38,AP38:AQ38),0-AO38) -> -3.5
A39: 46143 | B39: 1 | C39: =C38+IF(ISBLANK(B39),0,IF(B39=0,1,IF(B39>0,B39,0))) -> 20 | D39: =D38+IF(ISBLANK(B39),0,IF(B39=0,1,IF(B39<0,-B39,0))) -> 12 | F39: -1 | G39: =G38+IF(ISBLANK(F39),0,IF(F39=0,1,IF(F39>0,F39,0))) -> 20 | H39: =H38+IF(ISBLANK(F39),0,IF(F39=0,1,IF(F39<0,-F39,0))) -> 12 | J39: 1 | K39: =K38+IF(ISBLANK(J39),0,IF(J39=0,1,IF(J39>0,J39,0))) -> 17 | L39: =L38+IF(ISBLANK(J39),0,IF(J39=0,1,IF(J39<0,-J39,0))) -> 14 | N39: 1 | O39: =O38+IF(ISBLANK(N39),0,IF(N39=0,1,IF(N39>0,N39,0))) -> 17 | P39: =P38+IF(ISBLANK(N39),0,IF(N39=0,1,IF(N39<0,-N39,0))) -> 16 | R39: 1 | S39: =S38+IF(ISBLANK(R39),0,IF(R39=0,1,IF(R39>0,R39,0))) -> 19 | T39: =T38+IF(ISBLANK(R39),0,IF(R39=0,1,IF(R39<0,-R39,0))) -> 13 | V39: -1 | W39: =W38+IF(ISBLANK(V39),0,IF(V39=0,1,IF(V39>0,V39,0))) -> 20 | X39: =X38+IF(ISBLANK(V39),0,IF(V39=0,1,IF(V39<0,-V39,0))) -> 12 | Z39: -1 | AA39: =AA38+IF(ISBLANK(Z39),0,IF(Z39=0,1,IF(Z39>0,Z39,0))) -> 16 | AB39: =AB38+IF(ISBLANK(Z39),0,IF(Z39=0,1,IF(Z39<0,-Z39,0))) -> 16 | AE39: =C39-D39 -> 8 | AF39: =G39-H39 -> 8 | AG39: =K39-L39 -> 3 | AH39: =O39-P39 -> 1 | AI39: =S39-T39 -> 6 | AJ39: =W39-X39 -> 8 | AK39: =AA39-AB39 -> 0 | AM39: =(MAX($AE39:$AI39)-AE39)/2 -> 0 | AN39: =(MAX($AE39:$AI39)-AF39)/2 -> 0 | AO39: =(MAX($AE39:$AI39)-AG39)/2 -> 2.5 | AP39: =(MAX($AE39:$AI39)-AH39)/2 -> 3.5 | AQ39: =(MAX($AE39:$AI39)-AI39)/2 -> 1 | AY39: =IF(AO39=0,MIN(AM39:AN39,AP39:AQ39),0-AO39) -> -2.5
A40: 46144 | B40: 1 | C40: =C39+IF(ISBLANK(B40),0,IF(B40=0,1,IF(B40>0,B40,0))) -> 21 | D40: =D39+IF(ISBLANK(B40),0,IF(B40=0,1,IF(B40<0,-B40,0))) -> 12 | F40: -1 | G40: =G39+IF(ISBLANK(F40),0,IF(F40=0,1,IF(F40>0,F40,0))) -> 20 | H40: =H39+IF(ISBLANK(F40),0,IF(F40=0,1,IF(F40<0,-F40,0))) -> 13 | J40: 1 | K40: =K39+IF(ISBLANK(J40),0,IF(J40=0,1,IF(J40>0,J40,0))) -> 18 | L40: =L39+IF(ISBLANK(J40),0,IF(J40=0,1,IF(J40<0,-J40,0))) -> 14 | N40: 1 | O40: =O39+IF(ISBLANK(N40),0,IF(N40=0,1,IF(N40>0,N40,0))) -> 18 | P40: =P39+IF(ISBLANK(N40),0,IF(N40=0,1,IF(N40<0,-N40,0))) -> 16 | R40: 1 | S40: =S39+IF(ISBLANK(R40),0,IF(R40=0,1,IF(R40>0,R40,0))) -> 20 | T40: =T39+IF(ISBLANK(R40),0,IF(R40=0,1,IF(R40<0,-R40,0))) -> 13 | V40: -1 | W40: =W39+IF(ISBLANK(V40),0,IF(V40=0,1,IF(V40>0,V40,0))) -> 20 | X40: =X39+IF(ISBLANK(V40),0,IF(V40=0,1,IF(V40<0,-V40,0))) -> 13 | Z40: -1 | AA40: =AA39+IF(ISBLANK(Z40),0,IF(Z40=0,1,IF(Z40>0,Z40,0))) -> 16 | AB40: =AB39+IF(ISBLANK(Z40),0,IF(Z40=0,1,IF(Z40<0,-Z40,0))) -> 17 | AE40: =C40-D40 -> 9 | AF40: =G40-H40 -> 7 | AG40: =K40-L40 -> 4 | AH40: =O40-P40 -> 2 | AI40: =S40-T40 -> 7 | AJ40: =W40-X40 -> 7 | AK40: =AA40-AB40 -> -1 | AM40: =(MAX($AE40:$AI40)-AE40)/2 -> 0 | AN40: =(MAX($AE40:$AI40)-AF40)/2 -> 1 | AO40: =(MAX($AE40:$AI40)-AG40)/2 -> 2.5 | AP40: =(MAX($AE40:$AI40)-AH40)/2 -> 3.5 | AQ40: =(MAX($AE40:$AI40)-AI40)/2 -> 1 | AY40: =IF(AO40=0,MIN(AM40:AN40,AP40:AQ40),0-AO40) -> -2.5
A41: 46145 | B41: 1 | C41: =C40+IF(ISBLANK(B41),0,IF(B41=0,1,IF(B41>0,B41,0))) -> 22 | D41: =D40+IF(ISBLANK(B41),0,IF(B41=0,1,IF(B41<0,-B41,0))) -> 12 | F41: -1 | G41: =G40+IF(ISBLANK(F41),0,IF(F41=0,1,IF(F41>0,F41,0))) -> 20 | H41: =H40+IF(ISBLANK(F41),0,IF(F41=0,1,IF(F41<0,-F41,0))) -> 14 | J41: -1 | K41: =K40+IF(ISBLANK(J41),0,IF(J41=0,1,IF(J41>0,J41,0))) -> 18 | L41: =L40+IF(ISBLANK(J41),0,IF(J41=0,1,IF(J41<0,-J41,0))) -> 15 | N41: 1 | O41: =O40+IF(ISBLANK(N41),0,IF(N41=0,1,IF(N41>0,N41,0))) -> 19 | P41: =P40+IF(ISBLANK(N41),0,IF(N41=0,1,IF(N41<0,-N41,0))) -> 16 | R41: -1 | S41: =S40+IF(ISBLANK(R41),0,IF(R41=0,1,IF(R41>0,R41,0))) -> 20 | T41: =T40+IF(ISBLANK(R41),0,IF(R41=0,1,IF(R41<0,-R41,0))) -> 14 | V41: 1 | W41: =W40+IF(ISBLANK(V41),0,IF(V41=0,1,IF(V41>0,V41,0))) -> 21 | X41: =X40+IF(ISBLANK(V41),0,IF(V41=0,1,IF(V41<0,-V41,0))) -> 13 | Z41: -1 | AA41: =AA40+IF(ISBLANK(Z41),0,IF(Z41=0,1,IF(Z41>0,Z41,0))) -> 16 | AB41: =AB40+IF(ISBLANK(Z41),0,IF(Z41=0,1,IF(Z41<0,-Z41,0))) -> 18 | AE41: =C41-D41 -> 10 | AF41: =G41-H41 -> 6 | AG41: =K41-L41 -> 3 | AH41: =O41-P41 -> 3 | AI41: =S41-T41 -> 6 | AJ41: =W41-X41 -> 8 | AK41: =AA41-AB41 -> -2 | AM41: =(MAX($AE41:$AI41)-AE41)/2 -> 0 | AN41: =(MAX($AE41:$AI41)-AF41)/2 -> 2 | AO41: =(MAX($AE41:$AI41)-AG41)/2 -> 3.5 | AP41: =(MAX($AE41:$AI41)-AH41)/2 -> 3.5 | AQ41: =(MAX($AE41:$AI41)-AI41)/2 -> 2 | AY41: =IF(AO41=0,MIN(AM41:AN41,AP41:AQ41),0-AO41) -> -3.5
A42: 46146 | B42: 1 | C42: =C41+IF(ISBLANK(B42),0,IF(B42=0,1,IF(B42>0,B42,0))) -> 23 | D42: =D41+IF(ISBLANK(B42),0,IF(B42=0,1,IF(B42<0,-B42,0))) -> 12 | F42: -1 | G42: =G41+IF(ISBLANK(F42),0,IF(F42=0,1,IF(F42>0,F42,0))) -> 20 | H42: =H41+IF(ISBLANK(F42),0,IF(F42=0,1,IF(F42<0,-F42,0))) -> 15 | J42: -1 | K42: =K41+IF(ISBLANK(J42),0,IF(J42=0,1,IF(J42>0,J42,0))) -> 18 | L42: =L41+IF(ISBLANK(J42),0,IF(J42=0,1,IF(J42<0,-J42,0))) -> 16 | O42: =O41+IF(ISBLANK(N42),0,IF(N42=0,1,IF(N42>0,N42,0))) -> 19 | P42: =P41+IF(ISBLANK(N42),0,IF(N42=0,1,IF(N42<0,-N42,0))) -> 16 | R42: 1 | S42: =S41+IF(ISBLANK(R42),0,IF(R42=0,1,IF(R42>0,R42,0))) -> 21 | T42: =T41+IF(ISBLANK(R42),0,IF(R42=0,1,IF(R42<0,-R42,0))) -> 14 | V42: 1 | W42: =W41+IF(ISBLANK(V42),0,IF(V42=0,1,IF(V42>0,V42,0))) -> 22 | X42: =X41+IF(ISBLANK(V42),0,IF(V42=0,1,IF(V42<0,-V42,0))) -> 13 | Z42: 1 | AA42: =AA41+IF(ISBLANK(Z42),0,IF(Z42=0,1,IF(Z42>0,Z42,0))) -> 17 | AB42: =AB41+IF(ISBLANK(Z42),0,IF(Z42=0,1,IF(Z42<0,-Z42,0))) -> 18 | AE42: =C42-D42 -> 11 | AF42: =G42-H42 -> 5 | AG42: =K42-L42 -> 2 | AH42: =O42-P42 -> 3 | AI42: =S42-T42 -> 7 | AJ42: =W42-X42 -> 9 | AK42: =AA42-AB42 -> -1 | AM42: =(MAX($AE42:$AI42)-AE42)/2 -> 0 | AN42: =(MAX($AE42:$AI42)-AF42)/2 -> 3 | AO42: =(MAX($AE42:$AI42)-AG42)/2 -> 4.5 | AP42: =(MAX($AE42:$AI42)-AH42)/2 -> 4 | AQ42: =(MAX($AE42:$AI42)-AI42)/2 -> 2 | AY42: =IF(AO42=0,MIN(AM42:AN42,AP42:AQ42),0-AO42) -> -4.5
A43: 46147 | B43: 1 | C43: =C42+IF(ISBLANK(B43),0,IF(B43=0,1,IF(B43>0,B43,0))) -> 24 | D43: =D42+IF(ISBLANK(B43),0,IF(B43=0,1,IF(B43<0,-B43,0))) -> 12 | F43: -1 | G43: =G42+IF(ISBLANK(F43),0,IF(F43=0,1,IF(F43>0,F43,0))) -> 20 | H43: =H42+IF(ISBLANK(F43),0,IF(F43=0,1,IF(F43<0,-F43,0))) -> 16 | K43: =K42+IF(ISBLANK(J43),0,IF(J43=0,1,IF(J43>0,J43,0))) -> 18 | L43: =L42+IF(ISBLANK(J43),0,IF(J43=0,1,IF(J43<0,-J43,0))) -> 16 | N43: -1 | O43: =O42+IF(ISBLANK(N43),0,IF(N43=0,1,IF(N43>0,N43,0))) -> 19 | P43: =P42+IF(ISBLANK(N43),0,IF(N43=0,1,IF(N43<0,-N43,0))) -> 17 | S43: =S42+IF(ISBLANK(R43),0,IF(R43=0,1,IF(R43>0,R43,0))) -> 21 | T43: =T42+IF(ISBLANK(R43),0,IF(R43=0,1,IF(R43<0,-R43,0))) -> 14 | V43: -1 | W43: =W42+IF(ISBLANK(V43),0,IF(V43=0,1,IF(V43>0,V43,0))) -> 22 | X43: =X42+IF(ISBLANK(V43),0,IF(V43=0,1,IF(V43<0,-V43,0))) -> 14 | Z43: 1 | AA43: =AA42+IF(ISBLANK(Z43),0,IF(Z43=0,1,IF(Z43>0,Z43,0))) -> 18 | AB43: =AB42+IF(ISBLANK(Z43),0,IF(Z43=0,1,IF(Z43<0,-Z43,0))) -> 18 | AE43: =C43-D43 -> 12 | AF43: =G43-H43 -> 4 | AG43: =K43-L43 -> 2 | AH43: =O43-P43 -> 2 | AI43: =S43-T43 -> 7 | AJ43: =W43-X43 -> 8 | AK43: =AA43-AB43 -> 0 | AM43: =(MAX($AE43:$AI43)-AE43)/2 -> 0 | AN43: =(MAX($AE43:$AI43)-AF43)/2 -> 4 | AO43: =(MAX($AE43:$AI43)-AG43)/2 -> 5 | AP43: =(MAX($AE43:$AI43)-AH43)/2 -> 5 | AQ43: =(MAX($AE43:$AI43)-AI43)/2 -> 2.5 | AY43: =IF(AO43=0,MIN(AM43:AN43,AP43:AQ43),0-AO43) -> -5
A44: 46148 | B44: 1 | C44: =C43+IF(ISBLANK(B44),0,IF(B44=0,1,IF(B44>0,B44,0))) -> 25 | D44: =D43+IF(ISBLANK(B44),0,IF(B44=0,1,IF(B44<0,-B44,0))) -> 12 | F44: -1 | G44: =G43+IF(ISBLANK(F44),0,IF(F44=0,1,IF(F44>0,F44,0))) -> 20 | H44: =H43+IF(ISBLANK(F44),0,IF(F44=0,1,IF(F44<0,-F44,0))) -> 17 | J44: 1 | K44: =K43+IF(ISBLANK(J44),0,IF(J44=0,1,IF(J44>0,J44,0))) -> 19 | L44: =L43+IF(ISBLANK(J44),0,IF(J44=0,1,IF(J44<0,-J44,0))) -> 16 | N44: 1 | O44: =O43+IF(ISBLANK(N44),0,IF(N44=0,1,IF(N44>0,N44,0))) -> 20 | P44: =P43+IF(ISBLANK(N44),0,IF(N44=0,1,IF(N44<0,-N44,0))) -> 17 | R44: -1 | S44: =S43+IF(ISBLANK(R44),0,IF(R44=0,1,IF(R44>0,R44,0))) -> 21 | T44: =T43+IF(ISBLANK(R44),0,IF(R44=0,1,IF(R44<0,-R44,0))) -> 15 | V44: 1 | W44: =W43+IF(ISBLANK(V44),0,IF(V44=0,1,IF(V44>0,V44,0))) -> 23 | X44: =X43+IF(ISBLANK(V44),0,IF(V44=0,1,IF(V44<0,-V44,0))) -> 14 | Z44: 1 | AA44: =AA43+IF(ISBLANK(Z44),0,IF(Z44=0,1,IF(Z44>0,Z44,0))) -> 19 | AB44: =AB43+IF(ISBLANK(Z44),0,IF(Z44=0,1,IF(Z44<0,-Z44,0))) -> 18 | AE44: =C44-D44 -> 13 | AF44: =G44-H44 -> 3 | AG44: =K44-L44 -> 3 | AH44: =O44-P44 -> 3 | AI44: =S44-T44 -> 6 | AJ44: =W44-X44 -> 9 | AK44: =AA44-AB44 -> 1 | AM44: =(MAX($AE44:$AI44)-AE44)/2 -> 0 | AN44: =(MAX($AE44:$AI44)-AF44)/2 -> 5 | AO44: =(MAX($AE44:$AI44)-AG44)/2 -> 5 | AP44: =(MAX($AE44:$AI44)-AH44)/2 -> 5 | AQ44: =(MAX($AE44:$AI44)-AI44)/2 -> 3.5 | AY44: =IF(AO44=0,MIN(AM44:AN44,AP44:AQ44),0-AO44) -> -5
A45: 46149 | B45: 1 | C45: =C44+IF(ISBLANK(B45),0,IF(B45=0,1,IF(B45>0,B45,0))) -> 26 | D45: =D44+IF(ISBLANK(B45),0,IF(B45=0,1,IF(B45<0,-B45,0))) -> 12 | F45: -1 | G45: =G44+IF(ISBLANK(F45),0,IF(F45=0,1,IF(F45>0,F45,0))) -> 20 | H45: =H44+IF(ISBLANK(F45),0,IF(F45=0,1,IF(F45<0,-F45,0))) -> 18 | K45: =K44+IF(ISBLANK(J45),0,IF(J45=0,1,IF(J45>0,J45,0))) -> 19 | L45: =L44+IF(ISBLANK(J45),0,IF(J45=0,1,IF(J45<0,-J45,0))) -> 16 | N45: 1 | O45: =O44+IF(ISBLANK(N45),0,IF(N45=0,1,IF(N45>0,N45,0))) -> 21 | P45: =P44+IF(ISBLANK(N45),0,IF(N45=0,1,IF(N45<0,-N45,0))) -> 17 | R45: 1 | S45: =S44+IF(ISBLANK(R45),0,IF(R45=0,1,IF(R45>0,R45,0))) -> 22 | T45: =T44+IF(ISBLANK(R45),0,IF(R45=0,1,IF(R45<0,-R45,0))) -> 15 | W45: =W44+IF(ISBLANK(V45),0,IF(V45=0,1,IF(V45>0,V45,0))) -> 23 | X45: =X44+IF(ISBLANK(V45),0,IF(V45=0,1,IF(V45<0,-V45,0))) -> 14 | Z45: -1 | AA45: =AA44+IF(ISBLANK(Z45),0,IF(Z45=0,1,IF(Z45>0,Z45,0))) -> 19 | AB45: =AB44+IF(ISBLANK(Z45),0,IF(Z45=0,1,IF(Z45<0,-Z45,0))) -> 19 | AE45: =C45-D45 -> 14 | AF45: =G45-H45 -> 2 | AG45: =K45-L45 -> 3 | AH45: =O45-P45 -> 4 | AI45: =S45-T45 -> 7 | AJ45: =W45-X45 -> 9 | AK45: =AA45-AB45 -> 0 | AM45: =(MAX($AE45:$AI45)-AE45)/2 -> 0 | AN45: =(MAX($AE45:$AI45)-AF45)/2 -> 6 | AO45: =(MAX($AE45:$AI45)-AG45)/2 -> 5.5 | AP45: =(MAX($AE45:$AI45)-AH45)/2 -> 5 | AQ45: =(MAX($AE45:$AI45)-AI45)/2 -> 3.5 | AY45: =IF(AO45=0,MIN(AM45:AN45,AP45:AQ45),0-AO45) -> -5.5
A46: 46150 | B46: 1 | C46: =C45+IF(ISBLANK(B46),0,IF(B46=0,1,IF(B46>0,B46,0))) -> 27 | D46: =D45+IF(ISBLANK(B46),0,IF(B46=0,1,IF(B46<0,-B46,0))) -> 12 | F46: -1 | G46: =G45+IF(ISBLANK(F46),0,IF(F46=0,1,IF(F46>0,F46,0))) -> 20 | H46: =H45+IF(ISBLANK(F46),0,IF(F46=0,1,IF(F46<0,-F46,0))) -> 19 | J46: 1 | K46: =K45+IF(ISBLANK(J46),0,IF(J46=0,1,IF(J46>0,J46,0))) -> 20 | L46: =L45+IF(ISBLANK(J46),0,IF(J46=0,1,IF(J46<0,-J46,0))) -> 16 | N46: -1 | O46: =O45+IF(ISBLANK(N46),0,IF(N46=0,1,IF(N46>0,N46,0))) -> 21 | P46: =P45+IF(ISBLANK(N46),0,IF(N46=0,1,IF(N46<0,-N46,0))) -> 18 | R46: 1 | S46: =S45+IF(ISBLANK(R46),0,IF(R46=0,1,IF(R46>0,R46,0))) -> 23 | T46: =T45+IF(ISBLANK(R46),0,IF(R46=0,1,IF(R46<0,-R46,0))) -> 15 | V46: 1 | W46: =W45+IF(ISBLANK(V46),0,IF(V46=0,1,IF(V46>0,V46,0))) -> 24 | X46: =X45+IF(ISBLANK(V46),0,IF(V46=0,1,IF(V46<0,-V46,0))) -> 14 | AA46: =AA45+IF(ISBLANK(Z46),0,IF(Z46=0,1,IF(Z46>0,Z46,0))) -> 19 | AB46: =AB45+IF(ISBLANK(Z46),0,IF(Z46=0,1,IF(Z46<0,-Z46,0))) -> 19 | AE46: =C46-D46 -> 15 | AF46: =G46-H46 -> 1 | AG46: =K46-L46 -> 4 | AH46: =O46-P46 -> 3 | AI46: =S46-T46 -> 8 | AJ46: =W46-X46 -> 10 | AK46: =AA46-AB46 -> 0 | AM46: =(MAX($AE46:$AI46)-AE46)/2 -> 0 | AN46: =(MAX($AE46:$AI46)-AF46)/2 -> 7 | AO46: =(MAX($AE46:$AI46)-AG46)/2 -> 5.5 | AP46: =(MAX($AE46:$AI46)-AH46)/2 -> 6 | AQ46: =(MAX($AE46:$AI46)-AI46)/2 -> 3.5 | AY46: =IF(AO46=0,MIN(AM46:AN46,AP46:AQ46),0-AO46) -> -5.5
A47: 46151 | B47: -1 | C47: =C46+IF(ISBLANK(B47),0,IF(B47=0,1,IF(B47>0,B47,0))) -> 27 | D47: =D46+IF(ISBLANK(B47),0,IF(B47=0,1,IF(B47<0,-B47,0))) -> 13 | F47: 1 | G47: =G46+IF(ISBLANK(F47),0,IF(F47=0,1,IF(F47>0,F47,0))) -> 21 | H47: =H46+IF(ISBLANK(F47),0,IF(F47=0,1,IF(F47<0,-F47,0))) -> 19 | J47: 1 | K47: =K46+IF(ISBLANK(J47),0,IF(J47=0,1,IF(J47>0,J47,0))) -> 21 | L47: =L46+IF(ISBLANK(J47),0,IF(J47=0,1,IF(J47<0,-J47,0))) -> 16 | N47: 1 | O47: =O46+IF(ISBLANK(N47),0,IF(N47=0,1,IF(N47>0,N47,0))) -> 22 | P47: =P46+IF(ISBLANK(N47),0,IF(N47=0,1,IF(N47<0,-N47,0))) -> 18 | R47: -1 | S47: =S46+IF(ISBLANK(R47),0,IF(R47=0,1,IF(R47>0,R47,0))) -> 23 | T47: =T46+IF(ISBLANK(R47),0,IF(R47=0,1,IF(R47<0,-R47,0))) -> 16 | V47: -1 | W47: =W46+IF(ISBLANK(V47),0,IF(V47=0,1,IF(V47>0,V47,0))) -> 24 | X47: =X46+IF(ISBLANK(V47),0,IF(V47=0,1,IF(V47<0,-V47,0))) -> 15 | Z47: -1 | AA47: =AA46+IF(ISBLANK(Z47),0,IF(Z47=0,1,IF(Z47>0,Z47,0))) -> 19 | AB47: =AB46+IF(ISBLANK(Z47),0,IF(Z47=0,1,IF(Z47<0,-Z47,0))) -> 20 | AE47: =C47-D47 -> 14 | AF47: =G47-H47 -> 2 | AG47: =K47-L47 -> 5 | AH47: =O47-P47 -> 4 | AI47: =S47-T47 -> 7 | AJ47: =W47-X47 -> 9 | AK47: =AA47-AB47 -> -1 | AM47: =(MAX($AE47:$AI47)-AE47)/2 -> 0 | AN47: =(MAX($AE47:$AI47)-AF47)/2 -> 6 | AO47: =(MAX($AE47:$AI47)-AG47)/2 -> 4.5 | AP47: =(MAX($AE47:$AI47)-AH47)/2 -> 5 | AQ47: =(MAX($AE47:$AI47)-AI47)/2 -> 3.5 | AY47: =IF(AO47=0,MIN(AM47:AN47,AP47:AQ47),0-AO47) -> -4.5
A48: 46152 | B48: -1 | C48: =C47+IF(ISBLANK(B48),0,IF(B48=0,1,IF(B48>0,B48,0))) -> 27 | D48: =D47+IF(ISBLANK(B48),0,IF(B48=0,1,IF(B48<0,-B48,0))) -> 14 | F48: 1 | G48: =G47+IF(ISBLANK(F48),0,IF(F48=0,1,IF(F48>0,F48,0))) -> 22 | H48: =H47+IF(ISBLANK(F48),0,IF(F48=0,1,IF(F48<0,-F48,0))) -> 19 | J48: 1 | K48: =K47+IF(ISBLANK(J48),0,IF(J48=0,1,IF(J48>0,J48,0))) -> 22 | L48: =L47+IF(ISBLANK(J48),0,IF(J48=0,1,IF(J48<0,-J48,0))) -> 16 | N48: -1 | O48: =O47+IF(ISBLANK(N48),0,IF(N48=0,1,IF(N48>0,N48,0))) -> 22 | P48: =P47+IF(ISBLANK(N48),0,IF(N48=0,1,IF(N48<0,-N48,0))) -> 19 | R48: -1 | S48: =S47+IF(ISBLANK(R48),0,IF(R48=0,1,IF(R48>0,R48,0))) -> 23 | T48: =T47+IF(ISBLANK(R48),0,IF(R48=0,1,IF(R48<0,-R48,0))) -> 17 | V48: -1 | W48: =W47+IF(ISBLANK(V48),0,IF(V48=0,1,IF(V48>0,V48,0))) -> 24 | X48: =X47+IF(ISBLANK(V48),0,IF(V48=0,1,IF(V48<0,-V48,0))) -> 16 | Z48: -1 | AA48: =AA47+IF(ISBLANK(Z48),0,IF(Z48=0,1,IF(Z48>0,Z48,0))) -> 19 | AB48: =AB47+IF(ISBLANK(Z48),0,IF(Z48=0,1,IF(Z48<0,-Z48,0))) -> 21 | AE48: =C48-D48 -> 13 | AF48: =G48-H48 -> 3 | AG48: =K48-L48 -> 6 | AH48: =O48-P48 -> 3 | AI48: =S48-T48 -> 6 | AJ48: =W48-X48 -> 8 | AK48: =AA48-AB48 -> -2 | AM48: =(MAX($AE48:$AI48)-AE48)/2 -> 0 | AN48: =(MAX($AE48:$AI48)-AF48)/2 -> 5 | AO48: =(MAX($AE48:$AI48)-AG48)/2 -> 3.5 | AP48: =(MAX($AE48:$AI48)-AH48)/2 -> 5 | AQ48: =(MAX($AE48:$AI48)-AI48)/2 -> 3.5 | AY48: =IF(AO48=0,MIN(AM48:AN48,AP48:AQ48),0-AO48) -> -3.5
A49: 46153 | C49: =C48+IF(ISBLANK(B49),0,IF(B49=0,1,IF(B49>0,B49,0))) -> 27 | D49: =D48+IF(ISBLANK(B49),0,IF(B49=0,1,IF(B49<0,-B49,0))) -> 14 | G49: =G48+IF(ISBLANK(F49),0,IF(F49=0,1,IF(F49>0,F49,0))) -> 22 | H49: =H48+IF(ISBLANK(F49),0,IF(F49=0,1,IF(F49<0,-F49,0))) -> 19 | K49: =K48+IF(ISBLANK(J49),0,IF(J49=0,1,IF(J49>0,J49,0))) -> 22 | L49: =L48+IF(ISBLANK(J49),0,IF(J49=0,1,IF(J49<0,-J49,0))) -> 16 | O49: =O48+IF(ISBLANK(N49),0,IF(N49=0,1,IF(N49>0,N49,0))) -> 22 | P49: =P48+IF(ISBLANK(N49),0,IF(N49=0,1,IF(N49<0,-N49,0))) -> 19 | S49: =S48+IF(ISBLANK(R49),0,IF(R49=0,1,IF(R49>0,R49,0))) -> 23 | T49: =T48+IF(ISBLANK(R49),0,IF(R49=0,1,IF(R49<0,-R49,0))) -> 17 | V49: -1 | W49: =W48+IF(ISBLANK(V49),0,IF(V49=0,1,IF(V49>0,V49,0))) -> 24 | X49: =X48+IF(ISBLANK(V49),0,IF(V49=0,1,IF(V49<0,-V49,0))) -> 17 | Z49: 1 | AA49: =AA48+IF(ISBLANK(Z49),0,IF(Z49=0,1,IF(Z49>0,Z49,0))) -> 20 | AB49: =AB48+IF(ISBLANK(Z49),0,IF(Z49=0,1,IF(Z49<0,-Z49,0))) -> 21 | AE49: =C49-D49 -> 13 | AF49: =G49-H49 -> 3 | AG49: =K49-L49 -> 6 | AH49: =O49-P49 -> 3 | AI49: =S49-T49 -> 6 | AJ49: =W49-X49 -> 7 | AK49: =AA49-AB49 -> -1 | AM49: =(MAX($AE49:$AI49)-AE49)/2 -> 0 | AN49: =(MAX($AE49:$AI49)-AF49)/2 -> 5 | AO49: =(MAX($AE49:$AI49)-AG49)/2 -> 3.5 | AP49: =(MAX($AE49:$AI49)-AH49)/2 -> 5 | AQ49: =(MAX($AE49:$AI49)-AI49)/2 -> 3.5 | AY49: =IF(AO49=0,MIN(AM49:AN49,AP49:AQ49),0-AO49) -> -3.5
A50: 46154 | B50: -1 | C50: =C49+IF(ISBLANK(B50),0,IF(B50=0,1,IF(B50>0,B50,0))) -> 27 | D50: =D49+IF(ISBLANK(B50),0,IF(B50=0,1,IF(B50<0,-B50,0))) -> 15 | F50: -1 | G50: =G49+IF(ISBLANK(F50),0,IF(F50=0,1,IF(F50>0,F50,0))) -> 22 | H50: =H49+IF(ISBLANK(F50),0,IF(F50=0,1,IF(F50<0,-F50,0))) -> 20 | J50: 1 | K50: =K49+IF(ISBLANK(J50),0,IF(J50=0,1,IF(J50>0,J50,0))) -> 23 | L50: =L49+IF(ISBLANK(J50),0,IF(J50=0,1,IF(J50<0,-J50,0))) -> 16 | N50: 1 | O50: =O49+IF(ISBLANK(N50),0,IF(N50=0,1,IF(N50>0,N50,0))) -> 23 | P50: =P49+IF(ISBLANK(N50),0,IF(N50=0,1,IF(N50<0,-N50,0))) -> 19 | R50: 1 | S50: =S49+IF(ISBLANK(R50),0,IF(R50=0,1,IF(R50>0,R50,0))) -> 24 | T50: =T49+IF(ISBLANK(R50),0,IF(R50=0,1,IF(R50<0,-R50,0))) -> 17 | V50: -1 | W50: =W49+IF(ISBLANK(V50),0,IF(V50=0,1,IF(V50>0,V50,0))) -> 24 | X50: =X49+IF(ISBLANK(V50),0,IF(V50=0,1,IF(V50<0,-V50,0))) -> 18 | Z50: -1 | AA50: =AA49+IF(ISBLANK(Z50),0,IF(Z50=0,1,IF(Z50>0,Z50,0))) -> 20 | AB50: =AB49+IF(ISBLANK(Z50),0,IF(Z50=0,1,IF(Z50<0,-Z50,0))) -> 22 | AE50: =C50-D50 -> 12 | AF50: =G50-H50 -> 2 | AG50: =K50-L50 -> 7 | AH50: =O50-P50 -> 4 | AI50: =S50-T50 -> 7 | AJ50: =W50-X50 -> 6 | AK50: =AA50-AB50 -> -2 | AM50: =(MAX($AE50:$AI50)-AE50)/2 -> 0 | AN50: =(MAX($AE50:$AI50)-AF50)/2 -> 5 | AO50: =(MAX($AE50:$AI50)-AG50)/2 -> 2.5 | AP50: =(MAX($AE50:$AI50)-AH50)/2 -> 4 | AQ50: =(MAX($AE50:$AI50)-AI50)/2 -> 2.5 | AY50: =IF(AO50=0,MIN(AM50:AN50,AP50:AQ50),0-AO50) -> -2.5
A51: 46155 | B51: -1 | C51: =C50+IF(ISBLANK(B51),0,IF(B51=0,1,IF(B51>0,B51,0))) -> 27 | D51: =D50+IF(ISBLANK(B51),0,IF(B51=0,1,IF(B51<0,-B51,0))) -> 16 | F51: -1 | G51: =G50+IF(ISBLANK(F51),0,IF(F51=0,1,IF(F51>0,F51,0))) -> 22 | H51: =H50+IF(ISBLANK(F51),0,IF(F51=0,1,IF(F51<0,-F51,0))) -> 21 | J51: -1 | K51: =K50+IF(ISBLANK(J51),0,IF(J51=0,1,IF(J51>0,J51,0))) -> 23 | L51: =L50+IF(ISBLANK(J51),0,IF(J51=0,1,IF(J51<0,-J51,0))) -> 17 | N51: -1 | O51: =O50+IF(ISBLANK(N51),0,IF(N51=0,1,IF(N51>0,N51,0))) -> 23 | P51: =P50+IF(ISBLANK(N51),0,IF(N51=0,1,IF(N51<0,-N51,0))) -> 20 | R51: -1 | S51: =S50+IF(ISBLANK(R51),0,IF(R51=0,1,IF(R51>0,R51,0))) -> 24 | T51: =T50+IF(ISBLANK(R51),0,IF(R51=0,1,IF(R51<0,-R51,0))) -> 18 | V51: 1 | W51: =W50+IF(ISBLANK(V51),0,IF(V51=0,1,IF(V51>0,V51,0))) -> 25 | X51: =X50+IF(ISBLANK(V51),0,IF(V51=0,1,IF(V51<0,-V51,0))) -> 18 | Z51: -1 | AA51: =AA50+IF(ISBLANK(Z51),0,IF(Z51=0,1,IF(Z51>0,Z51,0))) -> 20 | AB51: =AB50+IF(ISBLANK(Z51),0,IF(Z51=0,1,IF(Z51<0,-Z51,0))) -> 23 | AE51: =C51-D51 -> 11 | AF51: =G51-H51 -> 1 | AG51: =K51-L51 -> 6 | AH51: =O51-P51 -> 3 | AI51: =S51-T51 -> 6 | AJ51: =W51-X51 -> 7 | AK51: =AA51-AB51 -> -3 | AM51: =(MAX($AE51:$AI51)-AE51)/2 -> 0 | AN51: =(MAX($AE51:$AI51)-AF51)/2 -> 5 | AO51: =(MAX($AE51:$AI51)-AG51)/2 -> 2.5 | AP51: =(MAX($AE51:$AI51)-AH51)/2 -> 4 | AQ51: =(MAX($AE51:$AI51)-AI51)/2 -> 2.5 | AY51: =IF(AO51=0,MIN(AM51:AN51,AP51:AQ51),0-AO51) -> -2.5
A52: 46156 | B52: 1 | C52: =C51+IF(ISBLANK(B52),0,IF(B52=0,1,IF(B52>0,B52,0))) -> 28 | D52: =D51+IF(ISBLANK(B52),0,IF(B52=0,1,IF(B52<0,-B52,0))) -> 16 | F52: 1 | G52: =G51+IF(ISBLANK(F52),0,IF(F52=0,1,IF(F52>0,F52,0))) -> 23 | H52: =H51+IF(ISBLANK(F52),0,IF(F52=0,1,IF(F52<0,-F52,0))) -> 21 | J52: 1 | K52: =K51+IF(ISBLANK(J52),0,IF(J52=0,1,IF(J52>0,J52,0))) -> 24 | L52: =L51+IF(ISBLANK(J52),0,IF(J52=0,1,IF(J52<0,-J52,0))) -> 17 | N52: 1 | O52: =O51+IF(ISBLANK(N52),0,IF(N52=0,1,IF(N52>0,N52,0))) -> 24 | P52: =P51+IF(ISBLANK(N52),0,IF(N52=0,1,IF(N52<0,-N52,0))) -> 20 | R52: 1 | S52: =S51+IF(ISBLANK(R52),0,IF(R52=0,1,IF(R52>0,R52,0))) -> 25 | T52: =T51+IF(ISBLANK(R52),0,IF(R52=0,1,IF(R52<0,-R52,0))) -> 18 | V52: 1 | W52: =W51+IF(ISBLANK(V52),0,IF(V52=0,1,IF(V52>0,V52,0))) -> 26 | X52: =X51+IF(ISBLANK(V52),0,IF(V52=0,1,IF(V52<0,-V52,0))) -> 18 | Z52: 1 | AA52: =AA51+IF(ISBLANK(Z52),0,IF(Z52=0,1,IF(Z52>0,Z52,0))) -> 21 | AB52: =AB51+IF(ISBLANK(Z52),0,IF(Z52=0,1,IF(Z52<0,-Z52,0))) -> 23 | AE52: =C52-D52 -> 12 | AF52: =G52-H52 -> 2 | AG52: =K52-L52 -> 7 | AH52: =O52-P52 -> 4 | AI52: =S52-T52 -> 7 | AJ52: =W52-X52 -> 8 | AK52: =AA52-AB52 -> -2 | AM52: =(MAX($AE52:$AI52)-AE52)/2 -> 0 | AN52: =(MAX($AE52:$AI52)-AF52)/2 -> 5 | AO52: =(MAX($AE52:$AI52)-AG52)/2 -> 2.5 | AP52: =(MAX($AE52:$AI52)-AH52)/2 -> 4 | AQ52: =(MAX($AE52:$AI52)-AI52)/2 -> 2.5 | AY52: =IF(AO52=0,MIN(AM52:AN52,AP52:AQ52),0-AO52) -> -2.5
A53: 46157 | B53: 1 | C53: =C52+IF(ISBLANK(B53),0,IF(B53=0,1,IF(B53>0,B53,0))) -> 29 | D53: =D52+IF(ISBLANK(B53),0,IF(B53=0,1,IF(B53<0,-B53,0))) -> 16 | F53: 1 | G53: =G52+IF(ISBLANK(F53),0,IF(F53=0,1,IF(F53>0,F53,0))) -> 24 | H53: =H52+IF(ISBLANK(F53),0,IF(F53=0,1,IF(F53<0,-F53,0))) -> 21 | J53: 1 | K53: =K52+IF(ISBLANK(J53),0,IF(J53=0,1,IF(J53>0,J53,0))) -> 25 | L53: =L52+IF(ISBLANK(J53),0,IF(J53=0,1,IF(J53<0,-J53,0))) -> 17 | N53: -1 | O53: =O52+IF(ISBLANK(N53),0,IF(N53=0,1,IF(N53>0,N53,0))) -> 24 | P53: =P52+IF(ISBLANK(N53),0,IF(N53=0,1,IF(N53<0,-N53,0))) -> 21 | R53: 1 | S53: =S52+IF(ISBLANK(R53),0,IF(R53=0,1,IF(R53>0,R53,0))) -> 26 | T53: =T52+IF(ISBLANK(R53),0,IF(R53=0,1,IF(R53<0,-R53,0))) -> 18 | V53: 1 | W53: =W52+IF(ISBLANK(V53),0,IF(V53=0,1,IF(V53>0,V53,0))) -> 27 | X53: =X52+IF(ISBLANK(V53),0,IF(V53=0,1,IF(V53<0,-V53,0))) -> 18 | AA53: =AA52+IF(ISBLANK(Z53),0,IF(Z53=0,1,IF(Z53>0,Z53,0))) -> 21 | AB53: =AB52+IF(ISBLANK(Z53),0,IF(Z53=0,1,IF(Z53<0,-Z53,0))) -> 23 | AE53: =C53-D53 -> 13 | AF53: =G53-H53 -> 3 | AG53: =K53-L53 -> 8 | AH53: =O53-P53 -> 3 | AI53: =S53-T53 -> 8 | AJ53: =W53-X53 -> 9 | AK53: =AA53-AB53 -> -2 | AM53: =(MAX($AE53:$AI53)-AE53)/2 -> 0 | AN53: =(MAX($AE53:$AI53)-AF53)/2 -> 5 | AO53: =(MAX($AE53:$AI53)-AG53)/2 -> 2.5 | AP53: =(MAX($AE53:$AI53)-AH53)/2 -> 5 | AQ53: =(MAX($AE53:$AI53)-AI53)/2 -> 2.5 | AY53: =IF(AO53=0,MIN(AM53:AN53,AP53:AQ53),0-AO53) -> -2.5
A54: 46158 | B54: -1 | C54: =C53+IF(ISBLANK(B54),0,IF(B54=0,1,IF(B54>0,B54,0))) -> 29 | D54: =D53+IF(ISBLANK(B54),0,IF(B54=0,1,IF(B54<0,-B54,0))) -> 17 | F54: -1 | G54: =G53+IF(ISBLANK(F54),0,IF(F54=0,1,IF(F54>0,F54,0))) -> 24 | H54: =H53+IF(ISBLANK(F54),0,IF(F54=0,1,IF(F54<0,-F54,0))) -> 22 | J54: 1 | K54: =K53+IF(ISBLANK(J54),0,IF(J54=0,1,IF(J54>0,J54,0))) -> 26 | L54: =L53+IF(ISBLANK(J54),0,IF(J54=0,1,IF(J54<0,-J54,0))) -> 17 | N54: -1 | O54: =O53+IF(ISBLANK(N54),0,IF(N54=0,1,IF(N54>0,N54,0))) -> 24 | P54: =P53+IF(ISBLANK(N54),0,IF(N54=0,1,IF(N54<0,-N54,0))) -> 22 | R54: 1 | S54: =S53+IF(ISBLANK(R54),0,IF(R54=0,1,IF(R54>0,R54,0))) -> 27 | T54: =T53+IF(ISBLANK(R54),0,IF(R54=0,1,IF(R54<0,-R54,0))) -> 18 | V54: 1 | W54: =W53+IF(ISBLANK(V54),0,IF(V54=0,1,IF(V54>0,V54,0))) -> 28 | X54: =X53+IF(ISBLANK(V54),0,IF(V54=0,1,IF(V54<0,-V54,0))) -> 18 | Z54: -1 | AA54: =AA53+IF(ISBLANK(Z54),0,IF(Z54=0,1,IF(Z54>0,Z54,0))) -> 21 | AB54: =AB53+IF(ISBLANK(Z54),0,IF(Z54=0,1,IF(Z54<0,-Z54,0))) -> 24 | AE54: =C54-D54 -> 12 | AF54: =G54-H54 -> 2 | AG54: =K54-L54 -> 9 | AH54: =O54-P54 -> 2 | AI54: =S54-T54 -> 9 | AJ54: =W54-X54 -> 10 | AK54: =AA54-AB54 -> -3 | AM54: =(MAX($AE54:$AI54)-AE54)/2 -> 0 | AN54: =(MAX($AE54:$AI54)-AF54)/2 -> 5 | AO54: =(MAX($AE54:$AI54)-AG54)/2 -> 1.5 | AP54: =(MAX($AE54:$AI54)-AH54)/2 -> 5 | AQ54: =(MAX($AE54:$AI54)-AI54)/2 -> 1.5 | AY54: =IF(AO54=0,MIN(AM54:AN54,AP54:AQ54),0-AO54) -> -1.5
A55: 46159 | B55: -1 | C55: =C54+IF(ISBLANK(B55),0,IF(B55=0,1,IF(B55>0,B55,0))) -> 29 | D55: =D54+IF(ISBLANK(B55),0,IF(B55=0,1,IF(B55<0,-B55,0))) -> 18 | F55: -1 | G55: =G54+IF(ISBLANK(F55),0,IF(F55=0,1,IF(F55>0,F55,0))) -> 24 | H55: =H54+IF(ISBLANK(F55),0,IF(F55=0,1,IF(F55<0,-F55,0))) -> 23 | J55: -1 | K55: =K54+IF(ISBLANK(J55),0,IF(J55=0,1,IF(J55>0,J55,0))) -> 26 | L55: =L54+IF(ISBLANK(J55),0,IF(J55=0,1,IF(J55<0,-J55,0))) -> 18 | N55: -1 | O55: =O54+IF(ISBLANK(N55),0,IF(N55=0,1,IF(N55>0,N55,0))) -> 24 | P55: =P54+IF(ISBLANK(N55),0,IF(N55=0,1,IF(N55<0,-N55,0))) -> 23 | R55: -1 | S55: =S54+IF(ISBLANK(R55),0,IF(R55=0,1,IF(R55>0,R55,0))) -> 27 | T55: =T54+IF(ISBLANK(R55),0,IF(R55=0,1,IF(R55<0,-R55,0))) -> 19 | V55: 1 | W55: =W54+IF(ISBLANK(V55),0,IF(V55=0,1,IF(V55>0,V55,0))) -> 29 | X55: =X54+IF(ISBLANK(V55),0,IF(V55=0,1,IF(V55<0,-V55,0))) -> 18 | Z55: -1 | AA55: =AA54+IF(ISBLANK(Z55),0,IF(Z55=0,1,IF(Z55>0,Z55,0))) -> 21 | AB55: =AB54+IF(ISBLANK(Z55),0,IF(Z55=0,1,IF(Z55<0,-Z55,0))) -> 25 | AE55: =C55-D55 -> 11 | AF55: =G55-H55 -> 1 | AG55: =K55-L55 -> 8 | AH55: =O55-P55 -> 1 | AI55: =S55-T55 -> 8 | AJ55: =W55-X55 -> 11 | AK55: =AA55-AB55 -> -4 | AM55: =(MAX($AE55:$AI55)-AE55)/2 -> 0 | AN55: =(MAX($AE55:$AI55)-AF55)/2 -> 5 | AO55: =(MAX($AE55:$AI55)-AG55)/2 -> 1.5 | AP55: =(MAX($AE55:$AI55)-AH55)/2 -> 5 | AQ55: =(MAX($AE55:$AI55)-AI55)/2 -> 1.5 | AY55: =IF(AO55=0,MIN(AM55:AN55,AP55:AQ55),0-AO55) -> -1.5
A56: 46160 | B56: -1 | C56: =C55+IF(ISBLANK(B56),0,IF(B56=0,1,IF(B56>0,B56,0))) -> 29 | D56: =D55+IF(ISBLANK(B56),0,IF(B56=0,1,IF(B56<0,-B56,0))) -> 19 | F56: -1 | G56: =G55+IF(ISBLANK(F56),0,IF(F56=0,1,IF(F56>0,F56,0))) -> 24 | H56: =H55+IF(ISBLANK(F56),0,IF(F56=0,1,IF(F56<0,-F56,0))) -> 24 | J56: 1 | K56: =K55+IF(ISBLANK(J56),0,IF(J56=0,1,IF(J56>0,J56,0))) -> 27 | L56: =L55+IF(ISBLANK(J56),0,IF(J56=0,1,IF(J56<0,-J56,0))) -> 18 | O56: =O55+IF(ISBLANK(N56),0,IF(N56=0,1,IF(N56>0,N56,0))) -> 24 | P56: =P55+IF(ISBLANK(N56),0,IF(N56=0,1,IF(N56<0,-N56,0))) -> 23 | S56: =S55+IF(ISBLANK(R56),0,IF(R56=0,1,IF(R56>0,R56,0))) -> 27 | T56: =T55+IF(ISBLANK(R56),0,IF(R56=0,1,IF(R56<0,-R56,0))) -> 19 | V56: -1 | W56: =W55+IF(ISBLANK(V56),0,IF(V56=0,1,IF(V56>0,V56,0))) -> 29 | X56: =X55+IF(ISBLANK(V56),0,IF(V56=0,1,IF(V56<0,-V56,0))) -> 19 | Z56: 1 | AA56: =AA55+IF(ISBLANK(Z56),0,IF(Z56=0,1,IF(Z56>0,Z56,0))) -> 22 | AB56: =AB55+IF(ISBLANK(Z56),0,IF(Z56=0,1,IF(Z56<0,-Z56,0))) -> 25 | AE56: =C56-D56 -> 10 | AF56: =G56-H56 -> 0 | AG56: =K56-L56 -> 9 | AH56: =O56-P56 -> 1 | AI56: =S56-T56 -> 8 | AJ56: =W56-X56 -> 10 | AK56: =AA56-AB56 -> -3 | AM56: =(MAX($AE56:$AI56)-AE56)/2 -> 0 | AN56: =(MAX($AE56:$AI56)-AF56)/2 -> 5 | AO56: =(MAX($AE56:$AI56)-AG56)/2 -> 0.5 | AP56: =(MAX($AE56:$AI56)-AH56)/2 -> 4.5 | AQ56: =(MAX($AE56:$AI56)-AI56)/2 -> 1 | AY56: =IF(AO56=0,MIN(AM56:AN56,AP56:AQ56),0-AO56) -> -0.5
A57: 46161 | B57: -1 | C57: =C56+IF(ISBLANK(B57),0,IF(B57=0,1,IF(B57>0,B57,0))) -> 29 | D57: =D56+IF(ISBLANK(B57),0,IF(B57=0,1,IF(B57<0,-B57,0))) -> 20 | F57: 1 | G57: =G56+IF(ISBLANK(F57),0,IF(F57=0,1,IF(F57>0,F57,0))) -> 25 | H57: =H56+IF(ISBLANK(F57),0,IF(F57=0,1,IF(F57<0,-F57,0))) -> 24 | J57: 1 | K57: =K56+IF(ISBLANK(J57),0,IF(J57=0,1,IF(J57>0,J57,0))) -> 28 | L57: =L56+IF(ISBLANK(J57),0,IF(J57=0,1,IF(J57<0,-J57,0))) -> 18 | N57: -1 | O57: =O56+IF(ISBLANK(N57),0,IF(N57=0,1,IF(N57>0,N57,0))) -> 24 | P57: =P56+IF(ISBLANK(N57),0,IF(N57=0,1,IF(N57<0,-N57,0))) -> 24 | R57: 1 | S57: =S56+IF(ISBLANK(R57),0,IF(R57=0,1,IF(R57>0,R57,0))) -> 28 | T57: =T56+IF(ISBLANK(R57),0,IF(R57=0,1,IF(R57<0,-R57,0))) -> 19 | V57: 1 | W57: =W56+IF(ISBLANK(V57),0,IF(V57=0,1,IF(V57>0,V57,0))) -> 30 | X57: =X56+IF(ISBLANK(V57),0,IF(V57=0,1,IF(V57<0,-V57,0))) -> 19 | Z57: 1 | AA57: =AA56+IF(ISBLANK(Z57),0,IF(Z57=0,1,IF(Z57>0,Z57,0))) -> 23 | AB57: =AB56+IF(ISBLANK(Z57),0,IF(Z57=0,1,IF(Z57<0,-Z57,0))) -> 25 | AE57: =C57-D57 -> 9 | AF57: =G57-H57 -> 1 | AG57: =K57-L57 -> 10 | AH57: =O57-P57 -> 0 | AI57: =S57-T57 -> 9 | AJ57: =W57-X57 -> 11 | AK57: =AA57-AB57 -> -2 | AM57: =(MAX($AE57:$AI57)-AE57)/2 -> 0.5 | AN57: =(MAX($AE57:$AI57)-AF57)/2 -> 4.5 | AO57: =(MAX($AE57:$AI57)-AG57)/2 -> 0 | AP57: =(MAX($AE57:$AI57)-AH57)/2 -> 5 | AQ57: =(MAX($AE57:$AI57)-AI57)/2 -> 0.5 | AY57: =IF(AO57=0,MIN(AM57:AN57,AP57:AQ57),0-AO57) -> 0.5
A58: 46162 | B58: -1 | C58: =C57+IF(ISBLANK(B58),0,IF(B58=0,1,IF(B58>0,B58,0))) -> 29 | D58: =D57+IF(ISBLANK(B58),0,IF(B58=0,1,IF(B58<0,-B58,0))) -> 21 | F58: 1 | G58: =G57+IF(ISBLANK(F58),0,IF(F58=0,1,IF(F58>0,F58,0))) -> 26 | H58: =H57+IF(ISBLANK(F58),0,IF(F58=0,1,IF(F58<0,-F58,0))) -> 24 | J58: 1 | K58: =K57+IF(ISBLANK(J58),0,IF(J58=0,1,IF(J58>0,J58,0))) -> 29 | L58: =L57+IF(ISBLANK(J58),0,IF(J58=0,1,IF(J58<0,-J58,0))) -> 18 | N58: 1 | O58: =O57+IF(ISBLANK(N58),0,IF(N58=0,1,IF(N58>0,N58,0))) -> 25 | P58: =P57+IF(ISBLANK(N58),0,IF(N58=0,1,IF(N58<0,-N58,0))) -> 24 | R58: -1 | S58: =S57+IF(ISBLANK(R58),0,IF(R58=0,1,IF(R58>0,R58,0))) -> 28 | T58: =T57+IF(ISBLANK(R58),0,IF(R58=0,1,IF(R58<0,-R58,0))) -> 20 | V58: 1 | W58: =W57+IF(ISBLANK(V58),0,IF(V58=0,1,IF(V58>0,V58,0))) -> 31 | X58: =X57+IF(ISBLANK(V58),0,IF(V58=0,1,IF(V58<0,-V58,0))) -> 19 | Z58: 1 | AA58: =AA57+IF(ISBLANK(Z58),0,IF(Z58=0,1,IF(Z58>0,Z58,0))) -> 24 | AB58: =AB57+IF(ISBLANK(Z58),0,IF(Z58=0,1,IF(Z58<0,-Z58,0))) -> 25 | AE58: =C58-D58 -> 8 | AF58: =G58-H58 -> 2 | AG58: =K58-L58 -> 11 | AH58: =O58-P58 -> 1 | AI58: =S58-T58 -> 8 | AJ58: =W58-X58 -> 12 | AK58: =AA58-AB58 -> -1 | AM58: =(MAX($AE58:$AI58)-AE58)/2 -> 1.5 | AN58: =(MAX($AE58:$AI58)-AF58)/2 -> 4.5 | AO58: =(MAX($AE58:$AI58)-AG58)/2 -> 0 | AP58: =(MAX($AE58:$AI58)-AH58)/2 -> 5 | AQ58: =(MAX($AE58:$AI58)-AI58)/2 -> 1.5 | AY58: =IF(AO58=0,MIN(AM58:AN58,AP58:AQ58),0-AO58) -> 1.5
A59: 46163 | C59: =C58+IF(ISBLANK(B59),0,IF(B59=0,1,IF(B59>0,B59,0))) -> 29 | D59: =D58+IF(ISBLANK(B59),0,IF(B59=0,1,IF(B59<0,-B59,0))) -> 21 | G59: =G58+IF(ISBLANK(F59),0,IF(F59=0,1,IF(F59>0,F59,0))) -> 26 | H59: =H58+IF(ISBLANK(F59),0,IF(F59=0,1,IF(F59<0,-F59,0))) -> 24 | K59: =K58+IF(ISBLANK(J59),0,IF(J59=0,1,IF(J59>0,J59,0))) -> 29 | L59: =L58+IF(ISBLANK(J59),0,IF(J59=0,1,IF(J59<0,-J59,0))) -> 18 | N59: 1 | O59: =O58+IF(ISBLANK(N59),0,IF(N59=0,1,IF(N59>0,N59,0))) -> 26 | P59: =P58+IF(ISBLANK(N59),0,IF(N59=0,1,IF(N59<0,-N59,0))) -> 24 | R59: -1 | S59: =S58+IF(ISBLANK(R59),0,IF(R59=0,1,IF(R59>0,R59,0))) -> 28 | T59: =T58+IF(ISBLANK(R59),0,IF(R59=0,1,IF(R59<0,-R59,0))) -> 21 | W59: =W58+IF(ISBLANK(V59),0,IF(V59=0,1,IF(V59>0,V59,0))) -> 31 | X59: =X58+IF(ISBLANK(V59),0,IF(V59=0,1,IF(V59<0,-V59,0))) -> 19 | Z59: -1 | AA59: =AA58+IF(ISBLANK(Z59),0,IF(Z59=0,1,IF(Z59>0,Z59,0))) -> 24 | AB59: =AB58+IF(ISBLANK(Z59),0,IF(Z59=0,1,IF(Z59<0,-Z59,0))) -> 26 | AE59: =C59-D59 -> 8 | AF59: =G59-H59 -> 2 | AG59: =K59-L59 -> 11 | AH59: =O59-P59 -> 2 | AI59: =S59-T59 -> 7 | AJ59: =W59-X59 -> 12 | AK59: =AA59-AB59 -> -2 | AM59: =(MAX($AE59:$AI59)-AE59)/2 -> 1.5 | AN59: =(MAX($AE59:$AI59)-AF59)/2 -> 4.5 | AO59: =(MAX($AE59:$AI59)-AG59)/2 -> 0 | AP59: =(MAX($AE59:$AI59)-AH59)/2 -> 4.5 | AQ59: =(MAX($AE59:$AI59)-AI59)/2 -> 2 | AY59: =IF(AO59=0,MIN(AM59:AN59,AP59:AQ59),0-AO59) -> 1.5
A60: 46164 | B60: -1 | C60: =C59+IF(ISBLANK(B60),0,IF(B60=0,1,IF(B60>0,B60,0))) -> 29 | D60: =D59+IF(ISBLANK(B60),0,IF(B60=0,1,IF(B60<0,-B60,0))) -> 22 | G60: =G59+IF(ISBLANK(F60),0,IF(F60=0,1,IF(F60>0,F60,0))) -> 26 | H60: =H59+IF(ISBLANK(F60),0,IF(F60=0,1,IF(F60<0,-F60,0))) -> 24 | J60: 1 | K60: =K59+IF(ISBLANK(J60),0,IF(J60=0,1,IF(J60>0,J60,0))) -> 30 | L60: =L59+IF(ISBLANK(J60),0,IF(J60=0,1,IF(J60<0,-J60,0))) -> 18 | N60: -1 | O60: =O59+IF(ISBLANK(N60),0,IF(N60=0,1,IF(N60>0,N60,0))) -> 26 | P60: =P59+IF(ISBLANK(N60),0,IF(N60=0,1,IF(N60<0,-N60,0))) -> 25 | S60: =S59+IF(ISBLANK(R60),0,IF(R60=0,1,IF(R60>0,R60,0))) -> 28 | T60: =T59+IF(ISBLANK(R60),0,IF(R60=0,1,IF(R60<0,-R60,0))) -> 21 | V60: -1 | W60: =W59+IF(ISBLANK(V60),0,IF(V60=0,1,IF(V60>0,V60,0))) -> 31 | X60: =X59+IF(ISBLANK(V60),0,IF(V60=0,1,IF(V60<0,-V60,0))) -> 20 | Z60: 1 | AA60: =AA59+IF(ISBLANK(Z60),0,IF(Z60=0,1,IF(Z60>0,Z60,0))) -> 25 | AB60: =AB59+IF(ISBLANK(Z60),0,IF(Z60=0,1,IF(Z60<0,-Z60,0))) -> 26 | AE60: =C60-D60 -> 7 | AF60: =G60-H60 -> 2 | AG60: =K60-L60 -> 12 | AH60: =O60-P60 -> 1 | AI60: =S60-T60 -> 7 | AJ60: =W60-X60 -> 11 | AK60: =AA60-AB60 -> -1 | AM60: =(MAX($AE60:$AI60)-AE60)/2 -> 2.5 | AN60: =(MAX($AE60:$AI60)-AF60)/2 -> 5 | AO60: =(MAX($AE60:$AI60)-AG60)/2 -> 0 | AP60: =(MAX($AE60:$AI60)-AH60)/2 -> 5.5 | AQ60: =(MAX($AE60:$AI60)-AI60)/2 -> 2.5 | AY60: =IF(AO60=0,MIN(AM60:AN60,AP60:AQ60),0-AO60) -> 2.5
A61: 46165 | B61: -1 | C61: =C60+IF(ISBLANK(B61),0,IF(B61=0,1,IF(B61>0,B61,0))) -> 29 | D61: =D60+IF(ISBLANK(B61),0,IF(B61=0,1,IF(B61<0,-B61,0))) -> 23 | F61: 0 | G61: =G60+IF(ISBLANK(F61),0,IF(F61=0,1,IF(F61>0,F61,0))) -> 27 | H61: =H60+IF(ISBLANK(F61),0,IF(F61=0,1,IF(F61<0,-F61,0))) -> 25 | J61: -1 | K61: =K60+IF(ISBLANK(J61),0,IF(J61=0,1,IF(J61>0,J61,0))) -> 30 | L61: =L60+IF(ISBLANK(J61),0,IF(J61=0,1,IF(J61<0,-J61,0))) -> 19 | N61: -1 | O61: =O60+IF(ISBLANK(N61),0,IF(N61=0,1,IF(N61>0,N61,0))) -> 26 | P61: =P60+IF(ISBLANK(N61),0,IF(N61=0,1,IF(N61<0,-N61,0))) -> 26 | R61: 0 | S61: =S60+IF(ISBLANK(R61),0,IF(R61=0,1,IF(R61>0,R61,0))) -> 29 | T61: =T60+IF(ISBLANK(R61),0,IF(R61=0,1,IF(R61<0,-R61,0))) -> 22 | V61: 1 | W61: =W60+IF(ISBLANK(V61),0,IF(V61=0,1,IF(V61>0,V61,0))) -> 32 | X61: =X60+IF(ISBLANK(V61),0,IF(V61=0,1,IF(V61<0,-V61,0))) -> 20 | Z61: -1 | AA61: =AA60+IF(ISBLANK(Z61),0,IF(Z61=0,1,IF(Z61>0,Z61,0))) -> 25 | AB61: =AB60+IF(ISBLANK(Z61),0,IF(Z61=0,1,IF(Z61<0,-Z61,0))) -> 27 | AE61: =C61-D61 -> 6 | AF61: =G61-H61 -> 2 | AG61: =K61-L61 -> 11 | AH61: =O61-P61 -> 0 | AI61: =S61-T61 -> 7 | AJ61: =W61-X61 -> 12 | AK61: =AA61-AB61 -> -2 | AM61: =(MAX($AE61:$AI61)-AE61)/2 -> 2.5 | AN61: =(MAX($AE61:$AI61)-AF61)/2 -> 4.5 | AO61: =(MAX($AE61:$AI61)-AG61)/2 -> 0 | AP61: =(MAX($AE61:$AI61)-AH61)/2 -> 5.5 | AQ61: =(MAX($AE61:$AI61)-AI61)/2 -> 2 | AY61: =IF(AO61=0,MIN(AM61:AN61,AP61:AQ61),0-AO61) -> 2
A62: 46166 | B62: -1 | C62: =C61+IF(ISBLANK(B62),0,IF(B62=0,1,IF(B62>0,B62,0))) -> 29 | D62: =D61+IF(ISBLANK(B62),0,IF(B62=0,1,IF(B62<0,-B62,0))) -> 24 | G62: =G61+IF(ISBLANK(F62),0,IF(F62=0,1,IF(F62>0,F62,0))) -> 27 | H62: =H61+IF(ISBLANK(F62),0,IF(F62=0,1,IF(F62<0,-F62,0))) -> 25 | J62: -1 | K62: =K61+IF(ISBLANK(J62),0,IF(J62=0,1,IF(J62>0,J62,0))) -> 30 | L62: =L61+IF(ISBLANK(J62),0,IF(J62=0,1,IF(J62<0,-J62,0))) -> 20 | N62: 1 | O62: =O61+IF(ISBLANK(N62),0,IF(N62=0,1,IF(N62>0,N62,0))) -> 27 | P62: =P61+IF(ISBLANK(N62),0,IF(N62=0,1,IF(N62<0,-N62,0))) -> 26 | S62: =S61+IF(ISBLANK(R62),0,IF(R62=0,1,IF(R62>0,R62,0))) -> 29 | T62: =T61+IF(ISBLANK(R62),0,IF(R62=0,1,IF(R62<0,-R62,0))) -> 22 | V62: 1 | W62: =W61+IF(ISBLANK(V62),0,IF(V62=0,1,IF(V62>0,V62,0))) -> 33 | X62: =X61+IF(ISBLANK(V62),0,IF(V62=0,1,IF(V62<0,-V62,0))) -> 20 | Z62: -1 | AA62: =AA61+IF(ISBLANK(Z62),0,IF(Z62=0,1,IF(Z62>0,Z62,0))) -> 25 | AB62: =AB61+IF(ISBLANK(Z62),0,IF(Z62=0,1,IF(Z62<0,-Z62,0))) -> 28 | AE62: =C62-D62 -> 5 | AF62: =G62-H62 -> 2 | AG62: =K62-L62 -> 10 | AH62: =O62-P62 -> 1 | AI62: =S62-T62 -> 7 | AJ62: =W62-X62 -> 13 | AK62: =AA62-AB62 -> -3 | AM62: =(MAX($AE62:$AI62)-AE62)/2 -> 2.5 | AN62: =(MAX($AE62:$AI62)-AF62)/2 -> 4 | AO62: =(MAX($AE62:$AI62)-AG62)/2 -> 0 | AP62: =(MAX($AE62:$AI62)-AH62)/2 -> 4.5 | AQ62: =(MAX($AE62:$AI62)-AI62)/2 -> 1.5 | AY62: =IF(AO62=0,MIN(AM62:AN62,AP62:AQ62),0-AO62) -> 1.5
A63: 46167 | B63: -1 | C63: =C62+IF(ISBLANK(B63),0,IF(B63=0,1,IF(B63>0,B63,0))) -> 29 | D63: =D62+IF(ISBLANK(B63),0,IF(B63=0,1,IF(B63<0,-B63,0))) -> 25 | F63: 1 | G63: =G62+IF(ISBLANK(F63),0,IF(F63=0,1,IF(F63>0,F63,0))) -> 28 | H63: =H62+IF(ISBLANK(F63),0,IF(F63=0,1,IF(F63<0,-F63,0))) -> 25 | J63: 1 | K63: =K62+IF(ISBLANK(J63),0,IF(J63=0,1,IF(J63>0,J63,0))) -> 31 | L63: =L62+IF(ISBLANK(J63),0,IF(J63=0,1,IF(J63<0,-J63,0))) -> 20 | N63: 1 | O63: =O62+IF(ISBLANK(N63),0,IF(N63=0,1,IF(N63>0,N63,0))) -> 28 | P63: =P62+IF(ISBLANK(N63),0,IF(N63=0,1,IF(N63<0,-N63,0))) -> 26 | R63: -1 | S63: =S62+IF(ISBLANK(R63),0,IF(R63=0,1,IF(R63>0,R63,0))) -> 29 | T63: =T62+IF(ISBLANK(R63),0,IF(R63=0,1,IF(R63<0,-R63,0))) -> 23 | V63: 1 | W63: =W62+IF(ISBLANK(V63),0,IF(V63=0,1,IF(V63>0,V63,0))) -> 34 | X63: =X62+IF(ISBLANK(V63),0,IF(V63=0,1,IF(V63<0,-V63,0))) -> 20 | Z63: 1 | AA63: =AA62+IF(ISBLANK(Z63),0,IF(Z63=0,1,IF(Z63>0,Z63,0))) -> 26 | AB63: =AB62+IF(ISBLANK(Z63),0,IF(Z63=0,1,IF(Z63<0,-Z63,0))) -> 28 | AE63: =C63-D63 -> 4 | AF63: =G63-H63 -> 3 | AG63: =K63-L63 -> 11 | AH63: =O63-P63 -> 2 | AI63: =S63-T63 -> 6 | AJ63: =W63-X63 -> 14 | AK63: =AA63-AB63 -> -2 | AM63: =(MAX($AE63:$AI63)-AE63)/2 -> 3.5 | AN63: =(MAX($AE63:$AI63)-AF63)/2 -> 4 | AO63: =(MAX($AE63:$AI63)-AG63)/2 -> 0 | AP63: =(MAX($AE63:$AI63)-AH63)/2 -> 4.5 | AQ63: =(MAX($AE63:$AI63)-AI63)/2 -> 2.5 | AY63: =IF(AO63=0,MIN(AM63:AN63,AP63:AQ63),0-AO63) -> 2.5
A64: 46168 | B64: -1 | C64: =C63+IF(ISBLANK(B64),0,IF(B64=0,1,IF(B64>0,B64,0))) -> 29 | D64: =D63+IF(ISBLANK(B64),0,IF(B64=0,1,IF(B64<0,-B64,0))) -> 26 | F64: 1 | G64: =G63+IF(ISBLANK(F64),0,IF(F64=0,1,IF(F64>0,F64,0))) -> 29 | H64: =H63+IF(ISBLANK(F64),0,IF(F64=0,1,IF(F64<0,-F64,0))) -> 25 | J64: 1 | K64: =K63+IF(ISBLANK(J64),0,IF(J64=0,1,IF(J64>0,J64,0))) -> 32 | L64: =L63+IF(ISBLANK(J64),0,IF(J64=0,1,IF(J64<0,-J64,0))) -> 20 | N64: 1 | O64: =O63+IF(ISBLANK(N64),0,IF(N64=0,1,IF(N64>0,N64,0))) -> 29 | P64: =P63+IF(ISBLANK(N64),0,IF(N64=0,1,IF(N64<0,-N64,0))) -> 26 | R64: -1 | S64: =S63+IF(ISBLANK(R64),0,IF(R64=0,1,IF(R64>0,R64,0))) -> 29 | T64: =T63+IF(ISBLANK(R64),0,IF(R64=0,1,IF(R64<0,-R64,0))) -> 24 | V64: 1 | W64: =W63+IF(ISBLANK(V64),0,IF(V64=0,1,IF(V64>0,V64,0))) -> 35 | X64: =X63+IF(ISBLANK(V64),0,IF(V64=0,1,IF(V64<0,-V64,0))) -> 20 | Z64: 1 | AA64: =AA63+IF(ISBLANK(Z64),0,IF(Z64=0,1,IF(Z64>0,Z64,0))) -> 27 | AB64: =AB63+IF(ISBLANK(Z64),0,IF(Z64=0,1,IF(Z64<0,-Z64,0))) -> 28 | AE64: =C64-D64 -> 3 | AF64: =G64-H64 -> 4 | AG64: =K64-L64 -> 12 | AH64: =O64-P64 -> 3 | AI64: =S64-T64 -> 5 | AJ64: =W64-X64 -> 15 | AK64: =AA64-AB64 -> -1 | AM64: =(MAX($AE64:$AI64)-AE64)/2 -> 4.5 | AN64: =(MAX($AE64:$AI64)-AF64)/2 -> 4 | AO64: =(MAX($AE64:$AI64)-AG64)/2 -> 0 | AP64: =(MAX($AE64:$AI64)-AH64)/2 -> 4.5 | AQ64: =(MAX($AE64:$AI64)-AI64)/2 -> 3.5 | AY64: =IF(AO64=0,MIN(AM64:AN64,AP64:AQ64),0-AO64) -> 3.5
A65: 46169 | B65: 1 | C65: =C64+IF(ISBLANK(B65),0,IF(B65=0,1,IF(B65>0,B65,0))) -> 30 | D65: =D64+IF(ISBLANK(B65),0,IF(B65=0,1,IF(B65<0,-B65,0))) -> 26 | F65: -1 | G65: =G64+IF(ISBLANK(F65),0,IF(F65=0,1,IF(F65>0,F65,0))) -> 29 | H65: =H64+IF(ISBLANK(F65),0,IF(F65=0,1,IF(F65<0,-F65,0))) -> 26 | J65: 1 | K65: =K64+IF(ISBLANK(J65),0,IF(J65=0,1,IF(J65>0,J65,0))) -> 33 | L65: =L64+IF(ISBLANK(J65),0,IF(J65=0,1,IF(J65<0,-J65,0))) -> 20 | N65: -1 | O65: =O64+IF(ISBLANK(N65),0,IF(N65=0,1,IF(N65>0,N65,0))) -> 29 | P65: =P64+IF(ISBLANK(N65),0,IF(N65=0,1,IF(N65<0,-N65,0))) -> 27 | R65: -1 | S65: =S64+IF(ISBLANK(R65),0,IF(R65=0,1,IF(R65>0,R65,0))) -> 29 | T65: =T64+IF(ISBLANK(R65),0,IF(R65=0,1,IF(R65<0,-R65,0))) -> 25 | V65: 1 | W65: =W64+IF(ISBLANK(V65),0,IF(V65=0,1,IF(V65>0,V65,0))) -> 36 | X65: =X64+IF(ISBLANK(V65),0,IF(V65=0,1,IF(V65<0,-V65,0))) -> 20 | Z65: 1 | AA65: =AA64+IF(ISBLANK(Z65),0,IF(Z65=0,1,IF(Z65>0,Z65,0))) -> 28 | AB65: =AB64+IF(ISBLANK(Z65),0,IF(Z65=0,1,IF(Z65<0,-Z65,0))) -> 28 | AE65: =C65-D65 -> 4 | AF65: =G65-H65 -> 3 | AG65: =K65-L65 -> 13 | AH65: =O65-P65 -> 2 | AI65: =S65-T65 -> 4 | AJ65: =W65-X65 -> 16 | AK65: =AA65-AB65 -> 0 | AM65: =(MAX($AE65:$AI65)-AE65)/2 -> 4.5 | AN65: =(MAX($AE65:$AI65)-AF65)/2 -> 5 | AO65: =(MAX($AE65:$AI65)-AG65)/2 -> 0 | AP65: =(MAX($AE65:$AI65)-AH65)/2 -> 5.5 | AQ65: =(MAX($AE65:$AI65)-AI65)/2 -> 4.5 | AY65: =IF(AO65=0,MIN(AM65:AN65,AP65:AQ65),0-AO65) -> 4.5
A66: 46170 | B66: 1 | C66: =C65+IF(ISBLANK(B66),0,IF(B66=0,1,IF(B66>0,B66,0))) -> 31 | D66: =D65+IF(ISBLANK(B66),0,IF(B66=0,1,IF(B66<0,-B66,0))) -> 26 | G66: =G65+IF(ISBLANK(F66),0,IF(F66=0,1,IF(F66>0,F66,0))) -> 29 | H66: =H65+IF(ISBLANK(F66),0,IF(F66=0,1,IF(F66<0,-F66,0))) -> 26 | K66: =K65+IF(ISBLANK(J66),0,IF(J66=0,1,IF(J66>0,J66,0))) -> 33 | L66: =L65+IF(ISBLANK(J66),0,IF(J66=0,1,IF(J66<0,-J66,0))) -> 20 | N66: -1 | O66: =O65+IF(ISBLANK(N66),0,IF(N66=0,1,IF(N66>0,N66,0))) -> 29 | P66: =P65+IF(ISBLANK(N66),0,IF(N66=0,1,IF(N66<0,-N66,0))) -> 28 | S66: =S65+IF(ISBLANK(R66),0,IF(R66=0,1,IF(R66>0,R66,0))) -> 29 | T66: =T65+IF(ISBLANK(R66),0,IF(R66=0,1,IF(R66<0,-R66,0))) -> 25 | W66: =W65+IF(ISBLANK(V66),0,IF(V66=0,1,IF(V66>0,V66,0))) -> 36 | X66: =X65+IF(ISBLANK(V66),0,IF(V66=0,1,IF(V66<0,-V66,0))) -> 20 | Z66: 1 | AA66: =AA65+IF(ISBLANK(Z66),0,IF(Z66=0,1,IF(Z66>0,Z66,0))) -> 29 | AB66: =AB65+IF(ISBLANK(Z66),0,IF(Z66=0,1,IF(Z66<0,-Z66,0))) -> 28 | AE66: =C66-D66 -> 5 | AF66: =G66-H66 -> 3 | AG66: =K66-L66 -> 13 | AH66: =O66-P66 -> 1 | AI66: =S66-T66 -> 4 | AJ66: =W66-X66 -> 16 | AK66: =AA66-AB66 -> 1 | AM66: =(MAX($AE66:$AI66)-AE66)/2 -> 4 | AN66: =(MAX($AE66:$AI66)-AF66)/2 -> 5 | AO66: =(MAX($AE66:$AI66)-AG66)/2 -> 0 | AP66: =(MAX($AE66:$AI66)-AH66)/2 -> 6 | AQ66: =(MAX($AE66:$AI66)-AI66)/2 -> 4.5 | AY66: =IF(AO66=0,MIN(AM66:AN66,AP66:AQ66),0-AO66) -> 4
A67: 46171 | B67: -1 | C67: =C66+IF(ISBLANK(B67),0,IF(B67=0,1,IF(B67>0,B67,0))) -> 31 | D67: =D66+IF(ISBLANK(B67),0,IF(B67=0,1,IF(B67<0,-B67,0))) -> 27 | F67: -1 | G67: =G66+IF(ISBLANK(F67),0,IF(F67=0,1,IF(F67>0,F67,0))) -> 29 | H67: =H66+IF(ISBLANK(F67),0,IF(F67=0,1,IF(F67<0,-F67,0))) -> 27 | J67: 1 | K67: =K66+IF(ISBLANK(J67),0,IF(J67=0,1,IF(J67>0,J67,0))) -> 34 | L67: =L66+IF(ISBLANK(J67),0,IF(J67=0,1,IF(J67<0,-J67,0))) -> 20 | N67: 1 | O67: =O66+IF(ISBLANK(N67),0,IF(N67=0,1,IF(N67>0,N67,0))) -> 30 | P67: =P66+IF(ISBLANK(N67),0,IF(N67=0,1,IF(N67<0,-N67,0))) -> 28 | R67: 1 | S67: =S66+IF(ISBLANK(R67),0,IF(R67=0,1,IF(R67>0,R67,0))) -> 30 | T67: =T66+IF(ISBLANK(R67),0,IF(R67=0,1,IF(R67<0,-R67,0))) -> 25 | V67: 1 | W67: =W66+IF(ISBLANK(V67),0,IF(V67=0,1,IF(V67>0,V67,0))) -> 37 | X67: =X66+IF(ISBLANK(V67),0,IF(V67=0,1,IF(V67<0,-V67,0))) -> 20 | AA67: =AA66+IF(ISBLANK(Z67),0,IF(Z67=0,1,IF(Z67>0,Z67,0))) -> 29 | AB67: =AB66+IF(ISBLANK(Z67),0,IF(Z67=0,1,IF(Z67<0,-Z67,0))) -> 28 | AE67: =C67-D67 -> 4 | AF67: =G67-H67 -> 2 | AG67: =K67-L67 -> 14 | AH67: =O67-P67 -> 2 | AI67: =S67-T67 -> 5 | AJ67: =W67-X67 -> 17 | AK67: =AA67-AB67 -> 1 | AM67: =(MAX($AE67:$AI67)-AE67)/2 -> 5 | AN67: =(MAX($AE67:$AI67)-AF67)/2 -> 6 | AO67: =(MAX($AE67:$AI67)-AG67)/2 -> 0 | AP67: =(MAX($AE67:$AI67)-AH67)/2 -> 6 | AQ67: =(MAX($AE67:$AI67)-AI67)/2 -> 4.5 | AY67: =IF(AO67=0,MIN(AM67:AN67,AP67:AQ67),0-AO67) -> 4.5
A68: 46172 | B68: 1 | C68: =C67+IF(ISBLANK(B68),0,IF(B68=0,1,IF(B68>0,B68,0))) -> 32 | D68: =D67+IF(ISBLANK(B68),0,IF(B68=0,1,IF(B68<0,-B68,0))) -> 27 | F68: -1 | G68: =G67+IF(ISBLANK(F68),0,IF(F68=0,1,IF(F68>0,F68,0))) -> 29 | H68: =H67+IF(ISBLANK(F68),0,IF(F68=0,1,IF(F68<0,-F68,0))) -> 28 | J68: -1 | K68: =K67+IF(ISBLANK(J68),0,IF(J68=0,1,IF(J68>0,J68,0))) -> 34 | L68: =L67+IF(ISBLANK(J68),0,IF(J68=0,1,IF(J68<0,-J68,0))) -> 21 | N68: 1 | O68: =O67+IF(ISBLANK(N68),0,IF(N68=0,1,IF(N68>0,N68,0))) -> 31 | P68: =P67+IF(ISBLANK(N68),0,IF(N68=0,1,IF(N68<0,-N68,0))) -> 28 | R68: -1 | S68: =S67+IF(ISBLANK(R68),0,IF(R68=0,1,IF(R68>0,R68,0))) -> 30 | T68: =T67+IF(ISBLANK(R68),0,IF(R68=0,1,IF(R68<0,-R68,0))) -> 26 | V68: -1 | W68: =W67+IF(ISBLANK(V68),0,IF(V68=0,1,IF(V68>0,V68,0))) -> 37 | X68: =X67+IF(ISBLANK(V68),0,IF(V68=0,1,IF(V68<0,-V68,0))) -> 21 | Z68: 1 | AA68: =AA67+IF(ISBLANK(Z68),0,IF(Z68=0,1,IF(Z68>0,Z68,0))) -> 30 | AB68: =AB67+IF(ISBLANK(Z68),0,IF(Z68=0,1,IF(Z68<0,-Z68,0))) -> 28 | AE68: =C68-D68 -> 5 | AF68: =G68-H68 -> 1 | AG68: =K68-L68 -> 13 | AH68: =O68-P68 -> 3 | AI68: =S68-T68 -> 4 | AJ68: =W68-X68 -> 16 | AK68: =AA68-AB68 -> 2 | AM68: =(MAX($AE68:$AI68)-AE68)/2 -> 4 | AN68: =(MAX($AE68:$AI68)-AF68)/2 -> 6 | AO68: =(MAX($AE68:$AI68)-AG68)/2 -> 0 | AP68: =(MAX($AE68:$AI68)-AH68)/2 -> 5 | AQ68: =(MAX($AE68:$AI68)-AI68)/2 -> 4.5 | AY68: =IF(AO68=0,MIN(AM68:AN68,AP68:AQ68),0-AO68) -> 4
A69: 46173 | B69: -1 | C69: =C68+IF(ISBLANK(B69),0,IF(B69=0,1,IF(B69>0,B69,0))) -> 32 | D69: =D68+IF(ISBLANK(B69),0,IF(B69=0,1,IF(B69<0,-B69,0))) -> 28 | F69: 1 | G69: =G68+IF(ISBLANK(F69),0,IF(F69=0,1,IF(F69>0,F69,0))) -> 30 | H69: =H68+IF(ISBLANK(F69),0,IF(F69=0,1,IF(F69<0,-F69,0))) -> 28 | J69: 1 | K69: =K68+IF(ISBLANK(J69),0,IF(J69=0,1,IF(J69>0,J69,0))) -> 35 | L69: =L68+IF(ISBLANK(J69),0,IF(J69=0,1,IF(J69<0,-J69,0))) -> 21 | N69: 1 | O69: =O68+IF(ISBLANK(N69),0,IF(N69=0,1,IF(N69>0,N69,0))) -> 32 | P69: =P68+IF(ISBLANK(N69),0,IF(N69=0,1,IF(N69<0,-N69,0))) -> 28 | R69: 1 | S69: =S68+IF(ISBLANK(R69),0,IF(R69=0,1,IF(R69>0,R69,0))) -> 31 | T69: =T68+IF(ISBLANK(R69),0,IF(R69=0,1,IF(R69<0,-R69,0))) -> 26 | V69: 1 | W69: =W68+IF(ISBLANK(V69),0,IF(V69=0,1,IF(V69>0,V69,0))) -> 38 | X69: =X68+IF(ISBLANK(V69),0,IF(V69=0,1,IF(V69<0,-V69,0))) -> 21 | Z69: 1 | AA69: =AA68+IF(ISBLANK(Z69),0,IF(Z69=0,1,IF(Z69>0,Z69,0))) -> 31 | AB69: =AB68+IF(ISBLANK(Z69),0,IF(Z69=0,1,IF(Z69<0,-Z69,0))) -> 28 | AE69: =C69-D69 -> 4 | AF69: =G69-H69 -> 2 | AG69: =K69-L69 -> 14 | AH69: =O69-P69 -> 4 | AI69: =S69-T69 -> 5 | AJ69: =W69-X69 -> 17 | AK69: =AA69-AB69 -> 3 | AM69: =(MAX($AE69:$AI69)-AE69)/2 -> 5 | AN69: =(MAX($AE69:$AI69)-AF69)/2 -> 6 | AO69: =(MAX($AE69:$AI69)-AG69)/2 -> 0 | AP69: =(MAX($AE69:$AI69)-AH69)/2 -> 5 | AQ69: =(MAX($AE69:$AI69)-AI69)/2 -> 4.5 | AY69: =IF(AO69=0,MIN(AM69:AN69,AP69:AQ69),0-AO69) -> 4.5
A70: 46174 | C70: =C69+IF(ISBLANK(B70),0,IF(B70=0,1,IF(B70>0,B70,0))) -> 32 | D70: =D69+IF(ISBLANK(B70),0,IF(B70=0,1,IF(B70<0,-B70,0))) -> 28 | F70: -1 | G70: =G69+IF(ISBLANK(F70),0,IF(F70=0,1,IF(F70>0,F70,0))) -> 30 | H70: =H69+IF(ISBLANK(F70),0,IF(F70=0,1,IF(F70<0,-F70,0))) -> 29 | J70: 1 | K70: =K69+IF(ISBLANK(J70),0,IF(J70=0,1,IF(J70>0,J70,0))) -> 36 | L70: =L69+IF(ISBLANK(J70),0,IF(J70=0,1,IF(J70<0,-J70,0))) -> 21 | O70: =O69+IF(ISBLANK(N70),0,IF(N70=0,1,IF(N70>0,N70,0))) -> 32 | P70: =P69+IF(ISBLANK(N70),0,IF(N70=0,1,IF(N70<0,-N70,0))) -> 28 | R70: -1 | S70: =S69+IF(ISBLANK(R70),0,IF(R70=0,1,IF(R70>0,R70,0))) -> 31 | T70: =T69+IF(ISBLANK(R70),0,IF(R70=0,1,IF(R70<0,-R70,0))) -> 27 | V70: -1 | W70: =W69+IF(ISBLANK(V70),0,IF(V70=0,1,IF(V70>0,V70,0))) -> 38 | X70: =X69+IF(ISBLANK(V70),0,IF(V70=0,1,IF(V70<0,-V70,0))) -> 22 | Z70: 1 | AA70: =AA69+IF(ISBLANK(Z70),0,IF(Z70=0,1,IF(Z70>0,Z70,0))) -> 32 | AB70: =AB69+IF(ISBLANK(Z70),0,IF(Z70=0,1,IF(Z70<0,-Z70,0))) -> 28 | AE70: =C70-D70 -> 4 | AF70: =G70-H70 -> 1 | AG70: =K70-L70 -> 15 | AH70: =O70-P70 -> 4 | AI70: =S70-T70 -> 4 | AJ70: =W70-X70 -> 16 | AK70: =AA70-AB70 -> 4 | AM70: =(MAX($AE70:$AI70)-AE70)/2 -> 5.5 | AN70: =(MAX($AE70:$AI70)-AF70)/2 -> 7 | AO70: =(MAX($AE70:$AI70)-AG70)/2 -> 0 | AP70: =(MAX($AE70:$AI70)-AH70)/2 -> 5.5 | AQ70: =(MAX($AE70:$AI70)-AI70)/2 -> 5.5 | AY70: =IF(AO70=0,MIN(AM70:AN70,AP70:AQ70),0-AO70) -> 5.5
A71: 46175 | B71: -1 | C71: =C70+IF(ISBLANK(B71),0,IF(B71=0,1,IF(B71>0,B71,0))) -> 32 | D71: =D70+IF(ISBLANK(B71),0,IF(B71=0,1,IF(B71<0,-B71,0))) -> 29 | F71: 1 | G71: =G70+IF(ISBLANK(F71),0,IF(F71=0,1,IF(F71>0,F71,0))) -> 31 | H71: =H70+IF(ISBLANK(F71),0,IF(F71=0,1,IF(F71<0,-F71,0))) -> 29 | J71: 1 | K71: =K70+IF(ISBLANK(J71),0,IF(J71=0,1,IF(J71>0,J71,0))) -> 37 | L71: =L70+IF(ISBLANK(J71),0,IF(J71=0,1,IF(J71<0,-J71,0))) -> 21 | N71: 1 | O71: =O70+IF(ISBLANK(N71),0,IF(N71=0,1,IF(N71>0,N71,0))) -> 33 | P71: =P70+IF(ISBLANK(N71),0,IF(N71=0,1,IF(N71<0,-N71,0))) -> 28 | R71: -1 | S71: =S70+IF(ISBLANK(R71),0,IF(R71=0,1,IF(R71>0,R71,0))) -> 31 | T71: =T70+IF(ISBLANK(R71),0,IF(R71=0,1,IF(R71<0,-R71,0))) -> 28 | V71: 1 | W71: =W70+IF(ISBLANK(V71),0,IF(V71=0,1,IF(V71>0,V71,0))) -> 39 | X71: =X70+IF(ISBLANK(V71),0,IF(V71=0,1,IF(V71<0,-V71,0))) -> 22 | Z71: 1 | AA71: =AA70+IF(ISBLANK(Z71),0,IF(Z71=0,1,IF(Z71>0,Z71,0))) -> 33 | AB71: =AB70+IF(ISBLANK(Z71),0,IF(Z71=0,1,IF(Z71<0,-Z71,0))) -> 28 | AE71: =C71-D71 -> 3 | AF71: =G71-H71 -> 2 | AG71: =K71-L71 -> 16 | AH71: =O71-P71 -> 5 | AI71: =S71-T71 -> 3 | AJ71: =W71-X71 -> 17 | AK71: =AA71-AB71 -> 5 | AM71: =(MAX($AE71:$AI71)-AE71)/2 -> 6.5 | AN71: =(MAX($AE71:$AI71)-AF71)/2 -> 7 | AO71: =(MAX($AE71:$AI71)-AG71)/2 -> 0 | AP71: =(MAX($AE71:$AI71)-AH71)/2 -> 5.5 | AQ71: =(MAX($AE71:$AI71)-AI71)/2 -> 6.5 | AY71: =IF(AO71=0,MIN(AM71:AN71,AP71:AQ71),0-AO71) -> 5.5
A72: 46176 | B72: -1 | C72: =C71+IF(ISBLANK(B72),0,IF(B72=0,1,IF(B72>0,B72,0))) -> 32 | D72: =D71+IF(ISBLANK(B72),0,IF(B72=0,1,IF(B72<0,-B72,0))) -> 30 | F72: -1 | G72: =G71+IF(ISBLANK(F72),0,IF(F72=0,1,IF(F72>0,F72,0))) -> 31 | H72: =H71+IF(ISBLANK(F72),0,IF(F72=0,1,IF(F72<0,-F72,0))) -> 30 | J72: -1 | K72: =K71+IF(ISBLANK(J72),0,IF(J72=0,1,IF(J72>0,J72,0))) -> 37 | L72: =L71+IF(ISBLANK(J72),0,IF(J72=0,1,IF(J72<0,-J72,0))) -> 22 | N72: -1 | O72: =O71+IF(ISBLANK(N72),0,IF(N72=0,1,IF(N72>0,N72,0))) -> 33 | P72: =P71+IF(ISBLANK(N72),0,IF(N72=0,1,IF(N72<0,-N72,0))) -> 29 | R72: 1 | S72: =S71+IF(ISBLANK(R72),0,IF(R72=0,1,IF(R72>0,R72,0))) -> 32 | T72: =T71+IF(ISBLANK(R72),0,IF(R72=0,1,IF(R72<0,-R72,0))) -> 28 | V72: 1 | W72: =W71+IF(ISBLANK(V72),0,IF(V72=0,1,IF(V72>0,V72,0))) -> 40 | X72: =X71+IF(ISBLANK(V72),0,IF(V72=0,1,IF(V72<0,-V72,0))) -> 22 | Z72: -1 | AA72: =AA71+IF(ISBLANK(Z72),0,IF(Z72=0,1,IF(Z72>0,Z72,0))) -> 33 | AB72: =AB71+IF(ISBLANK(Z72),0,IF(Z72=0,1,IF(Z72<0,-Z72,0))) -> 29 | AE72: =C72-D72 -> 2 | AF72: =G72-H72 -> 1 | AG72: =K72-L72 -> 15 | AH72: =O72-P72 -> 4 | AI72: =S72-T72 -> 4 | AJ72: =W72-X72 -> 18 | AK72: =AA72-AB72 -> 4 | AM72: =(MAX($AE72:$AI72)-AE72)/2 -> 6.5 | AN72: =(MAX($AE72:$AI72)-AF72)/2 -> 7 | AO72: =(MAX($AE72:$AI72)-AG72)/2 -> 0 | AP72: =(MAX($AE72:$AI72)-AH72)/2 -> 5.5 | AQ72: =(MAX($AE72:$AI72)-AI72)/2 -> 5.5 | AY72: =IF(AO72=0,MIN(AM72:AN72,AP72:AQ72),0-AO72) -> 5.5
A73: 46177 | B73: 1 | C73: =C72+IF(ISBLANK(B73),0,IF(B73=0,1,IF(B73>0,B73,0))) -> 33 | D73: =D72+IF(ISBLANK(B73),0,IF(B73=0,1,IF(B73<0,-B73,0))) -> 30 | G73: =G72+IF(ISBLANK(F73),0,IF(F73=0,1,IF(F73>0,F73,0))) -> 31 | H73: =H72+IF(ISBLANK(F73),0,IF(F73=0,1,IF(F73<0,-F73,0))) -> 30 | J73: -1 | K73: =K72+IF(ISBLANK(J73),0,IF(J73=0,1,IF(J73>0,J73,0))) -> 37 | L73: =L72+IF(ISBLANK(J73),0,IF(J73=0,1,IF(J73<0,-J73,0))) -> 23 | N73: 1 | O73: =O72+IF(ISBLANK(N73),0,IF(N73=0,1,IF(N73>0,N73,0))) -> 34 | P73: =P72+IF(ISBLANK(N73),0,IF(N73=0,1,IF(N73<0,-N73,0))) -> 29 | S73: =S72+IF(ISBLANK(R73),0,IF(R73=0,1,IF(R73>0,R73,0))) -> 32 | T73: =T72+IF(ISBLANK(R73),0,IF(R73=0,1,IF(R73<0,-R73,0))) -> 28 | V73: -1 | W73: =W72+IF(ISBLANK(V73),0,IF(V73=0,1,IF(V73>0,V73,0))) -> 40 | X73: =X72+IF(ISBLANK(V73),0,IF(V73=0,1,IF(V73<0,-V73,0))) -> 23 | Z73: 1 | AA73: =AA72+IF(ISBLANK(Z73),0,IF(Z73=0,1,IF(Z73>0,Z73,0))) -> 34 | AB73: =AB72+IF(ISBLANK(Z73),0,IF(Z73=0,1,IF(Z73<0,-Z73,0))) -> 29 | AE73: =C73-D73 -> 3 | AF73: =G73-H73 -> 1 | AG73: =K73-L73 -> 14 | AH73: =O73-P73 -> 5 | AI73: =S73-T73 -> 4 | AJ73: =W73-X73 -> 17 | AK73: =AA73-AB73 -> 5 | AM73: =(MAX($AE73:$AI73)-AE73)/2 -> 5.5 | AN73: =(MAX($AE73:$AI73)-AF73)/2 -> 6.5 | AO73: =(MAX($AE73:$AI73)-AG73)/2 -> 0 | AP73: =(MAX($AE73:$AI73)-AH73)/2 -> 4.5 | AQ73: =(MAX($AE73:$AI73)-AI73)/2 -> 5 | AY73: =IF(AO73=0,MIN(AM73:AN73,AP73:AQ73),0-AO73) -> 4.5
A74: 46178 | B74: -1 | C74: =C73+IF(ISBLANK(B74),0,IF(B74=0,1,IF(B74>0,B74,0))) -> 33 | D74: =D73+IF(ISBLANK(B74),0,IF(B74=0,1,IF(B74<0,-B74,0))) -> 31 | F74: -1 | G74: =G73+IF(ISBLANK(F74),0,IF(F74=0,1,IF(F74>0,F74,0))) -> 31 | H74: =H73+IF(ISBLANK(F74),0,IF(F74=0,1,IF(F74<0,-F74,0))) -> 31 | J74: 1 | K74: =K73+IF(ISBLANK(J74),0,IF(J74=0,1,IF(J74>0,J74,0))) -> 38 | L74: =L73+IF(ISBLANK(J74),0,IF(J74=0,1,IF(J74<0,-J74,0))) -> 23 | N74: -1 | O74: =O73+IF(ISBLANK(N74),0,IF(N74=0,1,IF(N74>0,N74,0))) -> 34 | P74: =P73+IF(ISBLANK(N74),0,IF(N74=0,1,IF(N74<0,-N74,0))) -> 30 | R74: 1 | S74: =S73+IF(ISBLANK(R74),0,IF(R74=0,1,IF(R74>0,R74,0))) -> 33 | T74: =T73+IF(ISBLANK(R74),0,IF(R74=0,1,IF(R74<0,-R74,0))) -> 28 | V74: 1 | W74: =W73+IF(ISBLANK(V74),0,IF(V74=0,1,IF(V74>0,V74,0))) -> 41 | X74: =X73+IF(ISBLANK(V74),0,IF(V74=0,1,IF(V74<0,-V74,0))) -> 23 | AA74: =AA73+IF(ISBLANK(Z74),0,IF(Z74=0,1,IF(Z74>0,Z74,0))) -> 34 | AB74: =AB73+IF(ISBLANK(Z74),0,IF(Z74=0,1,IF(Z74<0,-Z74,0))) -> 29 | AE74: =C74-D74 -> 2 | AF74: =G74-H74 -> 0 | AG74: =K74-L74 -> 15 | AH74: =O74-P74 -> 4 | AI74: =S74-T74 -> 5 | AJ74: =W74-X74 -> 18 | AK74: =AA74-AB74 -> 5 | AM74: =(MAX($AE74:$AI74)-AE74)/2 -> 6.5 | AN74: =(MAX($AE74:$AI74)-AF74)/2 -> 7.5 | AO74: =(MAX($AE74:$AI74)-AG74)/2 -> 0 | AP74: =(MAX($AE74:$AI74)-AH74)/2 -> 5.5 | AQ74: =(MAX($AE74:$AI74)-AI74)/2 -> 5 | AY74: =IF(AO74=0,MIN(AM74:AN74,AP74:AQ74),0-AO74) -> 5
A75: 46179 | B75: 1 | C75: =C74+IF(ISBLANK(B75),0,IF(B75=0,1,IF(B75>0,B75,0))) -> 34 | D75: =D74+IF(ISBLANK(B75),0,IF(B75=0,1,IF(B75<0,-B75,0))) -> 31 | F75: -1 | G75: =G74+IF(ISBLANK(F75),0,IF(F75=0,1,IF(F75>0,F75,0))) -> 31 | H75: =H74+IF(ISBLANK(F75),0,IF(F75=0,1,IF(F75<0,-F75,0))) -> 32 | J75: 1 | K75: =K74+IF(ISBLANK(J75),0,IF(J75=0,1,IF(J75>0,J75,0))) -> 39 | L75: =L74+IF(ISBLANK(J75),0,IF(J75=0,1,IF(J75<0,-J75,0))) -> 23 | N75: -1 | O75: =O74+IF(ISBLANK(N75),0,IF(N75=0,1,IF(N75>0,N75,0))) -> 34 | P75: =P74+IF(ISBLANK(N75),0,IF(N75=0,1,IF(N75<0,-N75,0))) -> 31 | R75: 1 | S75: =S74+IF(ISBLANK(R75),0,IF(R75=0,1,IF(R75>0,R75,0))) -> 34 | T75: =T74+IF(ISBLANK(R75),0,IF(R75=0,1,IF(R75<0,-R75,0))) -> 28 | V75: 1 | W75: =W74+IF(ISBLANK(V75),0,IF(V75=0,1,IF(V75>0,V75,0))) -> 42 | X75: =X74+IF(ISBLANK(V75),0,IF(V75=0,1,IF(V75<0,-V75,0))) -> 23 | Z75: -1 | AA75: =AA74+IF(ISBLANK(Z75),0,IF(Z75=0,1,IF(Z75>0,Z75,0))) -> 34 | AB75: =AB74+IF(ISBLANK(Z75),0,IF(Z75=0,1,IF(Z75<0,-Z75,0))) -> 30 | AE75: =C75-D75 -> 3 | AF75: =G75-H75 -> -1 | AG75: =K75-L75 -> 16 | AH75: =O75-P75 -> 3 | AI75: =S75-T75 -> 6 | AJ75: =W75-X75 -> 19 | AK75: =AA75-AB75 -> 4 | AM75: =(MAX($AE75:$AI75)-AE75)/2 -> 6.5 | AN75: =(MAX($AE75:$AI75)-AF75)/2 -> 8.5 | AO75: =(MAX($AE75:$AI75)-AG75)/2 -> 0 | AP75: =(MAX($AE75:$AI75)-AH75)/2 -> 6.5 | AQ75: =(MAX($AE75:$AI75)-AI75)/2 -> 5 | AY75: =IF(AO75=0,MIN(AM75:AN75,AP75:AQ75),0-AO75) -> 5
A76: 46180 | B76: -1 | C76: =C75+IF(ISBLANK(B76),0,IF(B76=0,1,IF(B76>0,B76,0))) -> 34 | D76: =D75+IF(ISBLANK(B76),0,IF(B76=0,1,IF(B76<0,-B76,0))) -> 32 | F76: -1 | G76: =G75+IF(ISBLANK(F76),0,IF(F76=0,1,IF(F76>0,F76,0))) -> 31 | H76: =H75+IF(ISBLANK(F76),0,IF(F76=0,1,IF(F76<0,-F76,0))) -> 33 | J76: 1 | K76: =K75+IF(ISBLANK(J76),0,IF(J76=0,1,IF(J76>0,J76,0))) -> 40 | L76: =L75+IF(ISBLANK(J76),0,IF(J76=0,1,IF(J76<0,-J76,0))) -> 23 | N76: -1 | O76: =O75+IF(ISBLANK(N76),0,IF(N76=0,1,IF(N76>0,N76,0))) -> 34 | P76: =P75+IF(ISBLANK(N76),0,IF(N76=0,1,IF(N76<0,-N76,0))) -> 32 | R76: 1 | S76: =S75+IF(ISBLANK(R76),0,IF(R76=0,1,IF(R76>0,R76,0))) -> 35 | T76: =T75+IF(ISBLANK(R76),0,IF(R76=0,1,IF(R76<0,-R76,0))) -> 28 | V76: -1 | W76: =W75+IF(ISBLANK(V76),0,IF(V76=0,1,IF(V76>0,V76,0))) -> 42 | X76: =X75+IF(ISBLANK(V76),0,IF(V76=0,1,IF(V76<0,-V76,0))) -> 24 | Z76: 1 | AA76: =AA75+IF(ISBLANK(Z76),0,IF(Z76=0,1,IF(Z76>0,Z76,0))) -> 35 | AB76: =AB75+IF(ISBLANK(Z76),0,IF(Z76=0,1,IF(Z76<0,-Z76,0))) -> 30 | AE76: =C76-D76 -> 2 | AF76: =G76-H76 -> -2 | AG76: =K76-L76 -> 17 | AH76: =O76-P76 -> 2 | AI76: =S76-T76 -> 7 | AJ76: =W76-X76 -> 18 | AK76: =AA76-AB76 -> 5 | AM76: =(MAX($AE76:$AI76)-AE76)/2 -> 7.5 | AN76: =(MAX($AE76:$AI76)-AF76)/2 -> 9.5 | AO76: =(MAX($AE76:$AI76)-AG76)/2 -> 0 | AP76: =(MAX($AE76:$AI76)-AH76)/2 -> 7.5 | AQ76: =(MAX($AE76:$AI76)-AI76)/2 -> 5 | AY76: =IF(AO76=0,MIN(AM76:AN76,AP76:AQ76),0-AO76) -> 5
A77: 46181 | C77: =C76+IF(ISBLANK(B77),0,IF(B77=0,1,IF(B77>0,B77,0))) -> 34 | D77: =D76+IF(ISBLANK(B77),0,IF(B77=0,1,IF(B77<0,-B77,0))) -> 32 | F77: -1 | G77: =G76+IF(ISBLANK(F77),0,IF(F77=0,1,IF(F77>0,F77,0))) -> 31 | H77: =H76+IF(ISBLANK(F77),0,IF(F77=0,1,IF(F77<0,-F77,0))) -> 34 | J77: 1 | K77: =K76+IF(ISBLANK(J77),0,IF(J77=0,1,IF(J77>0,J77,0))) -> 41 | L77: =L76+IF(ISBLANK(J77),0,IF(J77=0,1,IF(J77<0,-J77,0))) -> 23 | O77: =O76+IF(ISBLANK(N77),0,IF(N77=0,1,IF(N77>0,N77,0))) -> 34 | P77: =P76+IF(ISBLANK(N77),0,IF(N77=0,1,IF(N77<0,-N77,0))) -> 32 | S77: =S76+IF(ISBLANK(R77),0,IF(R77=0,1,IF(R77>0,R77,0))) -> 35 | T77: =T76+IF(ISBLANK(R77),0,IF(R77=0,1,IF(R77<0,-R77,0))) -> 28 | W77: =W76+IF(ISBLANK(V77),0,IF(V77=0,1,IF(V77>0,V77,0))) -> 42 | X77: =X76+IF(ISBLANK(V77),0,IF(V77=0,1,IF(V77<0,-V77,0))) -> 24 | Z77: -1 | AA77: =AA76+IF(ISBLANK(Z77),0,IF(Z77=0,1,IF(Z77>0,Z77,0))) -> 35 | AB77: =AB76+IF(ISBLANK(Z77),0,IF(Z77=0,1,IF(Z77<0,-Z77,0))) -> 31 | AE77: =C77-D77 -> 2 | AF77: =G77-H77 -> -3 | AG77: =K77-L77 -> 18 | AH77: =O77-P77 -> 2 | AI77: =S77-T77 -> 7 | AJ77: =W77-X77 -> 18 | AK77: =AA77-AB77 -> 4 | AM77: =(MAX($AE77:$AI77)-AE77)/2 -> 8 | AN77: =(MAX($AE77:$AI77)-AF77)/2 -> 10.5 | AO77: =(MAX($AE77:$AI77)-AG77)/2 -> 0 | AP77: =(MAX($AE77:$AI77)-AH77)/2 -> 8 | AQ77: =(MAX($AE77:$AI77)-AI77)/2 -> 5.5 | AY77: =IF(AO77=0,MIN(AM77:AN77,AP77:AQ77),0-AO77) -> 5.5
A78: 46182 | B78: -1 | C78: =C77+IF(ISBLANK(B78),0,IF(B78=0,1,IF(B78>0,B78,0))) -> 34 | D78: =D77+IF(ISBLANK(B78),0,IF(B78=0,1,IF(B78<0,-B78,0))) -> 33 | F78: 1 | G78: =G77+IF(ISBLANK(F78),0,IF(F78=0,1,IF(F78>0,F78,0))) -> 32 | H78: =H77+IF(ISBLANK(F78),0,IF(F78=0,1,IF(F78<0,-F78,0))) -> 34 | J78: -1 | K78: =K77+IF(ISBLANK(J78),0,IF(J78=0,1,IF(J78>0,J78,0))) -> 41 | L78: =L77+IF(ISBLANK(J78),0,IF(J78=0,1,IF(J78<0,-J78,0))) -> 24 | N78: -1 | O78: =O77+IF(ISBLANK(N78),0,IF(N78=0,1,IF(N78>0,N78,0))) -> 34 | P78: =P77+IF(ISBLANK(N78),0,IF(N78=0,1,IF(N78<0,-N78,0))) -> 33 | R78: 1 | S78: =S77+IF(ISBLANK(R78),0,IF(R78=0,1,IF(R78>0,R78,0))) -> 36 | T78: =T77+IF(ISBLANK(R78),0,IF(R78=0,1,IF(R78<0,-R78,0))) -> 28 | V78: 1 | W78: =W77+IF(ISBLANK(V78),0,IF(V78=0,1,IF(V78>0,V78,0))) -> 43 | X78: =X77+IF(ISBLANK(V78),0,IF(V78=0,1,IF(V78<0,-V78,0))) -> 24 | Z78: -1 | AA78: =AA77+IF(ISBLANK(Z78),0,IF(Z78=0,1,IF(Z78>0,Z78,0))) -> 35 | AB78: =AB77+IF(ISBLANK(Z78),0,IF(Z78=0,1,IF(Z78<0,-Z78,0))) -> 32 | AE78: =C78-D78 -> 1 | AF78: =G78-H78 -> -2 | AG78: =K78-L78 -> 17 | AH78: =O78-P78 -> 1 | AI78: =S78-T78 -> 8 | AJ78: =W78-X78 -> 19 | AK78: =AA78-AB78 -> 3 | AM78: =(MAX($AE78:$AI78)-AE78)/2 -> 8 | AN78: =(MAX($AE78:$AI78)-AF78)/2 -> 9.5 | AO78: =(MAX($AE78:$AI78)-AG78)/2 -> 0 | AP78: =(MAX($AE78:$AI78)-AH78)/2 -> 8 | AQ78: =(MAX($AE78:$AI78)-AI78)/2 -> 4.5 | AY78: =IF(AO78=0,MIN(AM78:AN78,AP78:AQ78),0-AO78) -> 4.5
A79: 46183 | B79: -1 | C79: =C78+IF(ISBLANK(B79),0,IF(B79=0,1,IF(B79>0,B79,0))) -> 34 | D79: =D78+IF(ISBLANK(B79),0,IF(B79=0,1,IF(B79<0,-B79,0))) -> 34 | F79: -1 | G79: =G78+IF(ISBLANK(F79),0,IF(F79=0,1,IF(F79>0,F79,0))) -> 32 | H79: =H78+IF(ISBLANK(F79),0,IF(F79=0,1,IF(F79<0,-F79,0))) -> 35 | J79: -1 | K79: =K78+IF(ISBLANK(J79),0,IF(J79=0,1,IF(J79>0,J79,0))) -> 41 | L79: =L78+IF(ISBLANK(J79),0,IF(J79=0,1,IF(J79<0,-J79,0))) -> 25 | N79: 1 | O79: =O78+IF(ISBLANK(N79),0,IF(N79=0,1,IF(N79>0,N79,0))) -> 35 | P79: =P78+IF(ISBLANK(N79),0,IF(N79=0,1,IF(N79<0,-N79,0))) -> 33 | R79: 1 | S79: =S78+IF(ISBLANK(R79),0,IF(R79=0,1,IF(R79>0,R79,0))) -> 37 | T79: =T78+IF(ISBLANK(R79),0,IF(R79=0,1,IF(R79<0,-R79,0))) -> 28 | V79: -1 | W79: =W78+IF(ISBLANK(V79),0,IF(V79=0,1,IF(V79>0,V79,0))) -> 43 | X79: =X78+IF(ISBLANK(V79),0,IF(V79=0,1,IF(V79<0,-V79,0))) -> 25 | Z79: 1 | AA79: =AA78+IF(ISBLANK(Z79),0,IF(Z79=0,1,IF(Z79>0,Z79,0))) -> 36 | AB79: =AB78+IF(ISBLANK(Z79),0,IF(Z79=0,1,IF(Z79<0,-Z79,0))) -> 32 | AE79: =C79-D79 -> 0 | AF79: =G79-H79 -> -3 | AG79: =K79-L79 -> 16 | AH79: =O79-P79 -> 2 | AI79: =S79-T79 -> 9 | AJ79: =W79-X79 -> 18 | AK79: =AA79-AB79 -> 4 | AM79: =(MAX($AE79:$AI79)-AE79)/2 -> 8 | AN79: =(MAX($AE79:$AI79)-AF79)/2 -> 9.5 | AO79: =(MAX($AE79:$AI79)-AG79)/2 -> 0 | AP79: =(MAX($AE79:$AI79)-AH79)/2 -> 7 | AQ79: =(MAX($AE79:$AI79)-AI79)/2 -> 3.5 | AY79: =IF(AO79=0,MIN(AM79:AN79,AP79:AQ79),0-AO79) -> 3.5
A80: 46184 | B80: 1 | C80: =C79+IF(ISBLANK(B80),0,IF(B80=0,1,IF(B80>0,B80,0))) -> 35 | D80: =D79+IF(ISBLANK(B80),0,IF(B80=0,1,IF(B80<0,-B80,0))) -> 34 | G80: =G79+IF(ISBLANK(F80),0,IF(F80=0,1,IF(F80>0,F80,0))) -> 32 | H80: =H79+IF(ISBLANK(F80),0,IF(F80=0,1,IF(F80<0,-F80,0))) -> 35 | K80: =K79+IF(ISBLANK(J80),0,IF(J80=0,1,IF(J80>0,J80,0))) -> 41 | L80: =L79+IF(ISBLANK(J80),0,IF(J80=0,1,IF(J80<0,-J80,0))) -> 25 | N80: -1 | O80: =O79+IF(ISBLANK(N80),0,IF(N80=0,1,IF(N80>0,N80,0))) -> 35 | P80: =P79+IF(ISBLANK(N80),0,IF(N80=0,1,IF(N80<0,-N80,0))) -> 34 | R80: -1 | S80: =S79+IF(ISBLANK(R80),0,IF(R80=0,1,IF(R80>0,R80,0))) -> 37 | T80: =T79+IF(ISBLANK(R80),0,IF(R80=0,1,IF(R80<0,-R80,0))) -> 29 | V80: 1 | W80: =W79+IF(ISBLANK(V80),0,IF(V80=0,1,IF(V80>0,V80,0))) -> 44 | X80: =X79+IF(ISBLANK(V80),0,IF(V80=0,1,IF(V80<0,-V80,0))) -> 25 | Z80: -1 | AA80: =AA79+IF(ISBLANK(Z80),0,IF(Z80=0,1,IF(Z80>0,Z80,0))) -> 36 | AB80: =AB79+IF(ISBLANK(Z80),0,IF(Z80=0,1,IF(Z80<0,-Z80,0))) -> 33 | AE80: =C80-D80 -> 1 | AF80: =G80-H80 -> -3 | AG80: =K80-L80 -> 16 | AH80: =O80-P80 -> 1 | AI80: =S80-T80 -> 8 | AJ80: =W80-X80 -> 19 | AK80: =AA80-AB80 -> 3 | AM80: =(MAX($AE80:$AI80)-AE80)/2 -> 7.5 | AN80: =(MAX($AE80:$AI80)-AF80)/2 -> 9.5 | AO80: =(MAX($AE80:$AI80)-AG80)/2 -> 0 | AP80: =(MAX($AE80:$AI80)-AH80)/2 -> 7.5 | AQ80: =(MAX($AE80:$AI80)-AI80)/2 -> 4 | AY80: =IF(AO80=0,MIN(AM80:AN80,AP80:AQ80),0-AO80) -> 4
A81: 46185 | B81: 1 | C81: =C80+IF(ISBLANK(B81),0,IF(B81=0,1,IF(B81>0,B81,0))) -> 36 | D81: =D80+IF(ISBLANK(B81),0,IF(B81=0,1,IF(B81<0,-B81,0))) -> 34 | F81: -1 | G81: =G80+IF(ISBLANK(F81),0,IF(F81=0,1,IF(F81>0,F81,0))) -> 32 | H81: =H80+IF(ISBLANK(F81),0,IF(F81=0,1,IF(F81<0,-F81,0))) -> 36 | J81: 1 | K81: =K80+IF(ISBLANK(J81),0,IF(J81=0,1,IF(J81>0,J81,0))) -> 42 | L81: =L80+IF(ISBLANK(J81),0,IF(J81=0,1,IF(J81<0,-J81,0))) -> 25 | N81: -1 | O81: =O80+IF(ISBLANK(N81),0,IF(N81=0,1,IF(N81>0,N81,0))) -> 35 | P81: =P80+IF(ISBLANK(N81),0,IF(N81=0,1,IF(N81<0,-N81,0))) -> 35 | R81: -1 | S81: =S80+IF(ISBLANK(R81),0,IF(R81=0,1,IF(R81>0,R81,0))) -> 37 | T81: =T80+IF(ISBLANK(R81),0,IF(R81=0,1,IF(R81<0,-R81,0))) -> 30 | V81: -1 | W81: =W80+IF(ISBLANK(V81),0,IF(V81=0,1,IF(V81>0,V81,0))) -> 44 | X81: =X80+IF(ISBLANK(V81),0,IF(V81=0,1,IF(V81<0,-V81,0))) -> 26 | Z81: 1 | AA81: =AA80+IF(ISBLANK(Z81),0,IF(Z81=0,1,IF(Z81>0,Z81,0))) -> 37 | AB81: =AB80+IF(ISBLANK(Z81),0,IF(Z81=0,1,IF(Z81<0,-Z81,0))) -> 33 | AE81: =C81-D81 -> 2 | AF81: =G81-H81 -> -4 | AG81: =K81-L81 -> 17 | AH81: =O81-P81 -> 0 | AI81: =S81-T81 -> 7 | AJ81: =W81-X81 -> 18 | AK81: =AA81-AB81 -> 4 | AM81: =(MAX($AE81:$AI81)-AE81)/2 -> 7.5 | AN81: =(MAX($AE81:$AI81)-AF81)/2 -> 10.5 | AO81: =(MAX($AE81:$AI81)-AG81)/2 -> 0 | AP81: =(MAX($AE81:$AI81)-AH81)/2 -> 8.5 | AQ81: =(MAX($AE81:$AI81)-AI81)/2 -> 5 | AY81: =IF(AO81=0,MIN(AM81:AN81,AP81:AQ81),0-AO81) -> 5
A82: 46186 | B82: 1 | C82: =C81+IF(ISBLANK(B82),0,IF(B82=0,1,IF(B82>0,B82,0))) -> 37 | D82: =D81+IF(ISBLANK(B82),0,IF(B82=0,1,IF(B82<0,-B82,0))) -> 34 | F82: 1 | G82: =G81+IF(ISBLANK(F82),0,IF(F82=0,1,IF(F82>0,F82,0))) -> 33 | H82: =H81+IF(ISBLANK(F82),0,IF(F82=0,1,IF(F82<0,-F82,0))) -> 36 | J82: -1 | K82: =K81+IF(ISBLANK(J82),0,IF(J82=0,1,IF(J82>0,J82,0))) -> 42 | L82: =L81+IF(ISBLANK(J82),0,IF(J82=0,1,IF(J82<0,-J82,0))) -> 26 | N82: 1 | O82: =O81+IF(ISBLANK(N82),0,IF(N82=0,1,IF(N82>0,N82,0))) -> 36 | P82: =P81+IF(ISBLANK(N82),0,IF(N82=0,1,IF(N82<0,-N82,0))) -> 35 | R82: 1 | S82: =S81+IF(ISBLANK(R82),0,IF(R82=0,1,IF(R82>0,R82,0))) -> 38 | T82: =T81+IF(ISBLANK(R82),0,IF(R82=0,1,IF(R82<0,-R82,0))) -> 30 | V82: 1 | W82: =W81+IF(ISBLANK(V82),0,IF(V82=0,1,IF(V82>0,V82,0))) -> 45 | X82: =X81+IF(ISBLANK(V82),0,IF(V82=0,1,IF(V82<0,-V82,0))) -> 26 | Z82: 1 | AA82: =AA81+IF(ISBLANK(Z82),0,IF(Z82=0,1,IF(Z82>0,Z82,0))) -> 38 | AB82: =AB81+IF(ISBLANK(Z82),0,IF(Z82=0,1,IF(Z82<0,-Z82,0))) -> 33 | AE82: =C82-D82 -> 3 | AF82: =G82-H82 -> -3 | AG82: =K82-L82 -> 16 | AH82: =O82-P82 -> 1 | AI82: =S82-T82 -> 8 | AJ82: =W82-X82 -> 19 | AK82: =AA82-AB82 -> 5 | AM82: =(MAX($AE82:$AI82)-AE82)/2 -> 6.5 | AN82: =(MAX($AE82:$AI82)-AF82)/2 -> 9.5 | AO82: =(MAX($AE82:$AI82)-AG82)/2 -> 0 | AP82: =(MAX($AE82:$AI82)-AH82)/2 -> 7.5 | AQ82: =(MAX($AE82:$AI82)-AI82)/2 -> 4 | AY82: =IF(AO82=0,MIN(AM82:AN82,AP82:AQ82),0-AO82) -> 4
A83: 46187 | B83: -1 | C83: =C82+IF(ISBLANK(B83),0,IF(B83=0,1,IF(B83>0,B83,0))) -> 37 | D83: =D82+IF(ISBLANK(B83),0,IF(B83=0,1,IF(B83<0,-B83,0))) -> 35 | F83: -1 | G83: =G82+IF(ISBLANK(F83),0,IF(F83=0,1,IF(F83>0,F83,0))) -> 33 | H83: =H82+IF(ISBLANK(F83),0,IF(F83=0,1,IF(F83<0,-F83,0))) -> 37 | J83: 1 | K83: =K82+IF(ISBLANK(J83),0,IF(J83=0,1,IF(J83>0,J83,0))) -> 43 | L83: =L82+IF(ISBLANK(J83),0,IF(J83=0,1,IF(J83<0,-J83,0))) -> 26 | N83: -1 | O83: =O82+IF(ISBLANK(N83),0,IF(N83=0,1,IF(N83>0,N83,0))) -> 36 | P83: =P82+IF(ISBLANK(N83),0,IF(N83=0,1,IF(N83<0,-N83,0))) -> 36 | R83: -1 | S83: =S82+IF(ISBLANK(R83),0,IF(R83=0,1,IF(R83>0,R83,0))) -> 38 | T83: =T82+IF(ISBLANK(R83),0,IF(R83=0,1,IF(R83<0,-R83,0))) -> 31 | V83: -1 | W83: =W82+IF(ISBLANK(V83),0,IF(V83=0,1,IF(V83>0,V83,0))) -> 45 | X83: =X82+IF(ISBLANK(V83),0,IF(V83=0,1,IF(V83<0,-V83,0))) -> 27 | Z83: -1 | AA83: =AA82+IF(ISBLANK(Z83),0,IF(Z83=0,1,IF(Z83>0,Z83,0))) -> 38 | AB83: =AB82+IF(ISBLANK(Z83),0,IF(Z83=0,1,IF(Z83<0,-Z83,0))) -> 34 | AE83: =C83-D83 -> 2 | AF83: =G83-H83 -> -4 | AG83: =K83-L83 -> 17 | AH83: =O83-P83 -> 0 | AI83: =S83-T83 -> 7 | AJ83: =W83-X83 -> 18 | AK83: =AA83-AB83 -> 4 | AM83: =(MAX($AE83:$AI83)-AE83)/2 -> 7.5 | AN83: =(MAX($AE83:$AI83)-AF83)/2 -> 10.5 | AO83: =(MAX($AE83:$AI83)-AG83)/2 -> 0 | AP83: =(MAX($AE83:$AI83)-AH83)/2 -> 8.5 | AQ83: =(MAX($AE83:$AI83)-AI83)/2 -> 5 | AY83: =IF(AO83=0,MIN(AM83:AN83,AP83:AQ83),0-AO83) -> 5
A84: 46188 | B84: 1 | C84: =C83+IF(ISBLANK(B84),0,IF(B84=0,1,IF(B84>0,B84,0))) -> 38 | D84: =D83+IF(ISBLANK(B84),0,IF(B84=0,1,IF(B84<0,-B84,0))) -> 35 | F84: 1 | G84: =G83+IF(ISBLANK(F84),0,IF(F84=0,1,IF(F84>0,F84,0))) -> 34 | H84: =H83+IF(ISBLANK(F84),0,IF(F84=0,1,IF(F84<0,-F84,0))) -> 37 | K84: =K83+IF(ISBLANK(J84),0,IF(J84=0,1,IF(J84>0,J84,0))) -> 43 | L84: =L83+IF(ISBLANK(J84),0,IF(J84=0,1,IF(J84<0,-J84,0))) -> 26 | N84: -1 | O84: =O83+IF(ISBLANK(N84),0,IF(N84=0,1,IF(N84>0,N84,0))) -> 36 | P84: =P83+IF(ISBLANK(N84),0,IF(N84=0,1,IF(N84<0,-N84,0))) -> 37 | R84: 1 | S84: =S83+IF(ISBLANK(R84),0,IF(R84=0,1,IF(R84>0,R84,0))) -> 39 | T84: =T83+IF(ISBLANK(R84),0,IF(R84=0,1,IF(R84<0,-R84,0))) -> 31 | V84: 1 | W84: =W83+IF(ISBLANK(V84),0,IF(V84=0,1,IF(V84>0,V84,0))) -> 46 | X84: =X83+IF(ISBLANK(V84),0,IF(V84=0,1,IF(V84<0,-V84,0))) -> 27 | Z84: 1 | AA84: =AA83+IF(ISBLANK(Z84),0,IF(Z84=0,1,IF(Z84>0,Z84,0))) -> 39 | AB84: =AB83+IF(ISBLANK(Z84),0,IF(Z84=0,1,IF(Z84<0,-Z84,0))) -> 34 | AE84: =C84-D84 -> 3 | AF84: =G84-H84 -> -3 | AG84: =K84-L84 -> 17 | AH84: =O84-P84 -> -1 | AI84: =S84-T84 -> 8 | AJ84: =W84-X84 -> 19 | AK84: =AA84-AB84 -> 5 | AM84: =(MAX($AE84:$AI84)-AE84)/2 -> 7 | AN84: =(MAX($AE84:$AI84)-AF84)/2 -> 10 | AO84: =(MAX($AE84:$AI84)-AG84)/2 -> 0 | AP84: =(MAX($AE84:$AI84)-AH84)/2 -> 9 | AQ84: =(MAX($AE84:$AI84)-AI84)/2 -> 4.5 | AY84: =IF(AO84=0,MIN(AM84:AN84,AP84:AQ84),0-AO84) -> 4.5
A85: 46189 | B85: -1 | C85: =C84+IF(ISBLANK(B85),0,IF(B85=0,1,IF(B85>0,B85,0))) -> 38 | D85: =D84+IF(ISBLANK(B85),0,IF(B85=0,1,IF(B85<0,-B85,0))) -> 36 | F85: 1 | G85: =G84+IF(ISBLANK(F85),0,IF(F85=0,1,IF(F85>0,F85,0))) -> 35 | H85: =H84+IF(ISBLANK(F85),0,IF(F85=0,1,IF(F85<0,-F85,0))) -> 37 | J85: 1 | K85: =K84+IF(ISBLANK(J85),0,IF(J85=0,1,IF(J85>0,J85,0))) -> 44 | L85: =L84+IF(ISBLANK(J85),0,IF(J85=0,1,IF(J85<0,-J85,0))) -> 26 | N85: 1 | O85: =O84+IF(ISBLANK(N85),0,IF(N85=0,1,IF(N85>0,N85,0))) -> 37 | P85: =P84+IF(ISBLANK(N85),0,IF(N85=0,1,IF(N85<0,-N85,0))) -> 37 | R85: 1 | S85: =S84+IF(ISBLANK(R85),0,IF(R85=0,1,IF(R85>0,R85,0))) -> 40 | T85: =T84+IF(ISBLANK(R85),0,IF(R85=0,1,IF(R85<0,-R85,0))) -> 31 | V85: 1 | W85: =W84+IF(ISBLANK(V85),0,IF(V85=0,1,IF(V85>0,V85,0))) -> 47 | X85: =X84+IF(ISBLANK(V85),0,IF(V85=0,1,IF(V85<0,-V85,0))) -> 27 | AA85: =AA84+IF(ISBLANK(Z85),0,IF(Z85=0,1,IF(Z85>0,Z85,0))) -> 39 | AB85: =AB84+IF(ISBLANK(Z85),0,IF(Z85=0,1,IF(Z85<0,-Z85,0))) -> 34 | AE85: =C85-D85 -> 2 | AF85: =G85-H85 -> -2 | AG85: =K85-L85 -> 18 | AH85: =O85-P85 -> 0 | AI85: =S85-T85 -> 9 | AJ85: =W85-X85 -> 20 | AK85: =AA85-AB85 -> 5 | AM85: =(MAX($AE85:$AI85)-AE85)/2 -> 8 | AN85: =(MAX($AE85:$AI85)-AF85)/2 -> 10 | AO85: =(MAX($AE85:$AI85)-AG85)/2 -> 0 | AP85: =(MAX($AE85:$AI85)-AH85)/2 -> 9 | AQ85: =(MAX($AE85:$AI85)-AI85)/2 -> 4.5 | AY85: =IF(AO85=0,MIN(AM85:AN85,AP85:AQ85),0-AO85) -> 4.5
A86: 46190 | B86: 1 | C86: =C85+IF(ISBLANK(B86),0,IF(B86=0,1,IF(B86>0,B86,0))) -> 39 | D86: =D85+IF(ISBLANK(B86),0,IF(B86=0,1,IF(B86<0,-B86,0))) -> 36 | F86: -1 | G86: =G85+IF(ISBLANK(F86),0,IF(F86=0,1,IF(F86>0,F86,0))) -> 35 | H86: =H85+IF(ISBLANK(F86),0,IF(F86=0,1,IF(F86<0,-F86,0))) -> 38 | J86: 1 | K86: =K85+IF(ISBLANK(J86),0,IF(J86=0,1,IF(J86>0,J86,0))) -> 45 | L86: =L85+IF(ISBLANK(J86),0,IF(J86=0,1,IF(J86<0,-J86,0))) -> 26 | N86: 1 | O86: =O85+IF(ISBLANK(N86),0,IF(N86=0,1,IF(N86>0,N86,0))) -> 38 | P86: =P85+IF(ISBLANK(N86),0,IF(N86=0,1,IF(N86<0,-N86,0))) -> 37 | R86: -1 | S86: =S85+IF(ISBLANK(R86),0,IF(R86=0,1,IF(R86>0,R86,0))) -> 40 | T86: =T85+IF(ISBLANK(R86),0,IF(R86=0,1,IF(R86<0,-R86,0))) -> 32 | V86: 1 | W86: =W85+IF(ISBLANK(V86),0,IF(V86=0,1,IF(V86>0,V86,0))) -> 48 | X86: =X85+IF(ISBLANK(V86),0,IF(V86=0,1,IF(V86<0,-V86,0))) -> 27 | Z86: -1 | AA86: =AA85+IF(ISBLANK(Z86),0,IF(Z86=0,1,IF(Z86>0,Z86,0))) -> 39 | AB86: =AB85+IF(ISBLANK(Z86),0,IF(Z86=0,1,IF(Z86<0,-Z86,0))) -> 35 | AE86: =C86-D86 -> 3 | AF86: =G86-H86 -> -3 | AG86: =K86-L86 -> 19 | AH86: =O86-P86 -> 1 | AI86: =S86-T86 -> 8 | AJ86: =W86-X86 -> 21 | AK86: =AA86-AB86 -> 4 | AM86: =(MAX($AE86:$AI86)-AE86)/2 -> 8 | AN86: =(MAX($AE86:$AI86)-AF86)/2 -> 11 | AO86: =(MAX($AE86:$AI86)-AG86)/2 -> 0 | AP86: =(MAX($AE86:$AI86)-AH86)/2 -> 9 | AQ86: =(MAX($AE86:$AI86)-AI86)/2 -> 5.5 | AY86: =IF(AO86=0,MIN(AM86:AN86,AP86:AQ86),0-AO86) -> 5.5
A87: 46191 | C87: =C86+IF(ISBLANK(B87),0,IF(B87=0,1,IF(B87>0,B87,0))) -> 39 | D87: =D86+IF(ISBLANK(B87),0,IF(B87=0,1,IF(B87<0,-B87,0))) -> 36 | G87: =G86+IF(ISBLANK(F87),0,IF(F87=0,1,IF(F87>0,F87,0))) -> 35 | H87: =H86+IF(ISBLANK(F87),0,IF(F87=0,1,IF(F87<0,-F87,0))) -> 38 | J87: -1 | K87: =K86+IF(ISBLANK(J87),0,IF(J87=0,1,IF(J87>0,J87,0))) -> 45 | L87: =L86+IF(ISBLANK(J87),0,IF(J87=0,1,IF(J87<0,-J87,0))) -> 27 | O87: =O86+IF(ISBLANK(N87),0,IF(N87=0,1,IF(N87>0,N87,0))) -> 38 | P87: =P86+IF(ISBLANK(N87),0,IF(N87=0,1,IF(N87<0,-N87,0))) -> 37 | R87: -1 | S87: =S86+IF(ISBLANK(R87),0,IF(R87=0,1,IF(R87>0,R87,0))) -> 40 | T87: =T86+IF(ISBLANK(R87),0,IF(R87=0,1,IF(R87<0,-R87,0))) -> 33 | W87: =W86+IF(ISBLANK(V87),0,IF(V87=0,1,IF(V87>0,V87,0))) -> 48 | X87: =X86+IF(ISBLANK(V87),0,IF(V87=0,1,IF(V87<0,-V87,0))) -> 27 | AA87: =AA86+IF(ISBLANK(Z87),0,IF(Z87=0,1,IF(Z87>0,Z87,0))) -> 39 | AB87: =AB86+IF(ISBLANK(Z87),0,IF(Z87=0,1,IF(Z87<0,-Z87,0))) -> 35 | AE87: =C87-D87 -> 3 | AF87: =G87-H87 -> -3 | AG87: =K87-L87 -> 18 | AH87: =O87-P87 -> 1 | AI87: =S87-T87 -> 7 | AJ87: =W87-X87 -> 21 | AK87: =AA87-AB87 -> 4 | AM87: =(MAX($AE87:$AI87)-AE87)/2 -> 7.5 | AN87: =(MAX($AE87:$AI87)-AF87)/2 -> 10.5 | AO87: =(MAX($AE87:$AI87)-AG87)/2 -> 0 | AP87: =(MAX($AE87:$AI87)-AH87)/2 -> 8.5 | AQ87: =(MAX($AE87:$AI87)-AI87)/2 -> 5.5 | AY87: =IF(AO87=0,MIN(AM87:AN87,AP87:AQ87),0-AO87) -> 5.5
A88: 46192 | B88: 1 | C88: =C87+IF(ISBLANK(B88),0,IF(B88=0,1,IF(B88>0,B88,0))) -> 40 | D88: =D87+IF(ISBLANK(B88),0,IF(B88=0,1,IF(B88<0,-B88,0))) -> 36 | F88: -1 | G88: =G87+IF(ISBLANK(F88),0,IF(F88=0,1,IF(F88>0,F88,0))) -> 35 | H88: =H87+IF(ISBLANK(F88),0,IF(F88=0,1,IF(F88<0,-F88,0))) -> 39 | J88: -1 | K88: =K87+IF(ISBLANK(J88),0,IF(J88=0,1,IF(J88>0,J88,0))) -> 45 | L88: =L87+IF(ISBLANK(J88),0,IF(J88=0,1,IF(J88<0,-J88,0))) -> 28 | N88: -1 | O88: =O87+IF(ISBLANK(N88),0,IF(N88=0,1,IF(N88>0,N88,0))) -> 38 | P88: =P87+IF(ISBLANK(N88),0,IF(N88=0,1,IF(N88<0,-N88,0))) -> 38 | R88: -1 | S88: =S87+IF(ISBLANK(R88),0,IF(R88=0,1,IF(R88>0,R88,0))) -> 40 | T88: =T87+IF(ISBLANK(R88),0,IF(R88=0,1,IF(R88<0,-R88,0))) -> 34 | V88: 1 | W88: =W87+IF(ISBLANK(V88),0,IF(V88=0,1,IF(V88>0,V88,0))) -> 49 | X88: =X87+IF(ISBLANK(V88),0,IF(V88=0,1,IF(V88<0,-V88,0))) -> 27 | Z88: 1 | AA88: =AA87+IF(ISBLANK(Z88),0,IF(Z88=0,1,IF(Z88>0,Z88,0))) -> 40 | AB88: =AB87+IF(ISBLANK(Z88),0,IF(Z88=0,1,IF(Z88<0,-Z88,0))) -> 35 | AE88: =C88-D88 -> 4 | AF88: =G88-H88 -> -4 | AG88: =K88-L88 -> 17 | AH88: =O88-P88 -> 0 | AI88: =S88-T88 -> 6 | AJ88: =W88-X88 -> 22 | AK88: =AA88-AB88 -> 5 | AM88: =(MAX($AE88:$AI88)-AE88)/2 -> 6.5 | AN88: =(MAX($AE88:$AI88)-AF88)/2 -> 10.5 | AO88: =(MAX($AE88:$AI88)-AG88)/2 -> 0 | AP88: =(MAX($AE88:$AI88)-AH88)/2 -> 8.5 | AQ88: =(MAX($AE88:$AI88)-AI88)/2 -> 5.5 | AY88: =IF(AO88=0,MIN(AM88:AN88,AP88:AQ88),0-AO88) -> 5.5
A89: 46193 | B89: -1 | C89: =C88+IF(ISBLANK(B89),0,IF(B89=0,1,IF(B89>0,B89,0))) -> 40 | D89: =D88+IF(ISBLANK(B89),0,IF(B89=0,1,IF(B89<0,-B89,0))) -> 37 | F89: 1 | G89: =G88+IF(ISBLANK(F89),0,IF(F89=0,1,IF(F89>0,F89,0))) -> 36 | H89: =H88+IF(ISBLANK(F89),0,IF(F89=0,1,IF(F89<0,-F89,0))) -> 39 | J89: -1 | K89: =K88+IF(ISBLANK(J89),0,IF(J89=0,1,IF(J89>0,J89,0))) -> 45 | L89: =L88+IF(ISBLANK(J89),0,IF(J89=0,1,IF(J89<0,-J89,0))) -> 29 | N89: -1 | O89: =O88+IF(ISBLANK(N89),0,IF(N89=0,1,IF(N89>0,N89,0))) -> 38 | P89: =P88+IF(ISBLANK(N89),0,IF(N89=0,1,IF(N89<0,-N89,0))) -> 39 | S89: =S88+IF(ISBLANK(R89),0,IF(R89=0,1,IF(R89>0,R89,0))) -> 40 | T89: =T88+IF(ISBLANK(R89),0,IF(R89=0,1,IF(R89<0,-R89,0))) -> 34 | V89: -1 | W89: =W88+IF(ISBLANK(V89),0,IF(V89=0,1,IF(V89>0,V89,0))) -> 49 | X89: =X88+IF(ISBLANK(V89),0,IF(V89=0,1,IF(V89<0,-V89,0))) -> 28 | Z89: 1 | AA89: =AA88+IF(ISBLANK(Z89),0,IF(Z89=0,1,IF(Z89>0,Z89,0))) -> 41 | AB89: =AB88+IF(ISBLANK(Z89),0,IF(Z89=0,1,IF(Z89<0,-Z89,0))) -> 35 | AE89: =C89-D89 -> 3 | AF89: =G89-H89 -> -3 | AG89: =K89-L89 -> 16 | AH89: =O89-P89 -> -1 | AI89: =S89-T89 -> 6 | AJ89: =W89-X89 -> 21 | AK89: =AA89-AB89 -> 6 | AM89: =(MAX($AE89:$AI89)-AE89)/2 -> 6.5 | AN89: =(MAX($AE89:$AI89)-AF89)/2 -> 9.5 | AO89: =(MAX($AE89:$AI89)-AG89)/2 -> 0 | AP89: =(MAX($AE89:$AI89)-AH89)/2 -> 8.5 | AQ89: =(MAX($AE89:$AI89)-AI89)/2 -> 5 | AY89: =IF(AO89=0,MIN(AM89:AN89,AP89:AQ89),0-AO89) -> 5
A90: 46194 | C90: =C89+IF(ISBLANK(B90),0,IF(B90=0,1,IF(B90>0,B90,0))) -> 40 | D90: =D89+IF(ISBLANK(B90),0,IF(B90=0,1,IF(B90<0,-B90,0))) -> 37 | F90: 1 | G90: =G89+IF(ISBLANK(F90),0,IF(F90=0,1,IF(F90>0,F90,0))) -> 37 | H90: =H89+IF(ISBLANK(F90),0,IF(F90=0,1,IF(F90<0,-F90,0))) -> 39 | J90: 1 | K90: =K89+IF(ISBLANK(J90),0,IF(J90=0,1,IF(J90>0,J90,0))) -> 46 | L90: =L89+IF(ISBLANK(J90),0,IF(J90=0,1,IF(J90<0,-J90,0))) -> 29 | N90: 1 | O90: =O89+IF(ISBLANK(N90),0,IF(N90=0,1,IF(N90>0,N90,0))) -> 39 | P90: =P89+IF(ISBLANK(N90),0,IF(N90=0,1,IF(N90<0,-N90,0))) -> 39 | R90: 1 | S90: =S89+IF(ISBLANK(R90),0,IF(R90=0,1,IF(R90>0,R90,0))) -> 41 | T90: =T89+IF(ISBLANK(R90),0,IF(R90=0,1,IF(R90<0,-R90,0))) -> 34 | V90: -1 | W90: =W89+IF(ISBLANK(V90),0,IF(V90=0,1,IF(V90>0,V90,0))) -> 49 | X90: =X89+IF(ISBLANK(V90),0,IF(V90=0,1,IF(V90<0,-V90,0))) -> 29 | Z90: 1 | AA90: =AA89+IF(ISBLANK(Z90),0,IF(Z90=0,1,IF(Z90>0,Z90,0))) -> 42 | AB90: =AB89+IF(ISBLANK(Z90),0,IF(Z90=0,1,IF(Z90<0,-Z90,0))) -> 35 | AE90: =C90-D90 -> 3 | AF90: =G90-H90 -> -2 | AG90: =K90-L90 -> 17 | AH90: =O90-P90 -> 0 | AI90: =S90-T90 -> 7 | AJ90: =W90-X90 -> 20 | AK90: =AA90-AB90 -> 7 | AM90: =(MAX($AE90:$AI90)-AE90)/2 -> 7 | AN90: =(MAX($AE90:$AI90)-AF90)/2 -> 9.5 | AO90: =(MAX($AE90:$AI90)-AG90)/2 -> 0 | AP90: =(MAX($AE90:$AI90)-AH90)/2 -> 8.5 | AQ90: =(MAX($AE90:$AI90)-AI90)/2 -> 5 | AY90: =IF(AO90=0,MIN(AM90:AN90,AP90:AQ90),0-AO90) -> 5
A91: 46195 | C91: =C90+IF(ISBLANK(B91),0,IF(B91=0,1,IF(B91>0,B91,0))) -> 40 | D91: =D90+IF(ISBLANK(B91),0,IF(B91=0,1,IF(B91<0,-B91,0))) -> 37 | F91: -1 | G91: =G90+IF(ISBLANK(F91),0,IF(F91=0,1,IF(F91>0,F91,0))) -> 37 | H91: =H90+IF(ISBLANK(F91),0,IF(F91=0,1,IF(F91<0,-F91,0))) -> 40 | J91: 1 | K91: =K90+IF(ISBLANK(J91),0,IF(J91=0,1,IF(J91>0,J91,0))) -> 47 | L91: =L90+IF(ISBLANK(J91),0,IF(J91=0,1,IF(J91<0,-J91,0))) -> 29 | O91: =O90+IF(ISBLANK(N91),0,IF(N91=0,1,IF(N91>0,N91,0))) -> 39 | P91: =P90+IF(ISBLANK(N91),0,IF(N91=0,1,IF(N91<0,-N91,0))) -> 39 | R91: 1 | S91: =S90+IF(ISBLANK(R91),0,IF(R91=0,1,IF(R91>0,R91,0))) -> 42 | T91: =T90+IF(ISBLANK(R91),0,IF(R91=0,1,IF(R91<0,-R91,0))) -> 34 | V91: 1 | W91: =W90+IF(ISBLANK(V91),0,IF(V91=0,1,IF(V91>0,V91,0))) -> 50 | X91: =X90+IF(ISBLANK(V91),0,IF(V91=0,1,IF(V91<0,-V91,0))) -> 29 | Z91: 1 | AA91: =AA90+IF(ISBLANK(Z91),0,IF(Z91=0,1,IF(Z91>0,Z91,0))) -> 43 | AB91: =AB90+IF(ISBLANK(Z91),0,IF(Z91=0,1,IF(Z91<0,-Z91,0))) -> 35 | AE91: =C91-D91 -> 3 | AF91: =G91-H91 -> -3 | AG91: =K91-L91 -> 18 | AH91: =O91-P91 -> 0 | AI91: =S91-T91 -> 8 | AJ91: =W91-X91 -> 21 | AK91: =AA91-AB91 -> 8 | AM91: =(MAX($AE91:$AI91)-AE91)/2 -> 7.5 | AN91: =(MAX($AE91:$AI91)-AF91)/2 -> 10.5 | AO91: =(MAX($AE91:$AI91)-AG91)/2 -> 0 | AP91: =(MAX($AE91:$AI91)-AH91)/2 -> 9 | AQ91: =(MAX($AE91:$AI91)-AI91)/2 -> 5 | AY91: =IF(AO91=0,MIN(AM91:AN91,AP91:AQ91),0-AO91) -> 5
A92: 46196 | B92: 1 | C92: =C91+IF(ISBLANK(B92),0,IF(B92=0,1,IF(B92>0,B92,0))) -> 41 | D92: =D91+IF(ISBLANK(B92),0,IF(B92=0,1,IF(B92<0,-B92,0))) -> 37 | F92: -1 | G92: =G91+IF(ISBLANK(F92),0,IF(F92=0,1,IF(F92>0,F92,0))) -> 37 | H92: =H91+IF(ISBLANK(F92),0,IF(F92=0,1,IF(F92<0,-F92,0))) -> 41 | J92: 1 | K92: =K91+IF(ISBLANK(J92),0,IF(J92=0,1,IF(J92>0,J92,0))) -> 48 | L92: =L91+IF(ISBLANK(J92),0,IF(J92=0,1,IF(J92<0,-J92,0))) -> 29 | N92: -1 | O92: =O91+IF(ISBLANK(N92),0,IF(N92=0,1,IF(N92>0,N92,0))) -> 39 | P92: =P91+IF(ISBLANK(N92),0,IF(N92=0,1,IF(N92<0,-N92,0))) -> 40 | R92: -1 | S92: =S91+IF(ISBLANK(R92),0,IF(R92=0,1,IF(R92>0,R92,0))) -> 42 | T92: =T91+IF(ISBLANK(R92),0,IF(R92=0,1,IF(R92<0,-R92,0))) -> 35 | V92: 1 | W92: =W91+IF(ISBLANK(V92),0,IF(V92=0,1,IF(V92>0,V92,0))) -> 51 | X92: =X91+IF(ISBLANK(V92),0,IF(V92=0,1,IF(V92<0,-V92,0))) -> 29 | Z92: -1 | AA92: =AA91+IF(ISBLANK(Z92),0,IF(Z92=0,1,IF(Z92>0,Z92,0))) -> 43 | AB92: =AB91+IF(ISBLANK(Z92),0,IF(Z92=0,1,IF(Z92<0,-Z92,0))) -> 36 | AE92: =C92-D92 -> 4 | AF92: =G92-H92 -> -4 | AG92: =K92-L92 -> 19 | AH92: =O92-P92 -> -1 | AI92: =S92-T92 -> 7 | AJ92: =W92-X92 -> 22 | AK92: =AA92-AB92 -> 7 | AM92: =(MAX($AE92:$AI92)-AE92)/2 -> 7.5 | AN92: =(MAX($AE92:$AI92)-AF92)/2 -> 11.5 | AO92: =(MAX($AE92:$AI92)-AG92)/2 -> 0 | AP92: =(MAX($AE92:$AI92)-AH92)/2 -> 10 | AQ92: =(MAX($AE92:$AI92)-AI92)/2 -> 6 | AY92: =IF(AO92=0,MIN(AM92:AN92,AP92:AQ92),0-AO92) -> 6
A93: 46197 | B93: 2 | C93: =C92+IF(ISBLANK(B93),0,IF(B93=0,1,IF(B93>0,B93,0))) -> 43 | D93: =D92+IF(ISBLANK(B93),0,IF(B93=0,1,IF(B93<0,-B93,0))) -> 37 | F93: -1 | G93: =G92+IF(ISBLANK(F93),0,IF(F93=0,1,IF(F93>0,F93,0))) -> 37 | H93: =H92+IF(ISBLANK(F93),0,IF(F93=0,1,IF(F93<0,-F93,0))) -> 42 | J93: 1 | K93: =K92+IF(ISBLANK(J93),0,IF(J93=0,1,IF(J93>0,J93,0))) -> 49 | L93: =L92+IF(ISBLANK(J93),0,IF(J93=0,1,IF(J93<0,-J93,0))) -> 29 | N93: 1 | O93: =O92+IF(ISBLANK(N93),0,IF(N93=0,1,IF(N93>0,N93,0))) -> 40 | P93: =P92+IF(ISBLANK(N93),0,IF(N93=0,1,IF(N93<0,-N93,0))) -> 40 | R93: -1 | S93: =S92+IF(ISBLANK(R93),0,IF(R93=0,1,IF(R93>0,R93,0))) -> 42 | T93: =T92+IF(ISBLANK(R93),0,IF(R93=0,1,IF(R93<0,-R93,0))) -> 36 | V93: 1 | W93: =W92+IF(ISBLANK(V93),0,IF(V93=0,1,IF(V93>0,V93,0))) -> 52 | X93: =X92+IF(ISBLANK(V93),0,IF(V93=0,1,IF(V93<0,-V93,0))) -> 29 | Z93: 1 | AA93: =AA92+IF(ISBLANK(Z93),0,IF(Z93=0,1,IF(Z93>0,Z93,0))) -> 44 | AB93: =AB92+IF(ISBLANK(Z93),0,IF(Z93=0,1,IF(Z93<0,-Z93,0))) -> 36 | AE93: =C93-D93 -> 6 | AF93: =G93-H93 -> -5 | AG93: =K93-L93 -> 20 | AH93: =O93-P93 -> 0 | AI93: =S93-T93 -> 6 | AJ93: =W93-X93 -> 23 | AK93: =AA93-AB93 -> 8 | AM93: =(MAX($AE93:$AI93)-AE93)/2 -> 7 | AN93: =(MAX($AE93:$AI93)-AF93)/2 -> 12.5 | AO93: =(MAX($AE93:$AI93)-AG93)/2 -> 0 | AP93: =(MAX($AE93:$AI93)-AH93)/2 -> 10 | AQ93: =(MAX($AE93:$AI93)-AI93)/2 -> 7 | AY93: =IF(AO93=0,MIN(AM93:AN93,AP93:AQ93),0-AO93) -> 7
A94: 46198 | B94: 1 | C94: =C93+IF(ISBLANK(B94),0,IF(B94=0,1,IF(B94>0,B94,0))) -> 44 | D94: =D93+IF(ISBLANK(B94),0,IF(B94=0,1,IF(B94<0,-B94,0))) -> 37 | G94: =G93+IF(ISBLANK(F94),0,IF(F94=0,1,IF(F94>0,F94,0))) -> 37 | H94: =H93+IF(ISBLANK(F94),0,IF(F94=0,1,IF(F94<0,-F94,0))) -> 42 | K94: =K93+IF(ISBLANK(J94),0,IF(J94=0,1,IF(J94>0,J94,0))) -> 49 | L94: =L93+IF(ISBLANK(J94),0,IF(J94=0,1,IF(J94<0,-J94,0))) -> 29 | N94: 1 | O94: =O93+IF(ISBLANK(N94),0,IF(N94=0,1,IF(N94>0,N94,0))) -> 41 | P94: =P93+IF(ISBLANK(N94),0,IF(N94=0,1,IF(N94<0,-N94,0))) -> 40 | S94: =S93+IF(ISBLANK(R94),0,IF(R94=0,1,IF(R94>0,R94,0))) -> 42 | T94: =T93+IF(ISBLANK(R94),0,IF(R94=0,1,IF(R94<0,-R94,0))) -> 36 | W94: =W93+IF(ISBLANK(V94),0,IF(V94=0,1,IF(V94>0,V94,0))) -> 52 | X94: =X93+IF(ISBLANK(V94),0,IF(V94=0,1,IF(V94<0,-V94,0))) -> 29 | Z94: 1 | AA94: =AA93+IF(ISBLANK(Z94),0,IF(Z94=0,1,IF(Z94>0,Z94,0))) -> 45 | AB94: =AB93+IF(ISBLANK(Z94),0,IF(Z94=0,1,IF(Z94<0,-Z94,0))) -> 36 | AE94: =C94-D94 -> 7 | AF94: =G94-H94 -> -5 | AG94: =K94-L94 -> 20 | AH94: =O94-P94 -> 1 | AI94: =S94-T94 -> 6 | AJ94: =W94-X94 -> 23 | AK94: =AA94-AB94 -> 9 | AM94: =(MAX($AE94:$AI94)-AE94)/2 -> 6.5 | AN94: =(MAX($AE94:$AI94)-AF94)/2 -> 12.5 | AO94: =(MAX($AE94:$AI94)-AG94)/2 -> 0 | AP94: =(MAX($AE94:$AI94)-AH94)/2 -> 9.5 | AQ94: =(MAX($AE94:$AI94)-AI94)/2 -> 7 | AY94: =IF(AO94=0,MIN(AM94:AN94,AP94:AQ94),0-AO94) -> 6.5
A95: 46199 | B95: -1 | C95: =C94+IF(ISBLANK(B95),0,IF(B95=0,1,IF(B95>0,B95,0))) -> 44 | D95: =D94+IF(ISBLANK(B95),0,IF(B95=0,1,IF(B95<0,-B95,0))) -> 38 | F95: 1 | G95: =G94+IF(ISBLANK(F95),0,IF(F95=0,1,IF(F95>0,F95,0))) -> 38 | H95: =H94+IF(ISBLANK(F95),0,IF(F95=0,1,IF(F95<0,-F95,0))) -> 42 | J95: 1 | K95: =K94+IF(ISBLANK(J95),0,IF(J95=0,1,IF(J95>0,J95,0))) -> 50 | L95: =L94+IF(ISBLANK(J95),0,IF(J95=0,1,IF(J95<0,-J95,0))) -> 29 | N95: -1 | O95: =O94+IF(ISBLANK(N95),0,IF(N95=0,1,IF(N95>0,N95,0))) -> 41 | P95: =P94+IF(ISBLANK(N95),0,IF(N95=0,1,IF(N95<0,-N95,0))) -> 41 | R95: -1 | S95: =S94+IF(ISBLANK(R95),0,IF(R95=0,1,IF(R95>0,R95,0))) -> 42 | T95: =T94+IF(ISBLANK(R95),0,IF(R95=0,1,IF(R95<0,-R95,0))) -> 37 | V95: -1 | W95: =W94+IF(ISBLANK(V95),0,IF(V95=0,1,IF(V95>0,V95,0))) -> 52 | X95: =X94+IF(ISBLANK(V95),0,IF(V95=0,1,IF(V95<0,-V95,0))) -> 30 | AA95: =AA94+IF(ISBLANK(Z95),0,IF(Z95=0,1,IF(Z95>0,Z95,0))) -> 45 | AB95: =AB94+IF(ISBLANK(Z95),0,IF(Z95=0,1,IF(Z95<0,-Z95,0))) -> 36 | AE95: =C95-D95 -> 6 | AF95: =G95-H95 -> -4 | AG95: =K95-L95 -> 21 | AH95: =O95-P95 -> 0 | AI95: =S95-T95 -> 5 | AJ95: =W95-X95 -> 22 | AK95: =AA95-AB95 -> 9 | AM95: =(MAX($AE95:$AI95)-AE95)/2 -> 7.5 | AN95: =(MAX($AE95:$AI95)-AF95)/2 -> 12.5 | AO95: =(MAX($AE95:$AI95)-AG95)/2 -> 0 | AP95: =(MAX($AE95:$AI95)-AH95)/2 -> 10.5 | AQ95: =(MAX($AE95:$AI95)-AI95)/2 -> 8 | AY95: =IF(AO95=0,MIN(AM95:AN95,AP95:AQ95),0-AO95) -> 7.5
A96: 46200 | B96: 1 | C96: =C95+IF(ISBLANK(B96),0,IF(B96=0,1,IF(B96>0,B96,0))) -> 45 | D96: =D95+IF(ISBLANK(B96),0,IF(B96=0,1,IF(B96<0,-B96,0))) -> 38 | F96: 1 | G96: =G95+IF(ISBLANK(F96),0,IF(F96=0,1,IF(F96>0,F96,0))) -> 39 | H96: =H95+IF(ISBLANK(F96),0,IF(F96=0,1,IF(F96<0,-F96,0))) -> 42 | J96: -1 | K96: =K95+IF(ISBLANK(J96),0,IF(J96=0,1,IF(J96>0,J96,0))) -> 50 | L96: =L95+IF(ISBLANK(J96),0,IF(J96=0,1,IF(J96<0,-J96,0))) -> 30 | N96: -1 | O96: =O95+IF(ISBLANK(N96),0,IF(N96=0,1,IF(N96>0,N96,0))) -> 41 | P96: =P95+IF(ISBLANK(N96),0,IF(N96=0,1,IF(N96<0,-N96,0))) -> 42 | R96: -1 | S96: =S95+IF(ISBLANK(R96),0,IF(R96=0,1,IF(R96>0,R96,0))) -> 42 | T96: =T95+IF(ISBLANK(R96),0,IF(R96=0,1,IF(R96<0,-R96,0))) -> 38 | V96: 1 | W96: =W95+IF(ISBLANK(V96),0,IF(V96=0,1,IF(V96>0,V96,0))) -> 53 | X96: =X95+IF(ISBLANK(V96),0,IF(V96=0,1,IF(V96<0,-V96,0))) -> 30 | Z96: 1 | AA96: =AA95+IF(ISBLANK(Z96),0,IF(Z96=0,1,IF(Z96>0,Z96,0))) -> 46 | AB96: =AB95+IF(ISBLANK(Z96),0,IF(Z96=0,1,IF(Z96<0,-Z96,0))) -> 36 | AE96: =C96-D96 -> 7 | AF96: =G96-H96 -> -3 | AG96: =K96-L96 -> 20 | AH96: =O96-P96 -> -1 | AI96: =S96-T96 -> 4 | AJ96: =W96-X96 -> 23 | AK96: =AA96-AB96 -> 10 | AM96: =(MAX($AE96:$AI96)-AE96)/2 -> 6.5 | AN96: =(MAX($AE96:$AI96)-AF96)/2 -> 11.5 | AO96: =(MAX($AE96:$AI96)-AG96)/2 -> 0 | AP96: =(MAX($AE96:$AI96)-AH96)/2 -> 10.5 | AQ96: =(MAX($AE96:$AI96)-AI96)/2 -> 8 | AY96: =IF(AO96=0,MIN(AM96:AN96,AP96:AQ96),0-AO96) -> 6.5
A97: 46201 | B97: 1 | C97: =C96+IF(ISBLANK(B97),0,IF(B97=0,1,IF(B97>0,B97,0))) -> 46 | D97: =D96+IF(ISBLANK(B97),0,IF(B97=0,1,IF(B97<0,-B97,0))) -> 38 | F97: -1 | G97: =G96+IF(ISBLANK(F97),0,IF(F97=0,1,IF(F97>0,F97,0))) -> 39 | H97: =H96+IF(ISBLANK(F97),0,IF(F97=0,1,IF(F97<0,-F97,0))) -> 43 | J97: -1 | K97: =K96+IF(ISBLANK(J97),0,IF(J97=0,1,IF(J97>0,J97,0))) -> 50 | L97: =L96+IF(ISBLANK(J97),0,IF(J97=0,1,IF(J97<0,-J97,0))) -> 31 | N97: 1 | O97: =O96+IF(ISBLANK(N97),0,IF(N97=0,1,IF(N97>0,N97,0))) -> 42 | P97: =P96+IF(ISBLANK(N97),0,IF(N97=0,1,IF(N97<0,-N97,0))) -> 42 | R97: 1 | S97: =S96+IF(ISBLANK(R97),0,IF(R97=0,1,IF(R97>0,R97,0))) -> 43 | T97: =T96+IF(ISBLANK(R97),0,IF(R97=0,1,IF(R97<0,-R97,0))) -> 38 | V97: 1 | W97: =W96+IF(ISBLANK(V97),0,IF(V97=0,1,IF(V97>0,V97,0))) -> 54 | X97: =X96+IF(ISBLANK(V97),0,IF(V97=0,1,IF(V97<0,-V97,0))) -> 30 | Z97: 1 | AA97: =AA96+IF(ISBLANK(Z97),0,IF(Z97=0,1,IF(Z97>0,Z97,0))) -> 47 | AB97: =AB96+IF(ISBLANK(Z97),0,IF(Z97=0,1,IF(Z97<0,-Z97,0))) -> 36 | AE97: =C97-D97 -> 8 | AF97: =G97-H97 -> -4 | AG97: =K97-L97 -> 19 | AH97: =O97-P97 -> 0 | AI97: =S97-T97 -> 5 | AJ97: =W97-X97 -> 24 | AK97: =AA97-AB97 -> 11 | AM97: =(MAX($AE97:$AI97)-AE97)/2 -> 5.5 | AN97: =(MAX($AE97:$AI97)-AF97)/2 -> 11.5 | AO97: =(MAX($AE97:$AI97)-AG97)/2 -> 0 | AP97: =(MAX($AE97:$AI97)-AH97)/2 -> 9.5 | AQ97: =(MAX($AE97:$AI97)-AI97)/2 -> 7 | AY97: =IF(AO97=0,MIN(AM97:AN97,AP97:AQ97),0-AO97) -> 5.5
A98: 46202 | B98: 1 | C98: =C97+IF(ISBLANK(B98),0,IF(B98=0,1,IF(B98>0,B98,0))) -> 47 | D98: =D97+IF(ISBLANK(B98),0,IF(B98=0,1,IF(B98<0,-B98,0))) -> 38 | F98: -1 | G98: =G97+IF(ISBLANK(F98),0,IF(F98=0,1,IF(F98>0,F98,0))) -> 39 | H98: =H97+IF(ISBLANK(F98),0,IF(F98=0,1,IF(F98<0,-F98,0))) -> 44 | J98: 1 | K98: =K97+IF(ISBLANK(J98),0,IF(J98=0,1,IF(J98>0,J98,0))) -> 51 | L98: =L97+IF(ISBLANK(J98),0,IF(J98=0,1,IF(J98<0,-J98,0))) -> 31 | N98: 1 | O98: =O97+IF(ISBLANK(N98),0,IF(N98=0,1,IF(N98>0,N98,0))) -> 43 | P98: =P97+IF(ISBLANK(N98),0,IF(N98=0,1,IF(N98<0,-N98,0))) -> 42 | S98: =S97+IF(ISBLANK(R98),0,IF(R98=0,1,IF(R98>0,R98,0))) -> 43 | T98: =T97+IF(ISBLANK(R98),0,IF(R98=0,1,IF(R98<0,-R98,0))) -> 38 | V98: 1 | W98: =W97+IF(ISBLANK(V98),0,IF(V98=0,1,IF(V98>0,V98,0))) -> 55 | X98: =X97+IF(ISBLANK(V98),0,IF(V98=0,1,IF(V98<0,-V98,0))) -> 30 | Z98: -1 | AA98: =AA97+IF(ISBLANK(Z98),0,IF(Z98=0,1,IF(Z98>0,Z98,0))) -> 47 | AB98: =AB97+IF(ISBLANK(Z98),0,IF(Z98=0,1,IF(Z98<0,-Z98,0))) -> 37 | AE98: =C98-D98 -> 9 | AF98: =G98-H98 -> -5 | AG98: =K98-L98 -> 20 | AH98: =O98-P98 -> 1 | AI98: =S98-T98 -> 5 | AJ98: =W98-X98 -> 25 | AK98: =AA98-AB98 -> 10 | AM98: =(MAX($AE98:$AI98)-AE98)/2 -> 5.5 | AN98: =(MAX($AE98:$AI98)-AF98)/2 -> 12.5 | AO98: =(MAX($AE98:$AI98)-AG98)/2 -> 0 | AP98: =(MAX($AE98:$AI98)-AH98)/2 -> 9.5 | AQ98: =(MAX($AE98:$AI98)-AI98)/2 -> 7.5 | AY98: =IF(AO98=0,MIN(AM98:AN98,AP98:AQ98),0-AO98) -> 5.5
A99: 46203 | B99: 1 | C99: =C98+IF(ISBLANK(B99),0,IF(B99=0,1,IF(B99>0,B99,0))) -> 48 | D99: =D98+IF(ISBLANK(B99),0,IF(B99=0,1,IF(B99<0,-B99,0))) -> 38 | F99: -1 | G99: =G98+IF(ISBLANK(F99),0,IF(F99=0,1,IF(F99>0,F99,0))) -> 39 | H99: =H98+IF(ISBLANK(F99),0,IF(F99=0,1,IF(F99<0,-F99,0))) -> 45 | J99: 1 | K99: =K98+IF(ISBLANK(J99),0,IF(J99=0,1,IF(J99>0,J99,0))) -> 52 | L99: =L98+IF(ISBLANK(J99),0,IF(J99=0,1,IF(J99<0,-J99,0))) -> 31 | N99: -1 | O99: =O98+IF(ISBLANK(N99),0,IF(N99=0,1,IF(N99>0,N99,0))) -> 43 | P99: =P98+IF(ISBLANK(N99),0,IF(N99=0,1,IF(N99<0,-N99,0))) -> 43 | R99: 1 | S99: =S98+IF(ISBLANK(R99),0,IF(R99=0,1,IF(R99>0,R99,0))) -> 44 | T99: =T98+IF(ISBLANK(R99),0,IF(R99=0,1,IF(R99<0,-R99,0))) -> 38 | V99: 1 | W99: =W98+IF(ISBLANK(V99),0,IF(V99=0,1,IF(V99>0,V99,0))) -> 56 | X99: =X98+IF(ISBLANK(V99),0,IF(V99=0,1,IF(V99<0,-V99,0))) -> 30 | AA99: =AA98+IF(ISBLANK(Z99),0,IF(Z99=0,1,IF(Z99>0,Z99,0))) -> 47 | AB99: =AB98+IF(ISBLANK(Z99),0,IF(Z99=0,1,IF(Z99<0,-Z99,0))) -> 37 | AE99: =C99-D99 -> 10 | AF99: =G99-H99 -> -6 | AG99: =K99-L99 -> 21 | AH99: =O99-P99 -> 0 | AI99: =S99-T99 -> 6 | AJ99: =W99-X99 -> 26 | AK99: =AA99-AB99 -> 10 | AM99: =(MAX($AE99:$AI99)-AE99)/2 -> 5.5 | AN99: =(MAX($AE99:$AI99)-AF99)/2 -> 13.5 | AO99: =(MAX($AE99:$AI99)-AG99)/2 -> 0 | AP99: =(MAX($AE99:$AI99)-AH99)/2 -> 10.5 | AQ99: =(MAX($AE99:$AI99)-AI99)/2 -> 7.5 | AY99: =IF(AO99=0,MIN(AM99:AN99,AP99:AQ99),0-AO99) -> 5.5
A100: 46204 | B100: 1 | C100: =C99+IF(ISBLANK(B100),0,IF(B100=0,1,IF(B100>0,B100,0))) -> 49 | D100: =D99+IF(ISBLANK(B100),0,IF(B100=0,1,IF(B100<0,-B100,0))) -> 38 | F100: -1 | G100: =G99+IF(ISBLANK(F100),0,IF(F100=0,1,IF(F100>0,F100,0))) -> 39 | H100: =H99+IF(ISBLANK(F100),0,IF(F100=0,1,IF(F100<0,-F100,0))) -> 46 | J100: 1 | K100: =K99+IF(ISBLANK(J100),0,IF(J100=0,1,IF(J100>0,J100,0))) -> 53 | L100: =L99+IF(ISBLANK(J100),0,IF(J100=0,1,IF(J100<0,-J100,0))) -> 31 | N100: -1 | O100: =O99+IF(ISBLANK(N100),0,IF(N100=0,1,IF(N100>0,N100,0))) -> 43 | P100: =P99+IF(ISBLANK(N100),0,IF(N100=0,1,IF(N100<0,-N100,0))) -> 44 | R100: -1 | S100: =S99+IF(ISBLANK(R100),0,IF(R100=0,1,IF(R100>0,R100,0))) -> 44 | T100: =T99+IF(ISBLANK(R100),0,IF(R100=0,1,IF(R100<0,-R100,0))) -> 39 | V100: -1 | W100: =W99+IF(ISBLANK(V100),0,IF(V100=0,1,IF(V100>0,V100,0))) -> 56 | X100: =X99+IF(ISBLANK(V100),0,IF(V100=0,1,IF(V100<0,-V100,0))) -> 31 | AA100: =AA99+IF(ISBLANK(Z100),0,IF(Z100=0,1,IF(Z100>0,Z100,0))) -> 47 | AB100: =AB99+IF(ISBLANK(Z100),0,IF(Z100=0,1,IF(Z100<0,-Z100,0))) -> 37 | AE100: =C100-D100 -> 11 | AF100: =G100-H100 -> -7 | AG100: =K100-L100 -> 22 | AH100: =O100-P100 -> -1 | AI100: =S100-T100 -> 5 | AJ100: =W100-X100 -> 25 | AK100: =AA100-AB100 -> 10 | AM100: =(MAX($AE100:$AI100)-AE100)/2 -> 5.5 | AN100: =(MAX($AE100:$AI100)-AF100)/2 -> 14.5 | AO100: =(MAX($AE100:$AI100)-AG100)/2 -> 0 | AP100: =(MAX($AE100:$AI100)-AH100)/2 -> 11.5 | AQ100: =(MAX($AE100:$AI100)-AI100)/2 -> 8.5 | AY100: =IF(AO100=0,MIN(AM100:AN100,AP100:AQ100),0-AO100) -> 5.5
...
