Workbook

Sheet Chart
B2: =Data!AU181 -> MIL | C2: =Data!AV181 -> 0 | D2: =Data!AW181 -> 0.63580247
B3: =Data!AU182 -> CHC | C3: =Data!AV182 -> 14 | D3: =Data!AW182 -> 0.54938272
B4: =Data!AU183 -> PIT | C4: =Data!AV183 -> 21 | D4: =Data!AW183 -> 0.50617284
B5: =Data!AU184 -> STL | C5: =Data!AV184 -> 26 | D5: =Data!AW184 -> 0.47530864
B6: =Data!AU185 -> CIN | C6: =Data!AV185 -> 28 | D6: =Data!AW185 -> 0.46296296
G92: Y-Axis = Brewers' first-place lead in games (negative when trailing)
G94: Standings update automatically; split doubleheaders (0) are handled without manual edits

Sheet Data
A1: NLC26 | B1: CHC | C1: W | D1: L | F1: CIN | G1: W | H1: L | J1: MIL | K1: W | L1: L | N1: PIT | O1: W | P1: L | R1: STL | S1: W | T1: L | V1: LAD | W1: W | X1: L | Z1: 2025 | AA1: W | AB1: L | AE1: =B1 -> CHC | AF1: =F1 -> CIN | AG1: =J1 -> MIL | AH1: =N1 -> PIT | AI1: =R1 -> STL | AJ1: =V1 -> LAD | AK1: =Z1 -> 2025 | AM1: =AE1 -> CHC | AN1: =AF1 -> CIN | AO1: =AG1 -> MIL | AP1: =AH1 -> PIT | AQ1: =AI1 -> STL
A2: 46106 | C2: =0+IF(ISBLANK(B2),0,IF(B2=0,1,IF(B2>0,B2,0))) -> 0 | D2: =0+IF(ISBLANK(B2),0,IF(B2=0,1,IF(B2<0,-B2,0))) -> 0 | G2: =0+IF(ISBLANK(F2),0,IF(F2=0,1,IF(F2>0,F2,0))) -> 0 | H2: =0+IF(ISBLANK(F2),0,IF(F2=0,1,IF(F2<0,-F2,0))) -> 0 | K2: =0+IF(ISBLANK(J2),0,IF(J2=0,1,IF(J2>0,J2,0))) -> 0 | L2: =0+IF(ISBLANK(J2),0,IF(J2=0,1,IF(J2<0,-J2,0))) -> 0 | O2: =0+IF(ISBLANK(N2),0,IF(N2=0,1,IF(N2>0,N2,0))) -> 0 | P2: =0+IF(ISBLANK(N2),0,IF(N2=0,1,IF(N2<0,-N2,0))) -> 0 | S2: =0+IF(ISBLANK(R2),0,IF(R2=0,1,IF(R2>0,R2,0))) -> 0 | T2: =0+IF(ISBLANK(R2),0,IF(R2=0,1,IF(R2<0,-R2,0))) -> 0 | W2: =0+IF(ISBLANK(V2),0,IF(V2=0,1,IF(V2>0,V2,0))) -> 0 | X2: =0+IF(ISBLANK(V2),0,IF(V2=0,1,IF(V2<0,-V2,0))) -> 0 | AA2: =0+IF(ISBLANK(Z2),0,IF(Z2=0,1,IF(Z2>0,Z2,0))) -> 0 | AB2: =0+IF(ISBLANK(Z2),0,IF(Z2=0,1,IF(Z2<0,-Z2,0))) -> 0 | AE2: =C2-D2 -> 0 | AF2: =G2-H2 -> 0 | AG2: =K2-L2 -> 0 | AH2: =O2-P2 -> 0 | AI2: =S2-T2 -> 0 | AJ2: =W2-X2 -> 0 | AK2: =AA2-AB2 -> 0 | AM2: =(MAX($AE2:$AI2)-AE2)/2 -> 0 | AN2: =(MAX($AE2:$AI2)-AF2)/2 -> 0 | AO2: =(MAX($AE2:$AI2)-AG2)/2 -> 0 | AP2: =(MAX($AE2:$AI2)-AH2)/2 -> 0 | AQ2: =(MAX($AE2:$AI2)-AI2)/2 -> 0 | AY2: =IF(AO2=0,MIN(AM2:AN2,AP2:AQ2),0-AO2) -> 0
A3: 46107 | B3: -1 | C3: =C2+IF(ISBLANK(B3),0,IF(B3=0,1,IF(B3>0,B3,0))) -> 0 | D3: =D2+IF(ISBLANK(B3),0,IF(B3=0,1,IF(B3<0,-B3,0))) -> 1 | F3: -1 | G3: =G2+IF(ISBLANK(F3),0,IF(F3=0,1,IF(F3>0,F3,0))) -> 0 | H3: =H2+IF(ISBLANK(F3),0,IF(F3=0,1,IF(F3<0,-F3,0))) -> 1 | J3: 1 | K3: =K2+IF(ISBLANK(J3),0,IF(J3=0,1,IF(J3>0,J3,0))) -> 1 | L3: =L2+IF(ISBLANK(J3),0,IF(J3=0,1,IF(J3<0,-J3,0))) -> 0 | N3: -1 | O3: =O2+IF(ISBLANK(N3),0,IF(N3=0,1,IF(N3>0,N3,0))) -> 0 | P3: =P2+IF(ISBLANK(N3),0,IF(N3=0,1,IF(N3<0,-N3,0))) -> 1 | R3: 1 | S3: =S2+IF(ISBLANK(R3),0,IF(R3=0,1,IF(R3>0,R3,0))) -> 1 | T3: =T2+IF(ISBLANK(R3),0,IF(R3=0,1,IF(R3<0,-R3,0))) -> 0 | V3: 1 | W3: =W2+IF(ISBLANK(V3),0,IF(V3=0,1,IF(V3>0,V3,0))) -> 1 | X3: =X2+IF(ISBLANK(V3),0,IF(V3=0,1,IF(V3<0,-V3,0))) -> 0 | AA3: =AA2+IF(ISBLANK(Z3),0,IF(Z3=0,1,IF(Z3>0,Z3,0))) -> 0 | AB3: =AB2+IF(ISBLANK(Z3),0,IF(Z3=0,1,IF(Z3<0,-Z3,0))) -> 0 | AE3: =C3-D3 -> -1 | AF3: =G3-H3 -> -1 | AG3: =K3-L3 -> 1 | AH3: =O3-P3 -> -1 | AI3: =S3-T3 -> 1 | AJ3: =W3-X3 -> 1 | AK3: =AA3-AB3 -> 0 | AM3: =(MAX($AE3:$AI3)-AE3)/2 -> 1 | AN3: =(MAX($AE3:$AI3)-AF3)/2 -> 1 | AO3: =(MAX($AE3:$AI3)-AG3)/2 -> 0 | AP3: =(MAX($AE3:$AI3)-AH3)/2 -> 1 | AQ3: =(MAX($AE3:$AI3)-AI3)/2 -> 0 | AU3: =AU181 -> MIL | AV3: =AV181 -> 0 | AW3: =AW181 -> 0.63580247 | AY3: =IF(AO3=0,MIN(AM3:AN3,AP3:AQ3),0-AO3) -> 0
A4: 46108 | C4: =C3+IF(ISBLANK(B4),0,IF(B4=0,1,IF(B4>0,B4,0))) -> 0 | D4: =D3+IF(ISBLANK(B4),0,IF(B4=0,1,IF(B4<0,-B4,0))) -> 1 | G4: =G3+IF(ISBLANK(F4),0,IF(F4=0,1,IF(F4>0,F4,0))) -> 0 | H4: =H3+IF(ISBLANK(F4),0,IF(F4=0,1,IF(F4<0,-F4,0))) -> 1 | K4: =K3+IF(ISBLANK(J4),0,IF(J4=0,1,IF(J4>0,J4,0))) -> 1 | L4: =L3+IF(ISBLANK(J4),0,IF(J4=0,1,IF(J4<0,-J4,0))) -> 0 | O4: =O3+IF(ISBLANK(N4),0,IF(N4=0,1,IF(N4>0,N4,0))) -> 0 | P4: =P3+IF(ISBLANK(N4),0,IF(N4=0,1,IF(N4<0,-N4,0))) -> 1 | S4: =S3+IF(ISBLANK(R4),0,IF(R4=0,1,IF(R4>0,R4,0))) -> 1 | T4: =T3+IF(ISBLANK(R4),0,IF(R4=0,1,IF(R4<0,-R4,0))) -> 0 | V4: 1 | W4: =W3+IF(ISBLANK(V4),0,IF(V4=0,1,IF(V4>0,V4,0))) -> 2 | X4: =X3+IF(ISBLANK(V4),0,IF(V4=0,1,IF(V4<0,-V4,0))) -> 0 | Z4: -1 | AA4: =AA3+IF(ISBLANK(Z4),0,IF(Z4=0,1,IF(Z4>0,Z4,0))) -> 0 | AB4: =AB3+IF(ISBLANK(Z4),0,IF(Z4=0,1,IF(Z4<0,-Z4,0))) -> 1 | AE4: =C4-D4 -> -1 | AF4: =G4-H4 -> -1 | AG4: =K4-L4 -> 1 | AH4: =O4-P4 -> -1 | AI4: =S4-T4 -> 1 | AJ4: =W4-X4 -> 2 | AK4: =AA4-AB4 -> -1 | AM4: =(MAX($AE4:$AI4)-AE4)/2 -> 1 | AN4: =(MAX($AE4:$AI4)-AF4)/2 -> 1 | AO4: =(MAX($AE4:$AI4)-AG4)/2 -> 0 | AP4: =(MAX($AE4:$AI4)-AH4)/2 -> 1 | AQ4: =(MAX($AE4:$AI4)-AI4)/2 -> 0 | AU4: =AU182 -> CHC | AV4: =AV182 -> 14 | AW4: =AW182 -> 0.54938272 | AY4: =IF(AO4=0,MIN(AM4:AN4,AP4:AQ4),0-AO4) -> 0
A5: 46109 | B5: 1 | C5: =C4+IF(ISBLANK(B5),0,IF(B5=0,1,IF(B5>0,B5,0))) -> 1 | D5: =D4+IF(ISBLANK(B5),0,IF(B5=0,1,IF(B5<0,-B5,0))) -> 1 | F5: 1 | G5: =G4+IF(ISBLANK(F5),0,IF(F5=0,1,IF(F5>0,F5,0))) -> 1 | H5: =H4+IF(ISBLANK(F5),0,IF(F5=0,1,IF(F5<0,-F5,0))) -> 1 | J5: 1 | K5: =K4+IF(ISBLANK(J5),0,IF(J5=0,1,IF(J5>0,J5,0))) -> 2 | L5: =L4+IF(ISBLANK(J5),0,IF(J5=0,1,IF(J5<0,-J5,0))) -> 0 | N5: -1 | O5: =O4+IF(ISBLANK(N5),0,IF(N5=0,1,IF(N5>0,N5,0))) -> 0 | P5: =P4+IF(ISBLANK(N5),0,IF(N5=0,1,IF(N5<0,-N5,0))) -> 2 | R5: 1 | S5: =S4+IF(ISBLANK(R5),0,IF(R5=0,1,IF(R5>0,R5,0))) -> 2 | T5: =T4+IF(ISBLANK(R5),0,IF(R5=0,1,IF(R5<0,-R5,0))) -> 0 | V5: 1 | W5: =W4+IF(ISBLANK(V5),0,IF(V5=0,1,IF(V5>0,V5,0))) -> 3 | X5: =X4+IF(ISBLANK(V5),0,IF(V5=0,1,IF(V5<0,-V5,0))) -> 0 | AA5: =AA4+IF(ISBLANK(Z5),0,IF(Z5=0,1,IF(Z5>0,Z5,0))) -> 0 | AB5: =AB4+IF(ISBLANK(Z5),0,IF(Z5=0,1,IF(Z5<0,-Z5,0))) -> 1 | AE5: =C5-D5 -> 0 | AF5: =G5-H5 -> 0 | AG5: =K5-L5 -> 2 | AH5: =O5-P5 -> -2 | AI5: =S5-T5 -> 2 | AJ5: =W5-X5 -> 3 | AK5: =AA5-AB5 -> -1 | AM5: =(MAX($AE5:$AI5)-AE5)/2 -> 1 | AN5: =(MAX($AE5:$AI5)-AF5)/2 -> 1 | AO5: =(MAX($AE5:$AI5)-AG5)/2 -> 0 | AP5: =(MAX($AE5:$AI5)-AH5)/2 -> 2 | AQ5: =(MAX($AE5:$AI5)-AI5)/2 -> 0 | AU5: =AU183 -> PIT | AV5: =AV183 -> 21 | AW5: =AW183 -> 0.50617284 | AY5: =IF(AO5=0,MIN(AM5:AN5,AP5:AQ5),0-AO5) -> 0
A6: 46110 | B6: -1 | C6: =C5+IF(ISBLANK(B6),0,IF(B6=0,1,IF(B6>0,B6,0))) -> 1 | D6: =D5+IF(ISBLANK(B6),0,IF(B6=0,1,IF(B6<0,-B6,0))) -> 2 | F6: 1 | G6: =G5+IF(ISBLANK(F6),0,IF(F6=0,1,IF(F6>0,F6,0))) -> 2 | H6: =H5+IF(ISBLANK(F6),0,IF(F6=0,1,IF(F6<0,-F6,0))) -> 1 | J6: 1 | K6: =K5+IF(ISBLANK(J6),0,IF(J6=0,1,IF(J6>0,J6,0))) -> 3 | L6: =L5+IF(ISBLANK(J6),0,IF(J6=0,1,IF(J6<0,-J6,0))) -> 0 | N6: 1 | O6: =O5+IF(ISBLANK(N6),0,IF(N6=0,1,IF(N6>0,N6,0))) -> 1 | P6: =P5+IF(ISBLANK(N6),0,IF(N6=0,1,IF(N6<0,-N6,0))) -> 2 | R6: -1 | S6: =S5+IF(ISBLANK(R6),0,IF(R6=0,1,IF(R6>0,R6,0))) -> 2 | T6: =T5+IF(ISBLANK(R6),0,IF(R6=0,1,IF(R6<0,-R6,0))) -> 1 | W6: =W5+IF(ISBLANK(V6),0,IF(V6=0,1,IF(V6>0,V6,0))) -> 3 | X6: =X5+IF(ISBLANK(V6),0,IF(V6=0,1,IF(V6<0,-V6,0))) -> 0 | Z6: -1 | AA6: =AA5+IF(ISBLANK(Z6),0,IF(Z6=0,1,IF(Z6>0,Z6,0))) -> 0 | AB6: =AB5+IF(ISBLANK(Z6),0,IF(Z6=0,1,IF(Z6<0,-Z6,0))) -> 2 | AE6: =C6-D6 -> -1 | AF6: =G6-H6 -> 1 | AG6: =K6-L6 -> 3 | AH6: =O6-P6 -> -1 | AI6: =S6-T6 -> 1 | AJ6: =W6-X6 -> 3 | AK6: =AA6-AB6 -> -2 | AM6: =(MAX($AE6:$AI6)-AE6)/2 -> 2 | AN6: =(MAX($AE6:$AI6)-AF6)/2 -> 1 | AO6: =(MAX($AE6:$AI6)-AG6)/2 -> 0 | AP6: =(MAX($AE6:$AI6)-AH6)/2 -> 2 | AQ6: =(MAX($AE6:$AI6)-AI6)/2 -> 1 | AU6: =AU184 -> STL | AV6: =AV184 -> 26 | AW6: =AW184 -> 0.47530864 | AY6: =IF(AO6=0,MIN(AM6:AN6,AP6:AQ6),0-AO6) -> 1
A7: 46111 | B7: 1 | C7: =C6+IF(ISBLANK(B7),0,IF(B7=0,1,IF(B7>0,B7,0))) -> 2 | D7: =D6+IF(ISBLANK(B7),0,IF(B7=0,1,IF(B7<0,-B7,0))) -> 2 | F7: 1 | G7: =G6+IF(ISBLANK(F7),0,IF(F7=0,1,IF(F7>0,F7,0))) -> 3 | H7: =H6+IF(ISBLANK(F7),0,IF(F7=0,1,IF(F7<0,-F7,0))) -> 1 | J7: -1 | K7: =K6+IF(ISBLANK(J7),0,IF(J7=0,1,IF(J7>0,J7,0))) -> 3 | L7: =L6+IF(ISBLANK(J7),0,IF(J7=0,1,IF(J7<0,-J7,0))) -> 1 | N7: -1 | O7: =O6+IF(ISBLANK(N7),0,IF(N7=0,1,IF(N7>0,N7,0))) -> 1 | P7: =P6+IF(ISBLANK(N7),0,IF(N7=0,1,IF(N7<0,-N7,0))) -> 3 | R7: -1 | S7: =S6+IF(ISBLANK(R7),0,IF(R7=0,1,IF(R7>0,R7,0))) -> 2 | T7: =T6+IF(ISBLANK(R7),0,IF(R7=0,1,IF(R7<0,-R7,0))) -> 2 | V7: -1 | W7: =W6+IF(ISBLANK(V7),0,IF(V7=0,1,IF(V7>0,V7,0))) -> 3 | X7: =X6+IF(ISBLANK(V7),0,IF(V7=0,1,IF(V7<0,-V7,0))) -> 1 | Z7: -1 | AA7: =AA6+IF(ISBLANK(Z7),0,IF(Z7=0,1,IF(Z7>0,Z7,0))) -> 0 | AB7: =AB6+IF(ISBLANK(Z7),0,IF(Z7=0,1,IF(Z7<0,-Z7,0))) -> 3 | AE7: =C7-D7 -> 0 | AF7: =G7-H7 -> 2 | AG7: =K7-L7 -> 2 | AH7: =O7-P7 -> -2 | AI7: =S7-T7 -> 0 | AJ7: =W7-X7 -> 2 | AK7: =AA7-AB7 -> -3 | AM7: =(MAX($AE7:$AI7)-AE7)/2 -> 1 | AN7: =(MAX($AE7:$AI7)-AF7)/2 -> 0 | AO7: =(MAX($AE7:$AI7)-AG7)/2 -> 0 | AP7: =(MAX($AE7:$AI7)-AH7)/2 -> 2 | AQ7: =(MAX($AE7:$AI7)-AI7)/2 -> 1 | AU7: =AU185 -> CIN | AV7: =AV185 -> 28 | AW7: =AW185 -> 0.46296296 | AY7: =IF(AO7=0,MIN(AM7:AN7,AP7:AQ7),0-AO7) -> 0
A8: 46112 | B8: -1 | C8: =C7+IF(ISBLANK(B8),0,IF(B8=0,1,IF(B8>0,B8,0))) -> 2 | D8: =D7+IF(ISBLANK(B8),0,IF(B8=0,1,IF(B8<0,-B8,0))) -> 3 | F8: -1 | G8: =G7+IF(ISBLANK(F8),0,IF(F8=0,1,IF(F8>0,F8,0))) -> 3 | H8: =H7+IF(ISBLANK(F8),0,IF(F8=0,1,IF(F8<0,-F8,0))) -> 2 | J8: 1 | K8: =K7+IF(ISBLANK(J8),0,IF(J8=0,1,IF(J8>0,J8,0))) -> 4 | L8: =L7+IF(ISBLANK(J8),0,IF(J8=0,1,IF(J8<0,-J8,0))) -> 1 | N8: 1 | O8: =O7+IF(ISBLANK(N8),0,IF(N8=0,1,IF(N8>0,N8,0))) -> 2 | P8: =P7+IF(ISBLANK(N8),0,IF(N8=0,1,IF(N8<0,-N8,0))) -> 3 | R8: 1 | S8: =S7+IF(ISBLANK(R8),0,IF(R8=0,1,IF(R8>0,R8,0))) -> 3 | T8: =T7+IF(ISBLANK(R8),0,IF(R8=0,1,IF(R8<0,-R8,0))) -> 2 | V8: 1 | W8: =W7+IF(ISBLANK(V8),0,IF(V8=0,1,IF(V8>0,V8,0))) -> 4 | X8: =X7+IF(ISBLANK(V8),0,IF(V8=0,1,IF(V8<0,-V8,0))) -> 1 | Z8: -1 | AA8: =AA7+IF(ISBLANK(Z8),0,IF(Z8=0,1,IF(Z8>0,Z8,0))) -> 0 | AB8: =AB7+IF(ISBLANK(Z8),0,IF(Z8=0,1,IF(Z8<0,-Z8,0))) -> 4 | AE8: =C8-D8 -> -1 | AF8: =G8-H8 -> 1 | AG8: =K8-L8 -> 3 | AH8: =O8-P8 -> -1 | AI8: =S8-T8 -> 1 | AJ8: =W8-X8 -> 3 | AK8: =AA8-AB8 -> -4 | AM8: =(MAX($AE8:$AI8)-AE8)/2 -> 2 | AN8: =(MAX($AE8:$AI8)-AF8)/2 -> 1 | AO8: =(MAX($AE8:$AI8)-AG8)/2 -> 0 | AP8: =(MAX($AE8:$AI8)-AH8)/2 -> 2 | AQ8: =(MAX($AE8:$AI8)-AI8)/2 -> 1 | AY8: =IF(AO8=0,MIN(AM8:AN8,AP8:AQ8),0-AO8) -> 1
A9: 46113 | B9: 1 | C9: =C8+IF(ISBLANK(B9),0,IF(B9=0,1,IF(B9>0,B9,0))) -> 3 | D9: =D8+IF(ISBLANK(B9),0,IF(B9=0,1,IF(B9<0,-B9,0))) -> 3 | F9: -1 | G9: =G8+IF(ISBLANK(F9),0,IF(F9=0,1,IF(F9>0,F9,0))) -> 3 | H9: =H8+IF(ISBLANK(F9),0,IF(F9=0,1,IF(F9<0,-F9,0))) -> 3 | J9: 1 | K9: =K8+IF(ISBLANK(J9),0,IF(J9=0,1,IF(J9>0,J9,0))) -> 5 | L9: =L8+IF(ISBLANK(J9),0,IF(J9=0,1,IF(J9<0,-J9,0))) -> 1 | N9: 1 | O9: =O8+IF(ISBLANK(N9),0,IF(N9=0,1,IF(N9>0,N9,0))) -> 3 | P9: =P8+IF(ISBLANK(N9),0,IF(N9=0,1,IF(N9<0,-N9,0))) -> 3 | R9: 1 | S9: =S8+IF(ISBLANK(R9),0,IF(R9=0,1,IF(R9>0,R9,0))) -> 4 | T9: =T8+IF(ISBLANK(R9),0,IF(R9=0,1,IF(R9<0,-R9,0))) -> 2 | V9: -1 | W9: =W8+IF(ISBLANK(V9),0,IF(V9=0,1,IF(V9>0,V9,0))) -> 4 | X9: =X8+IF(ISBLANK(V9),0,IF(V9=0,1,IF(V9<0,-V9,0))) -> 2 | Z9: 1 | AA9: =AA8+IF(ISBLANK(Z9),0,IF(Z9=0,1,IF(Z9>0,Z9,0))) -> 1 | AB9: =AB8+IF(ISBLANK(Z9),0,IF(Z9=0,1,IF(Z9<0,-Z9,0))) -> 4 | AE9: =C9-D9 -> 0 | AF9: =G9-H9 -> 0 | AG9: =K9-L9 -> 4 | AH9: =O9-P9 -> 0 | AI9: =S9-T9 -> 2 | AJ9: =W9-X9 -> 2 | AK9: =AA9-AB9 -> -3 | AM9: =(MAX($AE9:$AI9)-AE9)/2 -> 2 | AN9: =(MAX($AE9:$AI9)-AF9)/2 -> 2 | AO9: =(MAX($AE9:$AI9)-AG9)/2 -> 0 | AP9: =(MAX($AE9:$AI9)-AH9)/2 -> 2 | AQ9: =(MAX($AE9:$AI9)-AI9)/2 -> 1 | AY9: =IF(AO9=0,MIN(AM9:AN9,AP9:AQ9),0-AO9) -> 1
A10: 46114 | C10: =C9+IF(ISBLANK(B10),0,IF(B10=0,1,IF(B10>0,B10,0))) -> 3 | D10: =D9+IF(ISBLANK(B10),0,IF(B10=0,1,IF(B10<0,-B10,0))) -> 3 | G10: =G9+IF(ISBLANK(F10),0,IF(F10=0,1,IF(F10>0,F10,0))) -> 3 | H10: =H9+IF(ISBLANK(F10),0,IF(F10=0,1,IF(F10<0,-F10,0))) -> 3 | K10: =K9+IF(ISBLANK(J10),0,IF(J10=0,1,IF(J10>0,J10,0))) -> 5 | L10: =L9+IF(ISBLANK(J10),0,IF(J10=0,1,IF(J10<0,-J10,0))) -> 1 | O10: =O9+IF(ISBLANK(N10),0,IF(N10=0,1,IF(N10>0,N10,0))) -> 3 | P10: =P9+IF(ISBLANK(N10),0,IF(N10=0,1,IF(N10<0,-N10,0))) -> 3 | S10: =S9+IF(ISBLANK(R10),0,IF(R10=0,1,IF(R10>0,R10,0))) -> 4 | T10: =T9+IF(ISBLANK(R10),0,IF(R10=0,1,IF(R10<0,-R10,0))) -> 2 | W10: =W9+IF(ISBLANK(V10),0,IF(V10=0,1,IF(V10>0,V10,0))) -> 4 | X10: =X9+IF(ISBLANK(V10),0,IF(V10=0,1,IF(V10<0,-V10,0))) -> 2 | Z10: 1 | AA10: =AA9+IF(ISBLANK(Z10),0,IF(Z10=0,1,IF(Z10>0,Z10,0))) -> 2 | AB10: =AB9+IF(ISBLANK(Z10),0,IF(Z10=0,1,IF(Z10<0,-Z10,0))) -> 4 | AE10: =C10-D10 -> 0 | AF10: =G10-H10 -> 0 | AG10: =K10-L10 -> 4 | AH10: =O10-P10 -> 0 | AI10: =S10-T10 -> 2 | AJ10: =W10-X10 -> 2 | AK10: =AA10-AB10 -> -2 | AM10: =(MAX($AE10:$AI10)-AE10)/2 -> 2 | AN10: =(MAX($AE10:$AI10)-AF10)/2 -> 2 | AO10: =(MAX($AE10:$AI10)-AG10)/2 -> 0 | AP10: =(MAX($AE10:$AI10)-AH10)/2 -> 2 | AQ10: =(MAX($AE10:$AI10)-AI10)/2 -> 1 | AY10: =IF(AO10=0,MIN(AM10:AN10,AP10:AQ10),0-AO10) -> 1
A11: 46115 | B11: -1 | C11: =C10+IF(ISBLANK(B11),0,IF(B11=0,1,IF(B11>0,B11,0))) -> 3 | D11: =D10+IF(ISBLANK(B11),0,IF(B11=0,1,IF(B11<0,-B11,0))) -> 4 | F11: 1 | G11: =G10+IF(ISBLANK(F11),0,IF(F11=0,1,IF(F11>0,F11,0))) -> 4 | H11: =H10+IF(ISBLANK(F11),0,IF(F11=0,1,IF(F11<0,-F11,0))) -> 3 | K11: =K10+IF(ISBLANK(J11),0,IF(J11=0,1,IF(J11>0,J11,0))) -> 5 | L11: =L10+IF(ISBLANK(J11),0,IF(J11=0,1,IF(J11<0,-J11,0))) -> 1 | N11: 1 | O11: =O10+IF(ISBLANK(N11),0,IF(N11=0,1,IF(N11>0,N11,0))) -> 4 | P11: =P10+IF(ISBLANK(N11),0,IF(N11=0,1,IF(N11<0,-N11,0))) -> 3 | R11: -1 | S11: =S10+IF(ISBLANK(R11),0,IF(R11=0,1,IF(R11>0,R11,0))) -> 4 | T11: =T10+IF(ISBLANK(R11),0,IF(R11=0,1,IF(R11<0,-R11,0))) -> 3 | V11: 1 | W11: =W10+IF(ISBLANK(V11),0,IF(V11=0,1,IF(V11>0,V11,0))) -> 5 | X11: =X10+IF(ISBLANK(V11),0,IF(V11=0,1,IF(V11<0,-V11,0))) -> 2 | Z11: 1 | AA11: =AA10+IF(ISBLANK(Z11),0,IF(Z11=0,1,IF(Z11>0,Z11,0))) -> 3 | AB11: =AB10+IF(ISBLANK(Z11),0,IF(Z11=0,1,IF(Z11<0,-Z11,0))) -> 4 | AE11: =C11-D11 -> -1 | AF11: =G11-H11 -> 1 | AG11: =K11-L11 -> 4 | AH11: =O11-P11 -> 1 | AI11: =S11-T11 -> 1 | AJ11: =W11-X11 -> 3 | AK11: =AA11-AB11 -> -1 | AM11: =(MAX($AE11:$AI11)-AE11)/2 -> 2.5 | AN11: =(MAX($AE11:$AI11)-AF11)/2 -> 1.5 | AO11: =(MAX($AE11:$AI11)-AG11)/2 -> 0 | AP11: =(MAX($AE11:$AI11)-AH11)/2 -> 1.5 | AQ11: =(MAX($AE11:$AI11)-AI11)/2 -> 1.5 | AY11: =IF(AO11=0,MIN(AM11:AN11,AP11:AQ11),0-AO11) -> 1.5
A12: 46116 | C12: =C11+IF(ISBLANK(B12),0,IF(B12=0,1,IF(B12>0,B12,0))) -> 3 | D12: =D11+IF(ISBLANK(B12),0,IF(B12=0,1,IF(B12<0,-B12,0))) -> 4 | F12: 1 | G12: =G11+IF(ISBLANK(F12),0,IF(F12=0,1,IF(F12>0,F12,0))) -> 5 | H12: =H11+IF(ISBLANK(F12),0,IF(F12=0,1,IF(F12<0,-F12,0))) -> 3 | J12: 0 | K12: =K11+IF(ISBLANK(J12),0,IF(J12=0,1,IF(J12>0,J12,0))) -> 6 | L12: =L11+IF(ISBLANK(J12),0,IF(J12=0,1,IF(J12<0,-J12,0))) -> 2 | N12: 1 | O12: =O11+IF(ISBLANK(N12),0,IF(N12=0,1,IF(N12>0,N12,0))) -> 5 | P12: =P11+IF(ISBLANK(N12),0,IF(N12=0,1,IF(N12<0,-N12,0))) -> 3 | R12: -1 | S12: =S11+IF(ISBLANK(R12),0,IF(R12=0,1,IF(R12>0,R12,0))) -> 4 | T12: =T11+IF(ISBLANK(R12),0,IF(R12=0,1,IF(R12<0,-R12,0))) -> 4 | V12: 1 | W12: =W11+IF(ISBLANK(V12),0,IF(V12=0,1,IF(V12>0,V12,0))) -> 6 | X12: =X11+IF(ISBLANK(V12),0,IF(V12=0,1,IF(V12<0,-V12,0))) -> 2 | Z12: 1 | AA12: =AA11+IF(ISBLANK(Z12),0,IF(Z12=0,1,IF(Z12>0,Z12,0))) -> 4 | AB12: =AB11+IF(ISBLANK(Z12),0,IF(Z12=0,1,IF(Z12<0,-Z12,0))) -> 4 | AE12: =C12-D12 -> -1 | AF12: =G12-H12 -> 2 | AG12: =K12-L12 -> 4 | AH12: =O12-P12 -> 2 | AI12: =S12-T12 -> 0 | AJ12: =W12-X12 -> 4 | AK12: =AA12-AB12 -> 0 | AM12: =(MAX($AE12:$AI12)-AE12)/2 -> 2.5 | AN12: =(MAX($AE12:$AI12)-AF12)/2 -> 1 | AO12: =(MAX($AE12:$AI12)-AG12)/2 -> 0 | AP12: =(MAX($AE12:$AI12)-AH12)/2 -> 1 | AQ12: =(MAX($AE12:$AI12)-AI12)/2 -> 2 | AY12: =IF(AO12=0,MIN(AM12:AN12,AP12:AQ12),0-AO12) -> 1
A13: 46117 | B13: 0 | C13: =C12+IF(ISBLANK(B13),0,IF(B13=0,1,IF(B13>0,B13,0))) -> 4 | D13: =D12+IF(ISBLANK(B13),0,IF(B13=0,1,IF(B13<0,-B13,0))) -> 5 | F13: 1 | G13: =G12+IF(ISBLANK(F13),0,IF(F13=0,1,IF(F13>0,F13,0))) -> 6 | H13: =H12+IF(ISBLANK(F13),0,IF(F13=0,1,IF(F13<0,-F13,0))) -> 3 | J13: 1 | K13: =K12+IF(ISBLANK(J13),0,IF(J13=0,1,IF(J13>0,J13,0))) -> 7 | L13: =L12+IF(ISBLANK(J13),0,IF(J13=0,1,IF(J13<0,-J13,0))) -> 2 | N13: 1 | O13: =O12+IF(ISBLANK(N13),0,IF(N13=0,1,IF(N13>0,N13,0))) -> 6 | P13: =P12+IF(ISBLANK(N13),0,IF(N13=0,1,IF(N13<0,-N13,0))) -> 3 | R13: 1 | S13: =S12+IF(ISBLANK(R13),0,IF(R13=0,1,IF(R13>0,R13,0))) -> 5 | T13: =T12+IF(ISBLANK(R13),0,IF(R13=0,1,IF(R13<0,-R13,0))) -> 4 | V13: 1 | W13: =W12+IF(ISBLANK(V13),0,IF(V13=0,1,IF(V13>0,V13,0))) -> 7 | X13: =X12+IF(ISBLANK(V13),0,IF(V13=0,1,IF(V13<0,-V13,0))) -> 2 | Z13: -1 | AA13: =AA12+IF(ISBLANK(Z13),0,IF(Z13=0,1,IF(Z13>0,Z13,0))) -> 4 | AB13: =AB12+IF(ISBLANK(Z13),0,IF(Z13=0,1,IF(Z13<0,-Z13,0))) -> 5 | AE13: =C13-D13 -> -1 | AF13: =G13-H13 -> 3 | AG13: =K13-L13 -> 5 | AH13: =O13-P13 -> 3 | AI13: =S13-T13 -> 1 | AJ13: =W13-X13 -> 5 | AK13: =AA13-AB13 -> -1 | AM13: =(MAX($AE13:$AI13)-AE13)/2 -> 3 | AN13: =(MAX($AE13:$AI13)-AF13)/2 -> 1 | AO13: =(MAX($AE13:$AI13)-AG13)/2 -> 0 | AP13: =(MAX($AE13:$AI13)-AH13)/2 -> 1 | AQ13: =(MAX($AE13:$AI13)-AI13)/2 -> 2 | AY13: =IF(AO13=0,MIN(AM13:AN13,AP13:AQ13),0-AO13) -> 1
A14: 46118 | B14: -1 | C14: =C13+IF(ISBLANK(B14),0,IF(B14=0,1,IF(B14>0,B14,0))) -> 4 | D14: =D13+IF(ISBLANK(B14),0,IF(B14=0,1,IF(B14<0,-B14,0))) -> 6 | F14: 1 | G14: =G13+IF(ISBLANK(F14),0,IF(F14=0,1,IF(F14>0,F14,0))) -> 7 | H14: =H13+IF(ISBLANK(F14),0,IF(F14=0,1,IF(F14<0,-F14,0))) -> 3 | J14: 1 | K14: =K13+IF(ISBLANK(J14),0,IF(J14=0,1,IF(J14>0,J14,0))) -> 8 | L14: =L13+IF(ISBLANK(J14),0,IF(J14=0,1,IF(J14<0,-J14,0))) -> 2 | N14: -1 | O14: =O13+IF(ISBLANK(N14),0,IF(N14=0,1,IF(N14>0,N14,0))) -> 6 | P14: =P13+IF(ISBLANK(N14),0,IF(N14=0,1,IF(N14<0,-N14,0))) -> 4 | R14: -1 | S14: =S13+IF(ISBLANK(R14),0,IF(R14=0,1,IF(R14>0,R14,0))) -> 5 | T14: =T13+IF(ISBLANK(R14),0,IF(R14=0,1,IF(R14<0,-R14,0))) -> 5 | V14: 1 | W14: =W13+IF(ISBLANK(V14),0,IF(V14=0,1,IF(V14>0,V14,0))) -> 8 | X14: =X13+IF(ISBLANK(V14),0,IF(V14=0,1,IF(V14<0,-V14,0))) -> 2 | Z14: 1 | AA14: =AA13+IF(ISBLANK(Z14),0,IF(Z14=0,1,IF(Z14>0,Z14,0))) -> 5 | AB14: =AB13+IF(ISBLANK(Z14),0,IF(Z14=0,1,IF(Z14<0,-Z14,0))) -> 5 | AE14: =C14-D14 -> -2 | AF14: =G14-H14 -> 4 | AG14: =K14-L14 -> 6 | AH14: =O14-P14 -> 2 | AI14: =S14-T14 -> 0 | AJ14: =W14-X14 -> 6 | AK14: =AA14-AB14 -> 0 | AM14: =(MAX($AE14:$AI14)-AE14)/2 -> 4 | AN14: =(MAX($AE14:$AI14)-AF14)/2 -> 1 | AO14: =(MAX($AE14:$AI14)-AG14)/2 -> 0 | AP14: =(MAX($AE14:$AI14)-AH14)/2 -> 2 | AQ14: =(MAX($AE14:$AI14)-AI14)/2 -> 3 | AY14: =IF(AO14=0,MIN(AM14:AN14,AP14:AQ14),0-AO14) -> 1
A15: 46119 | B15: 1 | C15: =C14+IF(ISBLANK(B15),0,IF(B15=0,1,IF(B15>0,B15,0))) -> 5 | D15: =D14+IF(ISBLANK(B15),0,IF(B15=0,1,IF(B15<0,-B15,0))) -> 6 | F15: 1 | G15: =G14+IF(ISBLANK(F15),0,IF(F15=0,1,IF(F15>0,F15,0))) -> 8 | H15: =H14+IF(ISBLANK(F15),0,IF(F15=0,1,IF(F15<0,-F15,0))) -> 3 | J15: -1 | K15: =K14+IF(ISBLANK(J15),0,IF(J15=0,1,IF(J15>0,J15,0))) -> 8 | L15: =L14+IF(ISBLANK(J15),0,IF(J15=0,1,IF(J15<0,-J15,0))) -> 3 | N15: 1 | O15: =O14+IF(ISBLANK(N15),0,IF(N15=0,1,IF(N15>0,N15,0))) -> 7 | P15: =P14+IF(ISBLANK(N15),0,IF(N15=0,1,IF(N15<0,-N15,0))) -> 4 | R15: 1 | S15: =S14+IF(ISBLANK(R15),0,IF(R15=0,1,IF(R15>0,R15,0))) -> 6 | T15: =T14+IF(ISBLANK(R15),0,IF(R15=0,1,IF(R15<0,-R15,0))) -> 5 | V15: 1 | W15: =W14+IF(ISBLANK(V15),0,IF(V15=0,1,IF(V15>0,V15,0))) -> 9 | X15: =X14+IF(ISBLANK(V15),0,IF(V15=0,1,IF(V15<0,-V15,0))) -> 2 | AA15: =AA14+IF(ISBLANK(Z15),0,IF(Z15=0,1,IF(Z15>0,Z15,0))) -> 5 | AB15: =AB14+IF(ISBLANK(Z15),0,IF(Z15=0,1,IF(Z15<0,-Z15,0))) -> 5 | AE15: =C15-D15 -> -1 | AF15: =G15-H15 -> 5 | AG15: =K15-L15 -> 5 | AH15: =O15-P15 -> 3 | AI15: =S15-T15 -> 1 | AJ15: =W15-X15 -> 7 | AK15: =AA15-AB15 -> 0 | AM15: =(MAX($AE15:$AI15)-AE15)/2 -> 3 | AN15: =(MAX($AE15:$AI15)-AF15)/2 -> 0 | AO15: =(MAX($AE15:$AI15)-AG15)/2 -> 0 | AP15: =(MAX($AE15:$AI15)-AH15)/2 -> 1 | AQ15: =(MAX($AE15:$AI15)-AI15)/2 -> 2 | AY15: =IF(AO15=0,MIN(AM15:AN15,AP15:AQ15),0-AO15) -> 0
A16: 46120 | B16: 1 | C16: =C15+IF(ISBLANK(B16),0,IF(B16=0,1,IF(B16>0,B16,0))) -> 6 | D16: =D15+IF(ISBLANK(B16),0,IF(B16=0,1,IF(B16<0,-B16,0))) -> 6 | F16: -1 | G16: =G15+IF(ISBLANK(F16),0,IF(F16=0,1,IF(F16>0,F16,0))) -> 8 | H16: =H15+IF(ISBLANK(F16),0,IF(F16=0,1,IF(F16<0,-F16,0))) -> 4 | J16: -1 | K16: =K15+IF(ISBLANK(J16),0,IF(J16=0,1,IF(J16>0,J16,0))) -> 8 | L16: =L15+IF(ISBLANK(J16),0,IF(J16=0,1,IF(J16<0,-J16,0))) -> 4 | N16: -1 | O16: =O15+IF(ISBLANK(N16),0,IF(N16=0,1,IF(N16>0,N16,0))) -> 7 | P16: =P15+IF(ISBLANK(N16),0,IF(N16=0,1,IF(N16<0,-N16,0))) -> 5 | R16: 1 | S16: =S15+IF(ISBLANK(R16),0,IF(R16=0,1,IF(R16>0,R16,0))) -> 7 | T16: =T15+IF(ISBLANK(R16),0,IF(R16=0,1,IF(R16<0,-R16,0))) -> 5 | V16: -1 | W16: =W15+IF(ISBLANK(V16),0,IF(V16=0,1,IF(V16>0,V16,0))) -> 9 | X16: =X15+IF(ISBLANK(V16),0,IF(V16=0,1,IF(V16<0,-V16,0))) -> 3 | Z16: 1 | AA16: =AA15+IF(ISBLANK(Z16),0,IF(Z16=0,1,IF(Z16>0,Z16,0))) -> 6 | AB16: =AB15+IF(ISBLANK(Z16),0,IF(Z16=0,1,IF(Z16<0,-Z16,0))) -> 5 | AE16: =C16-D16 -> 0 | AF16: =G16-H16 -> 4 | AG16: =K16-L16 -> 4 | AH16: =O16-P16 -> 2 | AI16: =S16-T16 -> 2 | AJ16: =W16-X16 -> 6 | AK16: =AA16-AB16 -> 1 | AM16: =(MAX($AE16:$AI16)-AE16)/2 -> 2 | AN16: =(MAX($AE16:$AI16)-AF16)/2 -> 0 | AO16: =(MAX($AE16:$AI16)-AG16)/2 -> 0 | AP16: =(MAX($AE16:$AI16)-AH16)/2 -> 1 | AQ16: =(MAX($AE16:$AI16)-AI16)/2 -> 1 | AY16: =IF(AO16=0,MIN(AM16:AN16,AP16:AQ16),0-AO16) -> 0
A17: 46121 | C17: =C16+IF(ISBLANK(B17),0,IF(B17=0,1,IF(B17>0,B17,0))) -> 6 | D17: =D16+IF(ISBLANK(B17),0,IF(B17=0,1,IF(B17<0,-B17,0))) -> 6 | F17: -1 | G17: =G16+IF(ISBLANK(F17),0,IF(F17=0,1,IF(F17>0,F17,0))) -> 8 | H17: =H16+IF(ISBLANK(F17),0,IF(F17=0,1,IF(F17<0,-F17,0))) -> 5 | K17: =K16+IF(ISBLANK(J17),0,IF(J17=0,1,IF(J17>0,J17,0))) -> 8 | L17: =L16+IF(ISBLANK(J17),0,IF(J17=0,1,IF(J17<0,-J17,0))) -> 4 | O17: =O16+IF(ISBLANK(N17),0,IF(N17=0,1,IF(N17>0,N17,0))) -> 7 | P17: =P16+IF(ISBLANK(N17),0,IF(N17=0,1,IF(N17<0,-N17,0))) -> 5 | S17: =S16+IF(ISBLANK(R17),0,IF(R17=0,1,IF(R17>0,R17,0))) -> 7 | T17: =T16+IF(ISBLANK(R17),0,IF(R17=0,1,IF(R17<0,-R17,0))) -> 5 | W17: =W16+IF(ISBLANK(V17),0,IF(V17=0,1,IF(V17>0,V17,0))) -> 9 | X17: =X16+IF(ISBLANK(V17),0,IF(V17=0,1,IF(V17<0,-V17,0))) -> 3 | Z17: 1 | AA17: =AA16+IF(ISBLANK(Z17),0,IF(Z17=0,1,IF(Z17>0,Z17,0))) -> 7 | AB17: =AB16+IF(ISBLANK(Z17),0,IF(Z17=0,1,IF(Z17<0,-Z17,0))) -> 5 | AE17: =C17-D17 -> 0 | AF17: =G17-H17 -> 3 | AG17: =K17-L17 -> 4 | AH17: =O17-P17 -> 2 | AI17: =S17-T17 -> 2 | AJ17: =W17-X17 -> 6 | AK17: =AA17-AB17 -> 2 | AM17: =(MAX($AE17:$AI17)-AE17)/2 -> 2 | AN17: =(MAX($AE17:$AI17)-AF17)/2 -> 0.5 | AO17: =(MAX($AE17:$AI17)-AG17)/2 -> 0 | AP17: =(MAX($AE17:$AI17)-AH17)/2 -> 1 | AQ17: =(MAX($AE17:$AI17)-AI17)/2 -> 1 | AY17: =IF(AO17=0,MIN(AM17:AN17,AP17:AQ17),0-AO17) -> 0.5
A18: 46122 | B18: -1 | C18: =C17+IF(ISBLANK(B18),0,IF(B18=0,1,IF(B18>0,B18,0))) -> 6 | D18: =D17+IF(ISBLANK(B18),0,IF(B18=0,1,IF(B18<0,-B18,0))) -> 7 | F18: -1 | G18: =G17+IF(ISBLANK(F18),0,IF(F18=0,1,IF(F18>0,F18,0))) -> 8 | H18: =H17+IF(ISBLANK(F18),0,IF(F18=0,1,IF(F18<0,-F18,0))) -> 6 | J18: -1 | K18: =K17+IF(ISBLANK(J18),0,IF(J18=0,1,IF(J18>0,J18,0))) -> 8 | L18: =L17+IF(ISBLANK(J18),0,IF(J18=0,1,IF(J18<0,-J18,0))) -> 5 | N18: 1 | O18: =O17+IF(ISBLANK(N18),0,IF(N18=0,1,IF(N18>0,N18,0))) -> 8 | P18: =P17+IF(ISBLANK(N18),0,IF(N18=0,1,IF(N18<0,-N18,0))) -> 5 | R18: 1 | S18: =S17+IF(ISBLANK(R18),0,IF(R18=0,1,IF(R18>0,R18,0))) -> 8 | T18: =T17+IF(ISBLANK(R18),0,IF(R18=0,1,IF(R18<0,-R18,0))) -> 5 | V18: 1 | W18: =W17+IF(ISBLANK(V18),0,IF(V18=0,1,IF(V18>0,V18,0))) -> 10 | X18: =X17+IF(ISBLANK(V18),0,IF(V18=0,1,IF(V18<0,-V18,0))) -> 3 | Z18: -1 | AA18: =AA17+IF(ISBLANK(Z18),0,IF(Z18=0,1,IF(Z18>0,Z18,0))) -> 7 | AB18: =AB17+IF(ISBLANK(Z18),0,IF(Z18=0,1,IF(Z18<0,-Z18,0))) -> 6 | AE18: =C18-D18 -> -1 | AF18: =G18-H18 -> 2 | AG18: =K18-L18 -> 3 | AH18: =O18-P18 -> 3 | AI18: =S18-T18 -> 3 | AJ18: =W18-X18 -> 7 | AK18: =AA18-AB18 -> 1 | AM18: =(MAX($AE18:$AI18)-AE18)/2 -> 2 | AN18: =(MAX($AE18:$AI18)-AF18)/2 -> 0.5 | AO18: =(MAX($AE18:$AI18)-AG18)/2 -> 0 | AP18: =(MAX($AE18:$AI18)-AH18)/2 -> 0 | AQ18: =(MAX($AE18:$AI18)-AI18)/2 -> 0 | AY18: =IF(AO18=0,MIN(AM18:AN18,AP18:AQ18),0-AO18) -> 0
A19: 46123 | B19: -1 | C19: =C18+IF(ISBLANK(B19),0,IF(B19=0,1,IF(B19>0,B19,0))) -> 6 | D19: =D18+IF(ISBLANK(B19),0,IF(B19=0,1,IF(B19<0,-B19,0))) -> 8 | F19: 1 | G19: =G18+IF(ISBLANK(F19),0,IF(F19=0,1,IF(F19>0,F19,0))) -> 9 | H19: =H18+IF(ISBLANK(F19),0,IF(F19=0,1,IF(F19<0,-F19,0))) -> 6 | J19: -1 | K19: =K18+IF(ISBLANK(J19),0,IF(J19=0,1,IF(J19>0,J19,0))) -> 8 | L19: =L18+IF(ISBLANK(J19),0,IF(J19=0,1,IF(J19<0,-J19,0))) -> 6 | N19: 1 | O19: =O18+IF(ISBLANK(N19),0,IF(N19=0,1,IF(N19>0,N19,0))) -> 9 | P19: =P18+IF(ISBLANK(N19),0,IF(N19=0,1,IF(N19<0,-N19,0))) -> 5 | R19: -1 | S19: =S18+IF(ISBLANK(R19),0,IF(R19=0,1,IF(R19>0,R19,0))) -> 8 | T19: =T18+IF(ISBLANK(R19),0,IF(R19=0,1,IF(R19<0,-R19,0))) -> 6 | V19: 1 | W19: =W18+IF(ISBLANK(V19),0,IF(V19=0,1,IF(V19>0,V19,0))) -> 11 | X19: =X18+IF(ISBLANK(V19),0,IF(V19=0,1,IF(V19<0,-V19,0))) -> 3 | Z19: 1 | AA19: =AA18+IF(ISBLANK(Z19),0,IF(Z19=0,1,IF(Z19>0,Z19,0))) -> 8 | AB19: =AB18+IF(ISBLANK(Z19),0,IF(Z19=0,1,IF(Z19<0,-Z19,0))) -> 6 | AE19: =C19-D19 -> -2 | AF19: =G19-H19 -> 3 | AG19: =K19-L19 -> 2 | AH19: =O19-P19 -> 4 | AI19: =S19-T19 -> 2 | AJ19: =W19-X19 -> 8 | AK19: =AA19-AB19 -> 2 | AM19: =(MAX($AE19:$AI19)-AE19)/2 -> 3 | AN19: =(MAX($AE19:$AI19)-AF19)/2 -> 0.5 | AO19: =(MAX($AE19:$AI19)-AG19)/2 -> 1 | AP19: =(MAX($AE19:$AI19)-AH19)/2 -> 0 | AQ19: =(MAX($AE19:$AI19)-AI19)/2 -> 1 | AY19: =IF(AO19=0,MIN(AM19:AN19,AP19:AQ19),0-AO19) -> -1
A20: 46124 | B20: 1 | C20: =C19+IF(ISBLANK(B20),0,IF(B20=0,1,IF(B20>0,B20,0))) -> 7 | D20: =D19+IF(ISBLANK(B20),0,IF(B20=0,1,IF(B20<0,-B20,0))) -> 8 | F20: -1 | G20: =G19+IF(ISBLANK(F20),0,IF(F20=0,1,IF(F20>0,F20,0))) -> 9 | H20: =H19+IF(ISBLANK(F20),0,IF(F20=0,1,IF(F20<0,-F20,0))) -> 7 | J20: -1 | K20: =K19+IF(ISBLANK(J20),0,IF(J20=0,1,IF(J20>0,J20,0))) -> 8 | L20: =L19+IF(ISBLANK(J20),0,IF(J20=0,1,IF(J20<0,-J20,0))) -> 7 | N20: -1 | O20: =O19+IF(ISBLANK(N20),0,IF(N20=0,1,IF(N20>0,N20,0))) -> 9 | P20: =P19+IF(ISBLANK(N20),0,IF(N20=0,1,IF(N20<0,-N20,0))) -> 6 | R20: -1 | S20: =S19+IF(ISBLANK(R20),0,IF(R20=0,1,IF(R20>0,R20,0))) -> 8 | T20: =T19+IF(ISBLANK(R20),0,IF(R20=0,1,IF(R20<0,-R20,0))) -> 7 | V20: -1 | W20: =W19+IF(ISBLANK(V20),0,IF(V20=0,1,IF(V20>0,V20,0))) -> 11 | X20: =X19+IF(ISBLANK(V20),0,IF(V20=0,1,IF(V20<0,-V20,0))) -> 4 | Z20: -1 | AA20: =AA19+IF(ISBLANK(Z20),0,IF(Z20=0,1,IF(Z20>0,Z20,0))) -> 8 | AB20: =AB19+IF(ISBLANK(Z20),0,IF(Z20=0,1,IF(Z20<0,-Z20,0))) -> 7 | AE20: =C20-D20 -> -1 | AF20: =G20-H20 -> 2 | AG20: =K20-L20 -> 1 | AH20: =O20-P20 -> 3 | AI20: =S20-T20 -> 1 | AJ20: =W20-X20 -> 7 | AK20: =AA20-AB20 -> 1 | AM20: =(MAX($AE20:$AI20)-AE20)/2 -> 2 | AN20: =(MAX($AE20:$AI20)-AF20)/2 -> 0.5 | AO20: =(MAX($AE20:$AI20)-AG20)/2 -> 1 | AP20: =(MAX($AE20:$AI20)-AH20)/2 -> 0 | AQ20: =(MAX($AE20:$AI20)-AI20)/2 -> 1 | AY20: =IF(AO20=0,MIN(AM20:AN20,AP20:AQ20),0-AO20) -> -1
A21: 46125 | B21: -1 | C21: =C20+IF(ISBLANK(B21),0,IF(B21=0,1,IF(B21>0,B21,0))) -> 7 | D21: =D20+IF(ISBLANK(B21),0,IF(B21=0,1,IF(B21<0,-B21,0))) -> 9 | G21: =G20+IF(ISBLANK(F21),0,IF(F21=0,1,IF(F21>0,F21,0))) -> 9 | H21: =H20+IF(ISBLANK(F21),0,IF(F21=0,1,IF(F21<0,-F21,0))) -> 7 | K21: =K20+IF(ISBLANK(J21),0,IF(J21=0,1,IF(J21>0,J21,0))) -> 8 | L21: =L20+IF(ISBLANK(J21),0,IF(J21=0,1,IF(J21<0,-J21,0))) -> 7 | N21: 1 | O21: =O20+IF(ISBLANK(N21),0,IF(N21=0,1,IF(N21>0,N21,0))) -> 10 | P21: =P20+IF(ISBLANK(N21),0,IF(N21=0,1,IF(N21<0,-N21,0))) -> 6 | R21: -1 | S21: =S20+IF(ISBLANK(R21),0,IF(R21=0,1,IF(R21>0,R21,0))) -> 8 | T21: =T20+IF(ISBLANK(R21),0,IF(R21=0,1,IF(R21<0,-R21,0))) -> 8 | V21: 1 | W21: =W20+IF(ISBLANK(V21),0,IF(V21=0,1,IF(V21>0,V21,0))) -> 12 | X21: =X20+IF(ISBLANK(V21),0,IF(V21=0,1,IF(V21<0,-V21,0))) -> 4 | Z21: -1 | AA21: =AA20+IF(ISBLANK(Z21),0,IF(Z21=0,1,IF(Z21>0,Z21,0))) -> 8 | AB21: =AB20+IF(ISBLANK(Z21),0,IF(Z21=0,1,IF(Z21<0,-Z21,0))) -> 8 | AE21: =C21-D21 -> -2 | AF21: =G21-H21 -> 2 | AG21: =K21-L21 -> 1 | AH21: =O21-P21 -> 4 | AI21: =S21-T21 -> 0 | AJ21: =W21-X21 -> 8 | AK21: =AA21-AB21 -> 0 | AM21: =(MAX($AE21:$AI21)-AE21)/2 -> 3 | AN21: =(MAX($AE21:$AI21)-AF21)/2 -> 1 | AO21: =(MAX($AE21:$AI21)-AG21)/2 -> 1.5 | AP21: =(MAX($AE21:$AI21)-AH21)/2 -> 0 | AQ21: =(MAX($AE21:$AI21)-AI21)/2 -> 2 | AY21: =IF(AO21=0,MIN(AM21:AN21,AP21:AQ21),0-AO21) -> -1.5
A22: 46126 | B22: 1 | C22: =C21+IF(ISBLANK(B22),0,IF(B22=0,1,IF(B22>0,B22,0))) -> 8 | D22: =D21+IF(ISBLANK(B22),0,IF(B22=0,1,IF(B22<0,-B22,0))) -> 9 | F22: 1 | G22: =G21+IF(ISBLANK(F22),0,IF(F22=0,1,IF(F22>0,F22,0))) -> 10 | H22: =H21+IF(ISBLANK(F22),0,IF(F22=0,1,IF(F22<0,-F22,0))) -> 7 | J22: -1 | K22: =K21+IF(ISBLANK(J22),0,IF(J22=0,1,IF(J22>0,J22,0))) -> 8 | L22: =L21+IF(ISBLANK(J22),0,IF(J22=0,1,IF(J22<0,-J22,0))) -> 8 | N22: -1 | O22: =O21+IF(ISBLANK(N22),0,IF(N22=0,1,IF(N22>0,N22,0))) -> 10 | P22: =P21+IF(ISBLANK(N22),0,IF(N22=0,1,IF(N22<0,-N22,0))) -> 7 | R22: 1 | S22: =S21+IF(ISBLANK(R22),0,IF(R22=0,1,IF(R22>0,R22,0))) -> 9 | T22: =T21+IF(ISBLANK(R22),0,IF(R22=0,1,IF(R22<0,-R22,0))) -> 8 | V22: 1 | W22: =W21+IF(ISBLANK(V22),0,IF(V22=0,1,IF(V22>0,V22,0))) -> 13 | X22: =X21+IF(ISBLANK(V22),0,IF(V22=0,1,IF(V22<0,-V22,0))) -> 4 | Z22: -1 | AA22: =AA21+IF(ISBLANK(Z22),0,IF(Z22=0,1,IF(Z22>0,Z22,0))) -> 8 | AB22: =AB21+IF(ISBLANK(Z22),0,IF(Z22=0,1,IF(Z22<0,-Z22,0))) -> 9 | AE22: =C22-D22 -> -1 | AF22: =G22-H22 -> 3 | AG22: =K22-L22 -> 0 | AH22: =O22-P22 -> 3 | AI22: =S22-T22 -> 1 | AJ22: =W22-X22 -> 9 | AK22: =AA22-AB22 -> -1 | AM22: =(MAX($AE22:$AI22)-AE22)/2 -> 2 | AN22: =(MAX($AE22:$AI22)-AF22)/2 -> 0 | AO22: =(MAX($AE22:$AI22)-AG22)/2 -> 1.5 | AP22: =(MAX($AE22:$AI22)-AH22)/2 -> 0 | AQ22: =(MAX($AE22:$AI22)-AI22)/2 -> 1 | AY22: =IF(AO22=0,MIN(AM22:AN22,AP22:AQ22),0-AO22) -> -1.5
A23: 46127 | B23: 1 | C23: =C22+IF(ISBLANK(B23),0,IF(B23=0,1,IF(B23>0,B23,0))) -> 9 | D23: =D22+IF(ISBLANK(B23),0,IF(B23=0,1,IF(B23<0,-B23,0))) -> 9 | F23: 1 | G23: =G22+IF(ISBLANK(F23),0,IF(F23=0,1,IF(F23>0,F23,0))) -> 11 | H23: =H22+IF(ISBLANK(F23),0,IF(F23=0,1,IF(F23<0,-F23,0))) -> 7 | J23: 1 | K23: =K22+IF(ISBLANK(J23),0,IF(J23=0,1,IF(J23>0,J23,0))) -> 9 | L23: =L22+IF(ISBLANK(J23),0,IF(J23=0,1,IF(J23<0,-J23,0))) -> 8 | N23: 1 | O23: =O22+IF(ISBLANK(N23),0,IF(N23=0,1,IF(N23>0,N23,0))) -> 11 | P23: =P22+IF(ISBLANK(N23),0,IF(N23=0,1,IF(N23<0,-N23,0))) -> 7 | R23: 1 | S23: =S22+IF(ISBLANK(R23),0,IF(R23=0,1,IF(R23>0,R23,0))) -> 10 | T23: =T22+IF(ISBLANK(R23),0,IF(R23=0,1,IF(R23<0,-R23,0))) -> 8 | V23: 1 | W23: =W22+IF(ISBLANK(V23),0,IF(V23=0,1,IF(V23>0,V23,0))) -> 14 | X23: =X22+IF(ISBLANK(V23),0,IF(V23=0,1,IF(V23<0,-V23,0))) -> 4 | Z23: 1 | AA23: =AA22+IF(ISBLANK(Z23),0,IF(Z23=0,1,IF(Z23>0,Z23,0))) -> 9 | AB23: =AB22+IF(ISBLANK(Z23),0,IF(Z23=0,1,IF(Z23<0,-Z23,0))) -> 9 | AE23: =C23-D23 -> 0 | AF23: =G23-H23 -> 4 | AG23: =K23-L23 -> 1 | AH23: =O23-P23 -> 4 | AI23: =S23-T23 -> 2 | AJ23: =W23-X23 -> 10 | AK23: =AA23-AB23 -> 0 | AM23: =(MAX($AE23:$AI23)-AE23)/2 -> 2 | AN23: =(MAX($AE23:$AI23)-AF23)/2 -> 0 | AO23: =(MAX($AE23:$AI23)-AG23)/2 -> 1.5 | AP23: =(MAX($AE23:$AI23)-AH23)/2 -> 0 | AQ23: =(MAX($AE23:$AI23)-AI23)/2 -> 1 | AY23: =IF(AO23=0,MIN(AM23:AN23,AP23:AQ23),0-AO23) -> -1.5
A24: 46128 | C24: =C23+IF(ISBLANK(B24),0,IF(B24=0,1,IF(B24>0,B24,0))) -> 9 | D24: =D23+IF(ISBLANK(B24),0,IF(B24=0,1,IF(B24<0,-B24,0))) -> 9 | F24: -1 | G24: =G23+IF(ISBLANK(F24),0,IF(F24=0,1,IF(F24>0,F24,0))) -> 11 | H24: =H23+IF(ISBLANK(F24),0,IF(F24=0,1,IF(F24<0,-F24,0))) -> 8 | J24: 1 | K24: =K23+IF(ISBLANK(J24),0,IF(J24=0,1,IF(J24>0,J24,0))) -> 10 | L24: =L23+IF(ISBLANK(J24),0,IF(J24=0,1,IF(J24<0,-J24,0))) -> 8 | N24: -1 | O24: =O23+IF(ISBLANK(N24),0,IF(N24=0,1,IF(N24>0,N24,0))) -> 11 | P24: =P23+IF(ISBLANK(N24),0,IF(N24=0,1,IF(N24<0,-N24,0))) -> 8 | S24: =S23+IF(ISBLANK(R24),0,IF(R24=0,1,IF(R24>0,R24,0))) -> 10 | T24: =T23+IF(ISBLANK(R24),0,IF(R24=0,1,IF(R24<0,-R24,0))) -> 8 | W24: =W23+IF(ISBLANK(V24),0,IF(V24=0,1,IF(V24>0,V24,0))) -> 14 | X24: =X23+IF(ISBLANK(V24),0,IF(V24=0,1,IF(V24<0,-V24,0))) -> 4 | Z24: 1 | AA24: =AA23+IF(ISBLANK(Z24),0,IF(Z24=0,1,IF(Z24>0,Z24,0))) -> 10 | AB24: =AB23+IF(ISBLANK(Z24),0,IF(Z24=0,1,IF(Z24<0,-Z24,0))) -> 9 | AE24: =C24-D24 -> 0 | AF24: =G24-H24 -> 3 | AG24: =K24-L24 -> 2 | AH24: =O24-P24 -> 3 | AI24: =S24-T24 -> 2 | AJ24: =W24-X24 -> 10 | AK24: =AA24-AB24 -> 1 | AM24: =(MAX($AE24:$AI24)-AE24)/2 -> 1.5 | AN24: =(MAX($AE24:$AI24)-AF24)/2 -> 0 | AO24: =(MAX($AE24:$AI24)-AG24)/2 -> 0.5 | AP24: =(MAX($AE24:$AI24)-AH24)/2 -> 0 | AQ24: =(MAX($AE24:$AI24)-AI24)/2 -> 0.5 | AY24: =IF(AO24=0,MIN(AM24:AN24,AP24:AQ24),0-AO24) -> -0.5
A25: 46129 | B25: 1 | C25: =C24+IF(ISBLANK(B25),0,IF(B25=0,1,IF(B25>0,B25,0))) -> 10 | D25: =D24+IF(ISBLANK(B25),0,IF(B25=0,1,IF(B25<0,-B25,0))) -> 9 | F25: 1 | G25: =G24+IF(ISBLANK(F25),0,IF(F25=0,1,IF(F25>0,F25,0))) -> 12 | H25: =H24+IF(ISBLANK(F25),0,IF(F25=0,1,IF(F25<0,-F25,0))) -> 8 | J25: 1 | K25: =K24+IF(ISBLANK(J25),0,IF(J25=0,1,IF(J25>0,J25,0))) -> 11 | L25: =L24+IF(ISBLANK(J25),0,IF(J25=0,1,IF(J25<0,-J25,0))) -> 8 | N25: 1 | O25: =O24+IF(ISBLANK(N25),0,IF(N25=0,1,IF(N25>0,N25,0))) -> 12 | P25: =P24+IF(ISBLANK(N25),0,IF(N25=0,1,IF(N25<0,-N25,0))) -> 8 | R25: 1 | S25: =S24+IF(ISBLANK(R25),0,IF(R25=0,1,IF(R25>0,R25,0))) -> 11 | T25: =T24+IF(ISBLANK(R25),0,IF(R25=0,1,IF(R25<0,-R25,0))) -> 8 | V25: 1 | W25: =W24+IF(ISBLANK(V25),0,IF(V25=0,1,IF(V25>0,V25,0))) -> 15 | X25: =X24+IF(ISBLANK(V25),0,IF(V25=0,1,IF(V25<0,-V25,0))) -> 4 | AA25: =AA24+IF(ISBLANK(Z25),0,IF(Z25=0,1,IF(Z25>0,Z25,0))) -> 10 | AB25: =AB24+IF(ISBLANK(Z25),0,IF(Z25=0,1,IF(Z25<0,-Z25,0))) -> 9 | AE25: =C25-D25 -> 1 | AF25: =G25-H25 -> 4 | AG25: =K25-L25 -> 3 | AH25: =O25-P25 -> 4 | AI25: =S25-T25 -> 3 | AJ25: =W25-X25 -> 11 | AK25: =AA25-AB25 -> 1 | AM25: =(MAX($AE25:$AI25)-AE25)/2 -> 1.5 | AN25: =(MAX($AE25:$AI25)-AF25)/2 -> 0 | AO25: =(MAX($AE25:$AI25)-AG25)/2 -> 0.5 | AP25: =(MAX($AE25:$AI25)-AH25)/2 -> 0 | AQ25: =(MAX($AE25:$AI25)-AI25)/2 -> 0.5 | AY25: =IF(AO25=0,MIN(AM25:AN25,AP25:AQ25),0-AO25) -> -0.5
A26: 46130 | B26: 1 | C26: =C25+IF(ISBLANK(B26),0,IF(B26=0,1,IF(B26>0,B26,0))) -> 11 | D26: =D25+IF(ISBLANK(B26),0,IF(B26=0,1,IF(B26<0,-B26,0))) -> 9 | F26: 1 | G26: =G25+IF(ISBLANK(F26),0,IF(F26=0,1,IF(F26>0,F26,0))) -> 13 | H26: =H25+IF(ISBLANK(F26),0,IF(F26=0,1,IF(F26<0,-F26,0))) -> 8 | J26: 1 | K26: =K25+IF(ISBLANK(J26),0,IF(J26=0,1,IF(J26>0,J26,0))) -> 12 | L26: =L25+IF(ISBLANK(J26),0,IF(J26=0,1,IF(J26<0,-J26,0))) -> 8 | N26: -1 | O26: =O25+IF(ISBLANK(N26),0,IF(N26=0,1,IF(N26>0,N26,0))) -> 12 | P26: =P25+IF(ISBLANK(N26),0,IF(N26=0,1,IF(N26<0,-N26,0))) -> 9 | R26: 1 | S26: =S25+IF(ISBLANK(R26),0,IF(R26=0,1,IF(R26>0,R26,0))) -> 12 | T26: =T25+IF(ISBLANK(R26),0,IF(R26=0,1,IF(R26<0,-R26,0))) -> 8 | V26: -1 | W26: =W25+IF(ISBLANK(V26),0,IF(V26=0,1,IF(V26>0,V26,0))) -> 15 | X26: =X25+IF(ISBLANK(V26),0,IF(V26=0,1,IF(V26<0,-V26,0))) -> 5 | Z26: 1 | AA26: =AA25+IF(ISBLANK(Z26),0,IF(Z26=0,1,IF(Z26>0,Z26,0))) -> 11 | AB26: =AB25+IF(ISBLANK(Z26),0,IF(Z26=0,1,IF(Z26<0,-Z26,0))) -> 9 | AE26: =C26-D26 -> 2 | AF26: =G26-H26 -> 5 | AG26: =K26-L26 -> 4 | AH26: =O26-P26 -> 3 | AI26: =S26-T26 -> 4 | AJ26: =W26-X26 -> 10 | AK26: =AA26-AB26 -> 2 | AM26: =(MAX($AE26:$AI26)-AE26)/2 -> 1.5 | AN26: =(MAX($AE26:$AI26)-AF26)/2 -> 0 | AO26: =(MAX($AE26:$AI26)-AG26)/2 -> 0.5 | AP26: =(MAX($AE26:$AI26)-AH26)/2 -> 1 | AQ26: =(MAX($AE26:$AI26)-AI26)/2 -> 0.5 | AY26: =IF(AO26=0,MIN(AM26:AN26,AP26:AQ26),0-AO26) -> -0.5
A27: 46131 | B27: 1 | C27: =C26+IF(ISBLANK(B27),0,IF(B27=0,1,IF(B27>0,B27,0))) -> 12 | D27: =D26+IF(ISBLANK(B27),0,IF(B27=0,1,IF(B27<0,-B27,0))) -> 9 | F27: 1 | G27: =G26+IF(ISBLANK(F27),0,IF(F27=0,1,IF(F27>0,F27,0))) -> 14 | H27: =H26+IF(ISBLANK(F27),0,IF(F27=0,1,IF(F27<0,-F27,0))) -> 8 | J27: -1 | K27: =K26+IF(ISBLANK(J27),0,IF(J27=0,1,IF(J27>0,J27,0))) -> 12 | L27: =L26+IF(ISBLANK(J27),0,IF(J27=0,1,IF(J27<0,-J27,0))) -> 9 | N27: 1 | O27: =O26+IF(ISBLANK(N27),0,IF(N27=0,1,IF(N27>0,N27,0))) -> 13 | P27: =P26+IF(ISBLANK(N27),0,IF(N27=0,1,IF(N27<0,-N27,0))) -> 9 | R27: 1 | S27: =S26+IF(ISBLANK(R27),0,IF(R27=0,1,IF(R27>0,R27,0))) -> 13 | T27: =T26+IF(ISBLANK(R27),0,IF(R27=0,1,IF(R27<0,-R27,0))) -> 8 | V27: -1 | W27: =W26+IF(ISBLANK(V27),0,IF(V27=0,1,IF(V27>0,V27,0))) -> 15 | X27: =X26+IF(ISBLANK(V27),0,IF(V27=0,1,IF(V27<0,-V27,0))) -> 6 | Z27: -1 | AA27: =AA26+IF(ISBLANK(Z27),0,IF(Z27=0,1,IF(Z27>0,Z27,0))) -> 11 | AB27: =AB26+IF(ISBLANK(Z27),0,IF(Z27=0,1,IF(Z27<0,-Z27,0))) -> 10 | AE27: =C27-D27 -> 3 | AF27: =G27-H27 -> 6 | AG27: =K27-L27 -> 3 | AH27: =O27-P27 -> 4 | AI27: =S27-T27 -> 5 | AJ27: =W27-X27 -> 9 | AK27: =AA27-AB27 -> 1 | AM27: =(MAX($AE27:$AI27)-AE27)/2 -> 1.5 | AN27: =(MAX($AE27:$AI27)-AF27)/2 -> 0 | AO27: =(MAX($AE27:$AI27)-AG27)/2 -> 1.5 | AP27: =(MAX($AE27:$AI27)-AH27)/2 -> 1 | AQ27: =(MAX($AE27:$AI27)-AI27)/2 -> 0.5 | AY27: =IF(AO27=0,MIN(AM27:AN27,AP27:AQ27),0-AO27) -> -1.5
A28: 46132 | B28: 1 | C28: =C27+IF(ISBLANK(B28),0,IF(B28=0,1,IF(B28>0,B28,0))) -> 13 | D28: =D27+IF(ISBLANK(B28),0,IF(B28=0,1,IF(B28<0,-B28,0))) -> 9 | F28: 1 | G28: =G27+IF(ISBLANK(F28),0,IF(F28=0,1,IF(F28>0,F28,0))) -> 15 | H28: =H27+IF(ISBLANK(F28),0,IF(F28=0,1,IF(F28<0,-F28,0))) -> 8 | K28: =K27+IF(ISBLANK(J28),0,IF(J28=0,1,IF(J28>0,J28,0))) -> 12 | L28: =L27+IF(ISBLANK(J28),0,IF(J28=0,1,IF(J28<0,-J28,0))) -> 9 | O28: =O27+IF(ISBLANK(N28),0,IF(N28=0,1,IF(N28>0,N28,0))) -> 13 | P28: =P27+IF(ISBLANK(N28),0,IF(N28=0,1,IF(N28<0,-N28,0))) -> 9 | R28: -1 | S28: =S27+IF(ISBLANK(R28),0,IF(R28=0,1,IF(R28>0,R28,0))) -> 13 | T28: =T27+IF(ISBLANK(R28),0,IF(R28=0,1,IF(R28<0,-R28,0))) -> 9 | V28: 1 | W28: =W27+IF(ISBLANK(V28),0,IF(V28=0,1,IF(V28>0,V28,0))) -> 16 | X28: =X27+IF(ISBLANK(V28),0,IF(V28=0,1,IF(V28<0,-V28,0))) -> 6 | Z28: 1 | AA28: =AA27+IF(ISBLANK(Z28),0,IF(Z28=0,1,IF(Z28>0,Z28,0))) -> 12 | AB28: =AB27+IF(ISBLANK(Z28),0,IF(Z28=0,1,IF(Z28<0,-Z28,0))) -> 10 | AE28: =C28-D28 -> 4 | AF28: =G28-H28 -> 7 | AG28: =K28-L28 -> 3 | AH28: =O28-P28 -> 4 | AI28: =S28-T28 -> 4 | AJ28: =W28-X28 -> 10 | AK28: =AA28-AB28 -> 2 | AM28: =(MAX($AE28:$AI28)-AE28)/2 -> 1.5 | AN28: =(MAX($AE28:$AI28)-AF28)/2 -> 0 | AO28: =(MAX($AE28:$AI28)-AG28)/2 -> 2 | AP28: =(MAX($AE28:$AI28)-AH28)/2 -> 1.5 | AQ28: =(MAX($AE28:$AI28)-AI28)/2 -> 1.5 | AY28: =IF(AO28=0,MIN(AM28:AN28,AP28:AQ28),0-AO28) -> -2
A29: 46133 | B29: 1 | C29: =C28+IF(ISBLANK(B29),0,IF(B29=0,1,IF(B29>0,B29,0))) -> 14 | D29: =D28+IF(ISBLANK(B29),0,IF(B29=0,1,IF(B29<0,-B29,0))) -> 9 | F29: 1 | G29: =G28+IF(ISBLANK(F29),0,IF(F29=0,1,IF(F29>0,F29,0))) -> 16 | H29: =H28+IF(ISBLANK(F29),0,IF(F29=0,1,IF(F29<0,-F29,0))) -> 8 | J29: 1 | K29: =K28+IF(ISBLANK(J29),0,IF(J29=0,1,IF(J29>0,J29,0))) -> 13 | L29: =L28+IF(ISBLANK(J29),0,IF(J29=0,1,IF(J29<0,-J29,0))) -> 9 | N29: -1 | O29: =O28+IF(ISBLANK(N29),0,IF(N29=0,1,IF(N29>0,N29,0))) -> 13 | P29: =P28+IF(ISBLANK(N29),0,IF(N29=0,1,IF(N29<0,-N29,0))) -> 10 | R29: 1 | S29: =S28+IF(ISBLANK(R29),0,IF(R29=0,1,IF(R29>0,R29,0))) -> 14 | T29: =T28+IF(ISBLANK(R29),0,IF(R29=0,1,IF(R29<0,-R29,0))) -> 9 | V29: -1 | W29: =W28+IF(ISBLANK(V29),0,IF(V29=0,1,IF(V29>0,V29,0))) -> 16 | X29: =X28+IF(ISBLANK(V29),0,IF(V29=0,1,IF(V29<0,-V29,0))) -> 7 | Z29: -1 | AA29: =AA28+IF(ISBLANK(Z29),0,IF(Z29=0,1,IF(Z29>0,Z29,0))) -> 12 | AB29: =AB28+IF(ISBLANK(Z29),0,IF(Z29=0,1,IF(Z29<0,-Z29,0))) -> 11 | AE29: =C29-D29 -> 5 | AF29: =G29-H29 -> 8 | AG29: =K29-L29 -> 4 | AH29: =O29-P29 -> 3 | AI29: =S29-T29 -> 5 | AJ29: =W29-X29 -> 9 | AK29: =AA29-AB29 -> 1 | AM29: =(MAX($AE29:$AI29)-AE29)/2 -> 1.5 | AN29: =(MAX($AE29:$AI29)-AF29)/2 -> 0 | AO29: =(MAX($AE29:$AI29)-AG29)/2 -> 2 | AP29: =(MAX($AE29:$AI29)-AH29)/2 -> 2.5 | AQ29: =(MAX($AE29:$AI29)-AI29)/2 -> 1.5 | AY29: =IF(AO29=0,MIN(AM29:AN29,AP29:AQ29),0-AO29) -> -2
A30: 46134 | B30: 1 | C30: =C29+IF(ISBLANK(B30),0,IF(B30=0,1,IF(B30>0,B30,0))) -> 15 | D30: =D29+IF(ISBLANK(B30),0,IF(B30=0,1,IF(B30<0,-B30,0))) -> 9 | F30: -1 | G30: =G29+IF(ISBLANK(F30),0,IF(F30=0,1,IF(F30>0,F30,0))) -> 16 | H30: =H29+IF(ISBLANK(F30),0,IF(F30=0,1,IF(F30<0,-F30,0))) -> 9 | J30: -1 | K30: =K29+IF(ISBLANK(J30),0,IF(J30=0,1,IF(J30>0,J30,0))) -> 13 | L30: =L29+IF(ISBLANK(J30),0,IF(J30=0,1,IF(J30<0,-J30,0))) -> 10 | N30: 1 | O30: =O29+IF(ISBLANK(N30),0,IF(N30=0,1,IF(N30>0,N30,0))) -> 14 | P30: =P29+IF(ISBLANK(N30),0,IF(N30=0,1,IF(N30<0,-N30,0))) -> 10 | R30: -1 | S30: =S29+IF(ISBLANK(R30),0,IF(R30=0,1,IF(R30>0,R30,0))) -> 14 | T30: =T29+IF(ISBLANK(R30),0,IF(R30=0,1,IF(R30<0,-R30,0))) -> 10 | V30: -1 | W30: =W29+IF(ISBLANK(V30),0,IF(V30=0,1,IF(V30>0,V30,0))) -> 16 | X30: =X29+IF(ISBLANK(V30),0,IF(V30=0,1,IF(V30<0,-V30,0))) -> 8 | Z30: 1 | AA30: =AA29+IF(ISBLANK(Z30),0,IF(Z30=0,1,IF(Z30>0,Z30,0))) -> 13 | AB30: =AB29+IF(ISBLANK(Z30),0,IF(Z30=0,1,IF(Z30<0,-Z30,0))) -> 11 | AE30: =C30-D30 -> 6 | AF30: =G30-H30 -> 7 | AG30: =K30-L30 -> 3 | AH30: =O30-P30 -> 4 | AI30: =S30-T30 -> 4 | AJ30: =W30-X30 -> 8 | AK30: =AA30-AB30 -> 2 | AM30: =(MAX($AE30:$AI30)-AE30)/2 -> 0.5 | AN30: =(MAX($AE30:$AI30)-AF30)/2 -> 0 | AO30: =(MAX($AE30:$AI30)-AG30)/2 -> 2 | AP30: =(MAX($AE30:$AI30)-AH30)/2 -> 1.5 | AQ30: =(MAX($AE30:$AI30)-AI30)/2 -> 1.5 | AY30: =IF(AO30=0,MIN(AM30:AN30,AP30:AQ30),0-AO30) -> -2
A31: 46135 | B31: 1 | C31: =C30+IF(ISBLANK(B31),0,IF(B31=0,1,IF(B31>0,B31,0))) -> 16 | D31: =D30+IF(ISBLANK(B31),0,IF(B31=0,1,IF(B31<0,-B31,0))) -> 9 | G31: =G30+IF(ISBLANK(F31),0,IF(F31=0,1,IF(F31>0,F31,0))) -> 16 | H31: =H30+IF(ISBLANK(F31),0,IF(F31=0,1,IF(F31<0,-F31,0))) -> 9 | J31: -1 | K31: =K30+IF(ISBLANK(J31),0,IF(J31=0,1,IF(J31>0,J31,0))) -> 13 | L31: =L30+IF(ISBLANK(J31),0,IF(J31=0,1,IF(J31<0,-J31,0))) -> 11 | N31: -1 | O31: =O30+IF(ISBLANK(N31),0,IF(N31=0,1,IF(N31>0,N31,0))) -> 14 | P31: =P30+IF(ISBLANK(N31),0,IF(N31=0,1,IF(N31<0,-N31,0))) -> 11 | S31: =S30+IF(ISBLANK(R31),0,IF(R31=0,1,IF(R31>0,R31,0))) -> 14 | T31: =T30+IF(ISBLANK(R31),0,IF(R31=0,1,IF(R31<0,-R31,0))) -> 10 | V31: 1 | W31: =W30+IF(ISBLANK(V31),0,IF(V31=0,1,IF(V31>0,V31,0))) -> 17 | X31: =X30+IF(ISBLANK(V31),0,IF(V31=0,1,IF(V31<0,-V31,0))) -> 8 | Z31: -1 | AA31: =AA30+IF(ISBLANK(Z31),0,IF(Z31=0,1,IF(Z31>0,Z31,0))) -> 13 | AB31: =AB30+IF(ISBLANK(Z31),0,IF(Z31=0,1,IF(Z31<0,-Z31,0))) -> 12 | AE31: =C31-D31 -> 7 | AF31: =G31-H31 -> 7 | AG31: =K31-L31 -> 2 | AH31: =O31-P31 -> 3 | AI31: =S31-T31 -> 4 | AJ31: =W31-X31 -> 9 | AK31: =AA31-AB31 -> 1 | AM31: =(MAX($AE31:$AI31)-AE31)/2 -> 0 | AN31: =(MAX($AE31:$AI31)-AF31)/2 -> 0 | AO31: =(MAX($AE31:$AI31)-AG31)/2 -> 2.5 | AP31: =(MAX($AE31:$AI31)-AH31)/2 -> 2 | AQ31: =(MAX($AE31:$AI31)-AI31)/2 -> 1.5 | AY31: =IF(AO31=0,MIN(AM31:AN31,AP31:AQ31),0-AO31) -> -2.5
A32: 46136 | B32: 1 | C32: =C31+IF(ISBLANK(B32),0,IF(B32=0,1,IF(B32>0,B32,0))) -> 17 | D32: =D31+IF(ISBLANK(B32),0,IF(B32=0,1,IF(B32<0,-B32,0))) -> 9 | F32: 1 | G32: =G31+IF(ISBLANK(F32),0,IF(F32=0,1,IF(F32>0,F32,0))) -> 17 | H32: =H31+IF(ISBLANK(F32),0,IF(F32=0,1,IF(F32<0,-F32,0))) -> 9 | J32: -1 | K32: =K31+IF(ISBLANK(J32),0,IF(J32=0,1,IF(J32>0,J32,0))) -> 13 | L32: =L31+IF(ISBLANK(J32),0,IF(J32=0,1,IF(J32<0,-J32,0))) -> 12 | N32: 1 | O32: =O31+IF(ISBLANK(N32),0,IF(N32=0,1,IF(N32>0,N32,0))) -> 15 | P32: =P31+IF(ISBLANK(N32),0,IF(N32=0,1,IF(N32<0,-N32,0))) -> 11 | R32: -1 | S32: =S31+IF(ISBLANK(R32),0,IF(R32=0,1,IF(R32>0,R32,0))) -> 14 | T32: =T31+IF(ISBLANK(R32),0,IF(R32=0,1,IF(R32<0,-R32,0))) -> 11 | V32: -1 | W32: =W31+IF(ISBLANK(V32),0,IF(V32=0,1,IF(V32>0,V32,0))) -> 17 | X32: =X31+IF(ISBLANK(V32),0,IF(V32=0,1,IF(V32<0,-V32,0))) -> 9 | Z32: -1 | AA32: =AA31+IF(ISBLANK(Z32),0,IF(Z32=0,1,IF(Z32>0,Z32,0))) -> 13 | AB32: =AB31+IF(ISBLANK(Z32),0,IF(Z32=0,1,IF(Z32<0,-Z32,0))) -> 13 | AE32: =C32-D32 -> 8 | AF32: =G32-H32 -> 8 | AG32: =K32-L32 -> 1 | AH32: =O32-P32 -> 4 | AI32: =S32-T32 -> 3 | AJ32: =W32-X32 -> 8 | AK32: =AA32-AB32 -> 0 | AM32: =(MAX($AE32:$AI32)-AE32)/2 -> 0 | AN32: =(MAX($AE32:$AI32)-AF32)/2 -> 0 | AO32: =(MAX($AE32:$AI32)-AG32)/2 -> 3.5 | AP32: =(MAX($AE32:$AI32)-AH32)/2 -> 2 | AQ32: =(MAX($AE32:$AI32)-AI32)/2 -> 2.5 | AY32: =IF(AO32=0,MIN(AM32:AN32,AP32:AQ32),0-AO32) -> -3.5
A33: 46137 | B33: -1 | C33: =C32+IF(ISBLANK(B33),0,IF(B33=0,1,IF(B33>0,B33,0))) -> 17 | D33: =D32+IF(ISBLANK(B33),0,IF(B33=0,1,IF(B33<0,-B33,0))) -> 10 | F33: 1 | G33: =G32+IF(ISBLANK(F33),0,IF(F33=0,1,IF(F33>0,F33,0))) -> 18 | H33: =H32+IF(ISBLANK(F33),0,IF(F33=0,1,IF(F33<0,-F33,0))) -> 9 | J33: -1 | K33: =K32+IF(ISBLANK(J33),0,IF(J33=0,1,IF(J33>0,J33,0))) -> 13 | L33: =L32+IF(ISBLANK(J33),0,IF(J33=0,1,IF(J33<0,-J33,0))) -> 13 | N33: 1 | O33: =O32+IF(ISBLANK(N33),0,IF(N33=0,1,IF(N33>0,N33,0))) -> 16 | P33: =P32+IF(ISBLANK(N33),0,IF(N33=0,1,IF(N33<0,-N33,0))) -> 11 | R33: -1 | S33: =S32+IF(ISBLANK(R33),0,IF(R33=0,1,IF(R33>0,R33,0))) -> 14 | T33: =T32+IF(ISBLANK(R33),0,IF(R33=0,1,IF(R33<0,-R33,0))) -> 12 | V33: 1 | W33: =W32+IF(ISBLANK(V33),0,IF(V33=0,1,IF(V33>0,V33,0))) -> 18 | X33: =X32+IF(ISBLANK(V33),0,IF(V33=0,1,IF(V33<0,-V33,0))) -> 9 | Z33: -1 | AA33: =AA32+IF(ISBLANK(Z33),0,IF(Z33=0,1,IF(Z33>0,Z33,0))) -> 13 | AB33: =AB32+IF(ISBLANK(Z33),0,IF(Z33=0,1,IF(Z33<0,-Z33,0))) -> 14 | AE33: =C33-D33 -> 7 | AF33: =G33-H33 -> 9 | AG33: =K33-L33 -> 0 | AH33: =O33-P33 -> 5 | AI33: =S33-T33 -> 2 | AJ33: =W33-X33 -> 9 | AK33: =AA33-AB33 -> -1 | AM33: =(MAX($AE33:$AI33)-AE33)/2 -> 1 | AN33: =(MAX($AE33:$AI33)-AF33)/2 -> 0 | AO33: =(MAX($AE33:$AI33)-AG33)/2 -> 4.5 | AP33: =(MAX($AE33:$AI33)-AH33)/2 -> 2 | AQ33: =(MAX($AE33:$AI33)-AI33)/2 -> 3.5 | AY33: =IF(AO33=0,MIN(AM33:AN33,AP33:AQ33),0-AO33) -> -4.5
A34: 46138 | B34: -1 | C34: =C33+IF(ISBLANK(B34),0,IF(B34=0,1,IF(B34>0,B34,0))) -> 17 | D34: =D33+IF(ISBLANK(B34),0,IF(B34=0,1,IF(B34<0,-B34,0))) -> 11 | F34: -1 | G34: =G33+IF(ISBLANK(F34),0,IF(F34=0,1,IF(F34>0,F34,0))) -> 18 | H34: =H33+IF(ISBLANK(F34),0,IF(F34=0,1,IF(F34<0,-F34,0))) -> 10 | J34: 1 | K34: =K33+IF(ISBLANK(J34),0,IF(J34=0,1,IF(J34>0,J34,0))) -> 14 | L34: =L33+IF(ISBLANK(J34),0,IF(J34=0,1,IF(J34<0,-J34,0))) -> 13 | N34: -1 | O34: =O33+IF(ISBLANK(N34),0,IF(N34=0,1,IF(N34>0,N34,0))) -> 16 | P34: =P33+IF(ISBLANK(N34),0,IF(N34=0,1,IF(N34<0,-N34,0))) -> 12 | R34: -1 | S34: =S33+IF(ISBLANK(R34),0,IF(R34=0,1,IF(R34>0,R34,0))) -> 14 | T34: =T33+IF(ISBLANK(R34),0,IF(R34=0,1,IF(R34<0,-R34,0))) -> 13 | V34: 1 | W34: =W33+IF(ISBLANK(V34),0,IF(V34=0,1,IF(V34>0,V34,0))) -> 19 | X34: =X33+IF(ISBLANK(V34),0,IF(V34=0,1,IF(V34<0,-V34,0))) -> 9 | Z34: -1 | AA34: =AA33+IF(ISBLANK(Z34),0,IF(Z34=0,1,IF(Z34>0,Z34,0))) -> 13 | AB34: =AB33+IF(ISBLANK(Z34),0,IF(Z34=0,1,IF(Z34<0,-Z34,0))) -> 15 | AE34: =C34-D34 -> 6 | AF34: =G34-H34 -> 8 | AG34: =K34-L34 -> 1 | AH34: =O34-P34 -> 4 | AI34: =S34-T34 -> 1 | AJ34: =W34-X34 -> 10 | AK34: =AA34-AB34 -> -2 | AM34: =(MAX($AE34:$AI34)-AE34)/2 -> 1 | AN34: =(MAX($AE34:$AI34)-AF34)/2 -> 0 | AO34: =(MAX($AE34:$AI34)-AG34)/2 -> 3.5 | AP34: =(MAX($AE34:$AI34)-AH34)/2 -> 2 | AQ34: =(MAX($AE34:$AI34)-AI34)/2 -> 3.5 | AY34: =IF(AO34=0,MIN(AM34:AN34,AP34:AQ34),0-AO34) -> -3.5
A35: 46139 | B35: -1 | C35: =C34+IF(ISBLANK(B35),0,IF(B35=0,1,IF(B35>0,B35,0))) -> 17 | D35: =D34+IF(ISBLANK(B35),0,IF(B35=0,1,IF(B35<0,-B35,0))) -> 12 | G35: =G34+IF(ISBLANK(F35),0,IF(F35=0,1,IF(F35>0,F35,0))) -> 18 | H35: =H34+IF(ISBLANK(F35),0,IF(F35=0,1,IF(F35<0,-F35,0))) -> 10 | K35: =K34+IF(ISBLANK(J35),0,IF(J35=0,1,IF(J35>0,J35,0))) -> 14 | L35: =L34+IF(ISBLANK(J35),0,IF(J35=0,1,IF(J35<0,-J35,0))) -> 13 | N35: -1 | O35: =O34+IF(ISBLANK(N35),0,IF(N35=0,1,IF(N35>0,N35,0))) -> 16 | P35: =P34+IF(ISBLANK(N35),0,IF(N35=0,1,IF(N35<0,-N35,0))) -> 13 | R35: 1 | S35: =S34+IF(ISBLANK(R35),0,IF(R35=0,1,IF(R35>0,R35,0))) -> 15 | T35: =T34+IF(ISBLANK(R35),0,IF(R35=0,1,IF(R35<0,-R35,0))) -> 13 | V35: 1 | W35: =W34+IF(ISBLANK(V35),0,IF(V35=0,1,IF(V35>0,V35,0))) -> 20 | X35: =X34+IF(ISBLANK(V35),0,IF(V35=0,1,IF(V35<0,-V35,0))) -> 9 | Z35: 1 | AA35: =AA34+IF(ISBLANK(Z35),0,IF(Z35=0,1,IF(Z35>0,Z35,0))) -> 14 | AB35: =AB34+IF(ISBLANK(Z35),0,IF(Z35=0,1,IF(Z35<0,-Z35,0))) -> 15 | AE35: =C35-D35 -> 5 | AF35: =G35-H35 -> 8 | AG35: =K35-L35 -> 1 | AH35: =O35-P35 -> 3 | AI35: =S35-T35 -> 2 | AJ35: =W35-X35 -> 11 | AK35: =AA35-AB35 -> -1 | AM35: =(MAX($AE35:$AI35)-AE35)/2 -> 1.5 | AN35: =(MAX($AE35:$AI35)-AF35)/2 -> 0 | AO35: =(MAX($AE35:$AI35)-AG35)/2 -> 3.5 | AP35: =(MAX($AE35:$AI35)-AH35)/2 -> 2.5 | AQ35: =(MAX($AE35:$AI35)-AI35)/2 -> 3 | AY35: =IF(AO35=0,MIN(AM35:AN35,AP35:AQ35),0-AO35) -> -3.5
A36: 46140 | B36: 1 | C36: =C35+IF(ISBLANK(B36),0,IF(B36=0,1,IF(B36>0,B36,0))) -> 18 | D36: =D35+IF(ISBLANK(B36),0,IF(B36=0,1,IF(B36<0,-B36,0))) -> 12 | F36: 1 | G36: =G35+IF(ISBLANK(F36),0,IF(F36=0,1,IF(F36>0,F36,0))) -> 19 | H36: =H35+IF(ISBLANK(F36),0,IF(F36=0,1,IF(F36<0,-F36,0))) -> 10 | J36: 1 | K36: =K35+IF(ISBLANK(J36),0,IF(J36=0,1,IF(J36>0,J36,0))) -> 15 | L36: =L35+IF(ISBLANK(J36),0,IF(J36=0,1,IF(J36<0,-J36,0))) -> 13 | N36: -1 | O36: =O35+IF(ISBLANK(N36),0,IF(N36=0,1,IF(N36>0,N36,0))) -> 16 | P36: =P35+IF(ISBLANK(N36),0,IF(N36=0,1,IF(N36<0,-N36,0))) -> 14 | R36: 1 | S36: =S35+IF(ISBLANK(R36),0,IF(R36=0,1,IF(R36>0,R36,0))) -> 16 | T36: =T35+IF(ISBLANK(R36),0,IF(R36=0,1,IF(R36<0,-R36,0))) -> 13 | V36: -1 | W36: =W35+IF(ISBLANK(V36),0,IF(V36=0,1,IF(V36>0,V36,0))) -> 20 | X36: =X35+IF(ISBLANK(V36),0,IF(V36=0,1,IF(V36<0,-V36,0))) -> 10 | AA36: =AA35+IF(ISBLANK(Z36),0,IF(Z36=0,1,IF(Z36>0,Z36,0))) -> 14 | AB36: =AB35+IF(ISBLANK(Z36),0,IF(Z36=0,1,IF(Z36<0,-Z36,0))) -> 15 | AE36: =C36-D36 -> 6 | AF36: =G36-H36 -> 9 | AG36: =K36-L36 -> 2 | AH36: =O36-P36 -> 2 | AI36: =S36-T36 -> 3 | AJ36: =W36-X36 -> 10 | AK36: =AA36-AB36 -> -1 | AM36: =(MAX($AE36:$AI36)-AE36)/2 -> 1.5 | AN36: =(MAX($AE36:$AI36)-AF36)/2 -> 0 | AO36: =(MAX($AE36:$AI36)-AG36)/2 -> 3.5 | AP36: =(MAX($AE36:$AI36)-AH36)/2 -> 3.5 | AQ36: =(MAX($AE36:$AI36)-AI36)/2 -> 3 | AY36: =IF(AO36=0,MIN(AM36:AN36,AP36:AQ36),0-AO36) -> -3.5
A37: 46141 | B37: 1 | C37: =C36+IF(ISBLANK(B37),0,IF(B37=0,1,IF(B37>0,B37,0))) -> 19 | D37: =D36+IF(ISBLANK(B37),0,IF(B37=0,1,IF(B37<0,-B37,0))) -> 12 | F37: -1 | G37: =G36+IF(ISBLANK(F37),0,IF(F37=0,1,IF(F37>0,F37,0))) -> 19 | H37: =H36+IF(ISBLANK(F37),0,IF(F37=0,1,IF(F37<0,-F37,0))) -> 11 | J37: -1 | K37: =K36+IF(ISBLANK(J37),0,IF(J37=0,1,IF(J37>0,J37,0))) -> 15 | L37: =L36+IF(ISBLANK(J37),0,IF(J37=0,1,IF(J37<0,-J37,0))) -> 14 | N37: -1 | O37: =O36+IF(ISBLANK(N37),0,IF(N37=0,1,IF(N37>0,N37,0))) -> 16 | P37: =P36+IF(ISBLANK(N37),0,IF(N37=0,1,IF(N37<0,-N37,0))) -> 15 | R37: 1 | S37: =S36+IF(ISBLANK(R37),0,IF(R37=0,1,IF(R37>0,R37,0))) -> 17 | T37: =T36+IF(ISBLANK(R37),0,IF(R37=0,1,IF(R37<0,-R37,0))) -> 13 | V37: -1 | W37: =W36+IF(ISBLANK(V37),0,IF(V37=0,1,IF(V37>0,V37,0))) -> 20 | X37: =X36+IF(ISBLANK(V37),0,IF(V37=0,1,IF(V37<0,-V37,0))) -> 11 | Z37: 1 | AA37: =AA36+IF(ISBLANK(Z37),0,IF(Z37=0,1,IF(Z37>0,Z37,0))) -> 15 | AB37: =AB36+IF(ISBLANK(Z37),0,IF(Z37=0,1,IF(Z37<0,-Z37,0))) -> 15 | AE37: =C37-D37 -> 7 | AF37: =G37-H37 -> 8 | AG37: =K37-L37 -> 1 | AH37: =O37-P37 -> 1 | AI37: =S37-T37 -> 4 | AJ37: =W37-X37 -> 9 | AK37: =AA37-AB37 -> 0 | AM37: =(MAX($AE37:$AI37)-AE37)/2 -> 0.5 | AN37: =(MAX($AE37:$AI37)-AF37)/2 -> 0 | AO37: =(MAX($AE37:$AI37)-AG37)/2 -> 3.5 | AP37: =(MAX($AE37:$AI37)-AH37)/2 -> 3.5 | AQ37: =(MAX($AE37:$AI37)-AI37)/2 -> 2 | AY37: =IF(AO37=0,MIN(AM37:AN37,AP37:AQ37),0-AO37) -> -3.5
A38: 46142 | C38: =C37+IF(ISBLANK(B38),0,IF(B38=0,1,IF(B38>0,B38,0))) -> 19 | D38: =D37+IF(ISBLANK(B38),0,IF(B38=0,1,IF(B38<0,-B38,0))) -> 12 | F38: 1 | G38: =G37+IF(ISBLANK(F38),0,IF(F38=0,1,IF(F38>0,F38,0))) -> 20 | H38: =H37+IF(ISBLANK(F38),0,IF(F38=0,1,IF(F38<0,-F38,0))) -> 11 | J38: 1 | K38: =K37+IF(ISBLANK(J38),0,IF(J38=0,1,IF(J38>0,J38,0))) -> 16 | L38: =L37+IF(ISBLANK(J38),0,IF(J38=0,1,IF(J38<0,-J38,0))) -> 14 | N38: -1 | O38: =O37+IF(ISBLANK(N38),0,IF(N38=0,1,IF(N38>0,N38,0))) -> 16 | P38: =P37+IF(ISBLANK(N38),0,IF(N38=0,1,IF(N38<0,-N38,0))) -> 16 | R38: 1 | S38: =S37+IF(ISBLANK(R38),0,IF(R38=0,1,IF(R38>0,R38,0))) -> 18 | T38: =T37+IF(ISBLANK(R38),0,IF(R38=0,1,IF(R38<0,-R38,0))) -> 13 | W38: =W37+IF(ISBLANK(V38),0,IF(V38=0,1,IF(V38>0,V38,0))) -> 20 | X38: =X37+IF(ISBLANK(V38),0,IF(V38=0,1,IF(V38<0,-V38,0))) -> 11 | Z38: 1 | AA38: =AA37+IF(ISBLANK(Z38),0,IF(Z38=0,1,IF(Z38>0,Z38,0))) -> 16 | AB38: =AB37+IF(ISBLANK(Z38),0,IF(Z38=0,1,IF(Z38<0,-Z38,0))) -> 15 | AE38: =C38-D38 -> 7 | AF38: =G38-H38 -> 9 | AG38: =K38-L38 -> 2 | AH38: =O38-P38 -> 0 | AI38: =S38-T38 -> 5 | AJ38: =W38-X38 -> 9 | AK38: =AA38-AB38 -> 1 | AM38: =(MAX($AE38:$AI38)-AE38)/2 -> 1 | AN38: =(MAX($AE38:$AI38)-AF38)/2 -> 0 | AO38: =(MAX($AE38:$AI38)-AG38)/2 -> 3.5 | AP38: =(MAX($AE38:$AI38)-AH38)/2 -> 4.5 | AQ38: =(MAX($AE38:$AI38)-AI38)/2 -> 2 | AY38: =IF(AO38=0,MIN(AM38:AN38,AP38:AQ38),0-AO38) -> -3.5
A39: 46143 | B39: 1 | C39: =C38+IF(ISBLANK(B39),0,IF(B39=0,1,IF(B39>0,B39,0))) -> 20 | D39: =D38+IF(ISBLANK(B39),0,IF(B39=0,1,IF(B39<0,-B39,0))) -> 12 | F39: -1 | G39: =G38+IF(ISBLANK(F39),0,IF(F39=0,1,IF(F39>0,F39,0))) -> 20 | H39: =H38+IF(ISBLANK(F39),0,IF(F39=0,1,IF(F39<0,-F39,0))) -> 12 | J39: 1 | K39: =K38+IF(ISBLANK(J39),0,IF(J39=0,1,IF(J39>0,J39,0))) -> 17 | L39: =L38+IF(ISBLANK(J39),0,IF(J39=0,1,IF(J39<0,-J39,0))) -> 14 | N39: 1 | O39: =O38+IF(ISBLANK(N39),0,IF(N39=0,1,IF(N39>0,N39,0))) -> 17 | P39: =P38+IF(ISBLANK(N39),0,IF(N39=0,1,IF(N39<0,-N39,0))) -> 16 | R39: 1 | S39: =S38+IF(ISBLANK(R39),0,IF(R39=0,1,IF(R39>0,R39,0))) -> 19 | T39: =T38+IF(ISBLANK(R39),0,IF(R39=0,1,IF(R39<0,-R39,0))) -> 13 | V39: -1 | W39: =W38+IF(ISBLANK(V39),0,IF(V39=0,1,IF(V39>0,V39,0))) -> 20 | X39: =X38+IF(ISBLANK(V39),0,IF(V39=0,1,IF(V39<0,-V39,0))) -> 12 | Z39: -1 | AA39: =AA38+IF(ISBLANK(Z39),0,IF(Z39=0,1,IF(Z39>0,Z39,0))) -> 16 | AB39: =AB38+IF(ISBLANK(Z39),0,IF(Z39=0,1,IF(Z39<0,-Z39,0))) -> 16 | AE39: =C39-D39 -> 8 | AF39: =G39-H39 -> 8 | AG39: =K39-L39 -> 3 | AH39: =O39-P39 -> 1 | AI39: =S39-T39 -> 6 | AJ39: =W39-X39 -> 8 | AK39: =AA39-AB39 -> 0 | AM39: =(MAX($AE39:$AI39)-AE39)/2 -> 0 | AN39: =(MAX($AE39:$AI39)-AF39)/2 -> 0 | AO39: =(MAX($AE39:$AI39)-AG39)/2 -> 2.5 | AP39: =(MAX($AE39:$AI39)-AH39)/2 -> 3.5 | AQ39: =(MAX($AE39:$AI39)-AI39)/2 -> 1 | AY39: =IF(AO39=0,MIN(AM39:AN39,AP39:AQ39),0-AO39) -> -2.5
A40: 46144 | B40: 1 | C40: =C39+IF(ISBLANK(B40),0,IF(B40=0,1,IF(B40>0,B40,0))) -> 21 | D40: =D39+IF(ISBLANK(B40),0,IF(B40=0,1,IF(B40<0,-B40,0))) -> 12 | F40: -1 | G40: =G39+IF(ISBLANK(F40),0,IF(F40=0,1,IF(F40>0,F40,0))) -> 20 | H40: =H39+IF(ISBLANK(F40),0,IF(F40=0,1,IF(F40<0,-F40,0))) -> 13 | J40: 1 | K40: =K39+IF(ISBLANK(J40),0,IF(J40=0,1,IF(J40>0,J40,0))) -> 18 | L40: =L39+IF(ISBLANK(J40),0,IF(J40=0,1,IF(J40<0,-J40,0))) -> 14 | N40: 1 | O40: =O39+IF(ISBLANK(N40),0,IF(N40=0,1,IF(N40>0,N40,0))) -> 18 | P40: =P39+IF(ISBLANK(N40),0,IF(N40=0,1,IF(N40<0,-N40,0))) -> 16 | R40: 1 | S40: =S39+IF(ISBLANK(R40),0,IF(R40=0,1,IF(R40>0,R40,0))) -> 20 | T40: =T39+IF(ISBLANK(R40),0,IF(R40=0,1,IF(R40<0,-R40,0))) -> 13 | V40: -1 | W40: =W39+IF(ISBLANK(V40),0,IF(V40=0,1,IF(V40>0,V40,0))) -> 20 | X40: =X39+IF(ISBLANK(V40),0,IF(V40=0,1,IF(V40<0,-V40,0))) -> 13 | Z40: -1 | AA40: =AA39+IF(ISBLANK(Z40),0,IF(Z40=0,1,IF(Z40>0,Z40,0))) -> 16 | AB40: =AB39+IF(ISBLANK(Z40),0,IF(Z40=0,1,IF(Z40<0,-Z40,0))) -> 17 | AE40: =C40-D40 -> 9 | AF40: =G40-H40 -> 7 | AG40: =K40-L40 -> 4 | AH40: =O40-P40 -> 2 | AI40: =S40-T40 -> 7 | AJ40: =W40-X40 -> 7 | AK40: =AA40-AB40 -> -1 | AM40: =(MAX($AE40:$AI40)-AE40)/2 -> 0 | AN40: =(MAX($AE40:$AI40)-AF40)/2 -> 1 | AO40: =(MAX($AE40:$AI40)-AG40)/2 -> 2.5 | AP40: =(MAX($AE40:$AI40)-AH40)/2 -> 3.5 | AQ40: =(MAX($AE40:$AI40)-AI40)/2 -> 1 | AY40: =IF(AO40=0,MIN(AM40:AN40,AP40:AQ40),0-AO40) -> -2.5
...
